BEGIN:VCALENDAR
VERSION:2.0
PRODID:-//TFMK - ECPv6.15.20//NONSGML v1.0//EN
CALSCALE:GREGORIAN
METHOD:PUBLISH
X-ORIGINAL-URL:https://www.tfmk.com
X-WR-CALDESC:Tapahtumat TFMK
REFRESH-INTERVAL;VALUE=DURATION:PT1H
X-Robots-Tag:noindex
X-PUBLISHED-TTL:PT1H
BEGIN:VTIMEZONE
TZID:Europe/Helsinki
BEGIN:DAYLIGHT
TZOFFSETFROM:+0200
TZOFFSETTO:+0300
TZNAME:EEST
DTSTART:20210328T010000
END:DAYLIGHT
BEGIN:STANDARD
TZOFFSETFROM:+0300
TZOFFSETTO:+0200
TZNAME:EET
DTSTART:20211031T010000
END:STANDARD
BEGIN:DAYLIGHT
TZOFFSETFROM:+0200
TZOFFSETTO:+0300
TZNAME:EEST
DTSTART:20220327T010000
END:DAYLIGHT
BEGIN:STANDARD
TZOFFSETFROM:+0300
TZOFFSETTO:+0200
TZNAME:EET
DTSTART:20221030T010000
END:STANDARD
BEGIN:DAYLIGHT
TZOFFSETFROM:+0200
TZOFFSETTO:+0300
TZNAME:EEST
DTSTART:20230326T010000
END:DAYLIGHT
BEGIN:STANDARD
TZOFFSETFROM:+0300
TZOFFSETTO:+0200
TZNAME:EET
DTSTART:20231029T010000
END:STANDARD
BEGIN:DAYLIGHT
TZOFFSETFROM:+0200
TZOFFSETTO:+0300
TZNAME:EEST
DTSTART:20240331T010000
END:DAYLIGHT
BEGIN:STANDARD
TZOFFSETFROM:+0300
TZOFFSETTO:+0200
TZNAME:EET
DTSTART:20241027T010000
END:STANDARD
END:VTIMEZONE
BEGIN:VEVENT
DTSTART;TZID=Europe/Helsinki:20230610T090000
DTEND;TZID=Europe/Helsinki:20230610T180000
DTSTAMP:20260426T023505
CREATED:20230425T114302Z
LAST-MODIFIED:20230602T175415Z
UID:10000685-1686387600-1686420000@www.tfmk.com
SUMMARY:ES-alue: Kimppa-ajo Mobilia automuseo\, Kangasala
DESCRIPTION:Tervetuloa mukaan kimppa-ajoon Kangasalle Mobilia-automuseoon\, Kustaa Kolmannen tie 75\, Kangasala. Kokoontumis- ja lähtöpaikkana Vanha Unkka Hyrylä\, Hämeentie 18\, 04300 Tuusula. Unkalta lähdetään klo 9.Ilmoitathan mukanaolostasi lounasvarausta varten.Ilmoittautuminen ja lisätiedustelut simo.zitting@tfmk.com tai es-alue@tfmk.comVoit myös ilmoittautua kerhon sivuilla\, Kiitos!PS. Uutiskirjeeseen oli lipsahtanut virheellinen lounaan hinta\, se on 14 € (eläkeläiset 13\,50 €).
URL:https://www.tfmk.com/tapahtuma/es-alue-kimppa-ajo-mobilia-automuseo-kangasala/
ATTACH;FMTTYPE=image/jpeg:https://www.tfmk.com/wp-content/uploads/2023/04/20181027-_automuseo-1.jpg
END:VEVENT
BEGIN:VEVENT
DTSTART;TZID=Europe/Helsinki:20230610T080000
DTEND;TZID=Europe/Helsinki:20230610T170000
DTSTAMP:20260426T023505
CREATED:20230528T112915Z
LAST-MODIFIED:20230528T112917Z
UID:10000696-1686384000-1686416400@www.tfmk.com
SUMMARY:PS-aluetoiminta: Suvannon kylä
DESCRIPTION:Pyhä-Luoston luontokeskus Naava (Luontotie 1\, 98530 Pyhätunturi) – Suvannon lossi ja kylä – Andy McCoyn patsas (Pelkosenniemi) – Ametistikylpylä (Luosto).Lähtö Rovaniemeltä Metsäkeskus Pilkkeen edestä\, Ounasjoentie 6.HUOM! Ennakkoilmoittautuminen!Lisätiedot ja ilmoittautuminen johanna.ikavalko@tfmk.com(Huom. säävaraus!)
URL:https://www.tfmk.com/tapahtuma/ps-aluetoiminta-suvannon-kyla/
ATTACH;FMTTYPE=image/jpeg:https://www.tfmk.com/wp-content/uploads/2023/02/TFMK_logo_ymp_4v-e1702977208440.jpg
END:VEVENT
BEGIN:VEVENT
DTSTART;TZID=Europe/Helsinki:20230607T173000
DTEND;TZID=Europe/Helsinki:20230607T200000
DTSTAMP:20260426T023505
CREATED:20230504T081643Z
LAST-MODIFIED:20230606T134024Z
UID:10000686-1686159000-1686168000@www.tfmk.com
SUMMARY:PS-alue: Ravintola Mäkipeura
DESCRIPTION:Nyt on syytä juhlaan\, sillä keskiviikkona 7.6. Johanna täyttää jälleen 25 vuotta!  \n\n\n\nJuhlan kunniaksi kerho tarjoaa lettukahvit ravintola Mäkipeurassa (Nelostie 3079B\, Tervola) n. klo 18.30-19.30. Rovaniemeltä yhteislähtö Tiedekeskus Pilkkeen edestä (Ounasjoentie 6) klo 17.30. \n\n\n\nNähdään siis sankoin joukoin keskiviikkona! Erillistä ilmoittautumista ei tarvita – riittää\, kun saavut paikalle! \n\n\n\nParhain terveisin\, \n\n\n\nJohanna
URL:https://www.tfmk.com/tapahtuma/ps-alue-ilta-ajo-sataman-krouvi/
ATTACH;FMTTYPE=image/jpeg:https://www.tfmk.com/wp-content/uploads/2023/05/satamankrouvi.jpg
END:VEVENT
BEGIN:VEVENT
DTSTART;TZID=Europe/Helsinki:20230603T100000
DTEND;TZID=Europe/Helsinki:20230604T120000
DTSTAMP:20260426T023505
CREATED:20230112T071324Z
LAST-MODIFIED:20230602T175647Z
UID:10000369-1685786400-1685880000@www.tfmk.com
SUMMARY:ES- ja LS-aluetoiminta: Saariston Rengastie
DESCRIPTION:Aluetoiminta järjestää kimppa-ajon Saariston Rengastielle. Rengastielle startataan Kustavin Heponiemestä. Lautta lähtee klo 11.45. \n\n\n\nLauantai-iltaa vietetään yhdessä Nauvossa. Majoitus on varattu Strandbo-hotellista. Majoitus 2hh  124 eur/vrk/huone ja 1hh 96 eur/vrk. Molemmat hinnat sisältävät aamiaisen.  \n\n\n\nIllallinen nautitaan samaisen hotellin ravintolassa\, hinta tarkentuu myöhemmin. \n\n\n\nIlmoittautuminen 30.4. mennessä  https://core.flomembers.com/touring-finlandia/events/register/2b44928ae11fb9384c4cf38708677c48
URL:https://www.tfmk.com/tapahtuma/es-ja-ls-aluetoiminta-saariston-rengastie/
ATTACH;FMTTYPE=image/jpeg:https://www.tfmk.com/wp-content/uploads/2023/01/nauvon-majoitus.jpg
END:VEVENT
BEGIN:VEVENT
DTSTART;TZID=Europe/Helsinki:20230527T160000
DTEND;TZID=Europe/Helsinki:20230528T120000
DTSTAMP:20260426T023505
CREATED:20230419T055425Z
LAST-MODIFIED:20230419T055835Z
UID:10000670-1685203200-1685275200@www.tfmk.com
SUMMARY:PS-alue: Ajokauden aloitus\, Kieringin lomakeskus
DESCRIPTION:Viime vuoden tapaan kokoonnumme Kierinkiin\, jossa meitä odottaa loistoseura\, sauna ja kolmen ruokalajin illallinen. \n\n\n\nLähtö Napapiirin Shelliltä (Sodankyläntie 715\, 96930 Rovaniemi) lauantaina 27.5. klo 16.00. Itsekseen ajaville / muualta tuleville ottakaa suunnaksi Kieringin lomakylä\, Tuirantie 4\, 97390 Kierinki.  \n\n\n\nMajoituksen hinta on 122 €  / 2 hh (61 €/hlö)\, singlehuone 89 € / 1 hh.Kolmen ruokalajin illallinen 34 € / hlö.Runsas buffetaamiainen ja sauna sisältyvät huonehintaan! \n\n\n\nSitovat ilmoittautumiset sähköpostilla Johannalle (johanna.ikavalko@tfmk.com) viimeistään 13.5.  \n\n\n\nHUOM! Kieringistä lähtiessäsi voit sunnuntaina osallistua MP69 offroad-harjoitteluun. Lisätiedot ja ilmoittautumiset jarmo.iivari@mp69.fi tai 0400-693568.
URL:https://www.tfmk.com/tapahtuma/ps-alue-ajokauden-aloitus-kieringin-lomakeskus-2/
ATTACH;FMTTYPE=image/jpeg:https://www.tfmk.com/wp-content/uploads/2023/04/kierinki.jpg
END:VEVENT
BEGIN:VEVENT
DTSTART;TZID=Europe/Helsinki:20230527T120000
DTEND;TZID=Europe/Helsinki:20230527T180000
DTSTAMP:20260426T023505
CREATED:20230416T110920Z
LAST-MODIFIED:20230517T151651Z
UID:10000669-1685188800-1685210400@www.tfmk.com
SUMMARY:LS-alue: Kimppa-ajo Enkelipuisto\, Pöytyä
DESCRIPTION:Tervetuloa mukaan Länsi-Suomen alueen kauden ensimmäiseen kimppa-ajoon. Kohteena on Pöytyän Riihikoskella sijaitseva Enkelipuisto. Puisto on Kyösti Iitin kaivamansa metsälammen reunoille perustama patsaspuisto. Patsaat on tehty metallista. \n\n\n\nLähtö ABC Lahdesjärvi klo 12.00. \n\n\n\nSaapuminen Virttaalle ravintola Siilinpesään klo 13.30\, siellä omakustanteinen lounas/ kahvitauko (buffet lounas tarjolla). \n\n\n\nLähtö Siilinpesältä kohti Enkelipuistoa n. klo 14.15. \n\n\n\nSaapuminen Enkelipuistoon n.klo 15.00. \n\n\n\nEsittelyn jälkeen kukin jatkaa matkaansa omien reittiensä mukaisesti. \n\n\n\nABC Lahdesjärvi Tampere – Enkelipuisto Google Mapsissahttps://goo.gl/maps/nGHoHQVZbjPiw17QA \n\n\n\nIlmoittautumiset 23.5. mennessä —>  https://www.flomembers.com/touring-finlandia/events/register/3def184ad8f4755ff269862ea77393dd
URL:https://www.tfmk.com/tapahtuma/ls-alue-kimppa-ajo-enkelipuisto-poytya/
ATTACH;FMTTYPE=image/jpeg:https://www.tfmk.com/wp-content/uploads/2023/04/1-Kyosti-Iitti_Enkelipuisto_2019_Kuva-Raija-Kallioinen-scaled-1.jpg
END:VEVENT
BEGIN:VEVENT
DTSTART;TZID=Europe/Helsinki:20230526T173000
DTEND;TZID=Europe/Helsinki:20230528T170000
DTSTAMP:20260426T023505
CREATED:20230130T082711Z
LAST-MODIFIED:20230130T082713Z
UID:10000370-1685122200-1685293200@www.tfmk.com
SUMMARY:MPEAK 2023
DESCRIPTION:Touringin MP ennakoivan ajon koulutus järjestetään tuttuun tapaan tänäkin vuonna. Teoriaosuus on perjantai-iltana Pirtillä\, mahdollisuus osallistua myös etäyhteydellä. Ajoharjoitteluosuus on ryhmästä riippuen joko lauantaina tai sunnuntaina. Osallistujat jaetaan ryhmiin pyörätyypin mukaan\, myös naisille on mahdollista järjestää oma ryhmä.  \n\n\n\nAikataulu:pe 26.5.2023 klo 17.30-21.00 Teoriakoulutus Pirtillä\, Metsäpirtintie 1\, Espoo\, mahdollisuus myös osallistumiseen Teamsin välityksellä. Teoriaosuus ei ole välttämätön\, jos olet sen käynyt lähivuosina.  \n\n\n\nla 27.5.2023 klo 9.00-17.00 Ajoharjoittelut ryhmä 1\, Lavangon ajoharjoittelurata\, Myllykyläntie 1\, Vantaa \n\n\n\nsu 28.5.2023 klo 9.00-17.00 Ajoharjoittelu ryhmä 2\, Lavangon ajoharjoittelurata\, Myllykyläntie 1\, Vantaa \n\n\n\nHinta: kuljettaja 70 eur\, matkustaja 40 eur. Hintaan sisältyy kahvit teoriakoulutuksen yhteydessä sekä lounas ajoharjoittelupäivänä. Kurssille osallistuneet pääsevät lisäksi ohjattuun ajoharjoitteluun Ahveniston radalle torstaina 18.5.2023. Osallistuminen edellyttää TFMK:n jäsenyyttä. Jäsenmaksut: 30 eur jäsen\, 20 eur perhejäsen\, ei liittymismaksua.  \n\n\n\nLisätiedot niila.lehtivaara@tfmk.com. \n\n\n\nIlmoittautumiset https://core.flomembers.com/touring-finlandia/events/register/5ef059938ba799aaa845e1c2e8a762bd
URL:https://www.tfmk.com/tapahtuma/mpeak-2023/
ATTACH;FMTTYPE=image/jpeg:https://www.tfmk.com/wp-content/uploads/2020/12/MPEAK.jpg
END:VEVENT
BEGIN:VEVENT
DTSTART;TZID=Europe/Helsinki:20230525T173000
DTEND;TZID=Europe/Helsinki:20230525T210000
DTSTAMP:20260426T023505
CREATED:20230419T062636Z
LAST-MODIFIED:20230523T170949Z
UID:10000682-1685035800-1685048400@www.tfmk.com
SUMMARY:ES-alue: Ilta-ajo Hiidenveden grilli (huom! muuttunut kohde)
DESCRIPTION:Meillä oli tarkoitus avata aluetoiminnan kausi vierailulla Lättikseen.Nyt ovat pikimiehet suuressa viisaudessaan päättäneet tulla päällystämään kahvilan parkkialueen\, joten Cafe-Lättis on suljettu tämän viikon.Saimme tiedon tilanteesta hyvissä ajoin eli maanantai-iltana. \n\n\n\nEmme halua peruuttaa kauden avaavaa kimppaa\, vaan olemme valinneet vaihtoehtoiseksi kohteeksi \n\n\n\nHiidenveden Grillin\, Turuntie 922\, 09630 Koisjärvi. \n\n\n\nLähtöaika ja paikka säilyvät eli kokoontuminen klo 17.30 Vanhalle Unkalle\, Hämeentie 18\, Tuusula \n\n\n\nLisätietoja  \n\n\n\nES-alue@tfmk.com \n\n\n\najelun vetäjät Simo Zitting ja Mika Savolainen
URL:https://www.tfmk.com/tapahtuma/es-alue-ilta-ajo-lattis-pilpala/
ATTACH;FMTTYPE=image/jpeg:https://www.tfmk.com/wp-content/uploads/2023/04/lataus.jpg
END:VEVENT
BEGIN:VEVENT
DTSTART;TZID=Europe/Helsinki:20230518T110000
DTEND;TZID=Europe/Helsinki:20230518T180000
DTSTAMP:20260426T023505
CREATED:20230319T092646Z
LAST-MODIFIED:20230331T164521Z
UID:10000668-1684407600-1684432800@www.tfmk.com
SUMMARY:Ajoharjoittelu Ahveniston radalla
DESCRIPTION:Helatorstaina on mahdollisuus päästä ajamaan Ahveniston moottoriradalle. Osallistumismaksu on 50 eur ja tämä sisältää kevyen lounaan kahviossa. Osallistumismaksu laskutetaan etukäteen.  \n\n\n\nRadalle pääsy edellyttää melumittauksen läpäisemistä.  \n\n\n\nIlmoittaudu 7.5. mennessä alla olevasta linkistä \n\n\n\n https://www.flomembers.com/touring-finlandia/events/register/c8ffe9a587b126f152ed3d89a146b445
URL:https://www.tfmk.com/tapahtuma/ajoharjoittelu-ahveniston-radalla-2/
ATTACH;FMTTYPE=image/jpeg:https://www.tfmk.com/wp-content/uploads/2023/03/AHVENISTO.jpg
END:VEVENT
BEGIN:VEVENT
DTSTART;TZID=Europe/Helsinki:20230517T161500
DTEND;TZID=Europe/Helsinki:20230517T200000
DTSTAMP:20260426T023505
CREATED:20230419T060347Z
LAST-MODIFIED:20230419T060351Z
UID:10000671-1684340100-1684353600@www.tfmk.com
SUMMARY:PS-alue: Ilta-ajo\, Rieskapaikka
DESCRIPTION:Ilta-ajo Rieskapaikkaan (Nelostie 3312\, Koivu) keskiviikkona 17.5. \n\n\n\nRovaniemeltä lähtö Pilkkeen edestä (Ounasjoentie 6) klo 16.15. Kokoontuminen Rieskapaikassa klo 17-18\, josta paluu omin toimin tai yhdessä. Kerho tarjoaa kahvin/teen. Ilmoittautumisia ei tarvita\, riittää kun saavut paikalle!
URL:https://www.tfmk.com/tapahtuma/ps-alue-ilta-ajo-rieskapaikka/
ATTACH;FMTTYPE=image/jpeg:https://www.tfmk.com/wp-content/uploads/2023/04/rieskapaikka.jpg
END:VEVENT
BEGIN:VEVENT
DTSTART;TZID=Europe/Helsinki:20230513T060000
DTEND;TZID=Europe/Helsinki:20230513T210000
DTSTAMP:20260426T023505
CREATED:20230222T135048Z
LAST-MODIFIED:20230316T122646Z
UID:10000661-1683957600-1684011600@www.tfmk.com
SUMMARY:Hymyilevän Motoristin Kevätpäivä 13.5.
DESCRIPTION:Hymyilevän Motoristin Kevätpäivää vietetään Helsingin Malmin lentokentällä\, tapahtumaan odotetaan jopa 5000 motoristia! \n\n\n\nTapahtumassa on paljon erilaisia tehtäviä\, eri aikaan päivästä\, motolla ja ilman. Jokaisen tourinkilaisen apu järjestelyissä on tarpeen; tulet talkoisiin sitten paraatiajon liikenteenohjaukseen reitin varrelle tai paraatiajon ryhmien vetoon tai toimit kenttähenkilöstönä tai kerhon omalla teltalla tapahtuma alueella. Voit ilmoittautua talkoisiin tästä linkistä.
URL:https://www.tfmk.com/tapahtuma/hymyilevan-motoristin-kevatpaiva-13-5/
ATTACH;FMTTYPE=image/png:https://www.tfmk.com/wp-content/uploads/2023/02/HMKP_Logo_eitaustaa-e1677082784289.png
END:VEVENT
BEGIN:VEVENT
DTSTART;TZID=Europe/Helsinki:20230506T080000
DTEND;TZID=Europe/Helsinki:20230507T170000
DTSTAMP:20260426T023505
CREATED:20221220T043732Z
LAST-MODIFIED:20230113T035633Z
UID:10000367-1683360000-1683478800@www.tfmk.com
SUMMARY:Ajokauden avajaiset 2023
DESCRIPTION:Ajokauden avajaiset Hämeessä\, Petäys Resortissa. \n\n\n\nTervetuloa Parolan Panssarimuseoon ja avaamaan ajokautta 2023 Petäys Resortiin. \n\n\n\nMajoitushinnat sisältäen illallisen ja aamiaisen \n\n\n\n1hh\, la-su. 140 €/hlö \n\n\n\n2hh\, la-su. 110 €/hlö \n\n\n\nPanssarimuseo: 11 €/hlö sisältäen kahvit \n\n\n\nIllallinen ilman majoitusta 40€/henkilö \n\n\n\n \n\n\n\nIlmoittaudu tapahtumaan tästä
URL:https://www.tfmk.com/tapahtuma/ajokauden-avajaiset-2023/
CATEGORIES:Jäsentapahtuma
ATTACH;FMTTYPE=image/jpeg:https://www.tfmk.com/wp-content/uploads/2022/12/kauden_avaus_2022.jpg
END:VEVENT
BEGIN:VEVENT
DTSTART;TZID=Europe/Helsinki:20230424T180000
DTEND;TZID=Europe/Helsinki:20230424T200000
DTSTAMP:20260426T023505
CREATED:20230222T143039Z
LAST-MODIFIED:20230222T143044Z
UID:10000662-1682359200-1682366400@www.tfmk.com
SUMMARY:Talvikauden kerhoiltojen päätös
DESCRIPTION:Tule vaihtamaan talvikausi ajokauteen\, grillimakkaraa ja hyvää seuraa\, myös kahvia ja pullaa tarjolla!Tässä alkaa ajokausi!
URL:https://www.tfmk.com/tapahtuma/talvikauden-kerhoiltojen-paatos/
END:VEVENT
BEGIN:VEVENT
DTSTART;TZID=Europe/Helsinki:20230422T100000
DTEND;TZID=Europe/Helsinki:20230423T160000
DTSTAMP:20260426T023505
CREATED:20230422T063941Z
LAST-MODIFIED:20230422T063943Z
UID:10000683-1682157600-1682265600@www.tfmk.com
SUMMARY:MP-näyttely Kuopio
DESCRIPTION:TFMK mukana KMC:n järjestämässä näyttelyssä. Tervetuloa!
URL:https://www.tfmk.com/tapahtuma/mp-nayttely-kuopio/
ATTACH;FMTTYPE=image/jpeg:https://www.tfmk.com/wp-content/uploads/2022/03/mpkuopio-e1649391853757.jpg
END:VEVENT
BEGIN:VEVENT
DTSTART;TZID=Europe/Helsinki:20230422T100000
DTEND;TZID=Europe/Helsinki:20230423T160000
DTSTAMP:20260426T023505
CREATED:20230222T141625Z
LAST-MODIFIED:20230316T123124Z
UID:10000660-1682157600-1682265600@www.tfmk.com
SUMMARY:TFMK Kamapörssi
DESCRIPTION:Kerhotiloihin pystytetään kaikenlaisten mototarvikkeiden\, varusteiden ja varaosien myyntikauppa la-su ajaksi\, johon voit tuoda itsellesi tarpeettomaksi jääneitä tavaroita myyntiin. Hinnoittelet itse tuotteesi\, ja tuot ne vaan myyntiin! Kerho tarjoaa tilat ja jos et itse pääse paikalle myymään\, autamme tavaroiden myynnissä ja valvonnassa. \n\n\n\nJa jos haluat tehdä hyvää\, voit myös lahjoittaa tavarat myyntiin\, lahjoitettujen tavaroiden myynnistä kertyneet varat lahjoitetaan hyväntekeväisyyteen\, Suomessa olevien Ukrainalaisten pakolaislasten hyväksi.  \n\n\n\nJos olet kiinnostunut myymään tai tuomaan lahjoitukseen tavaroitasi TFMK Kamapörsissä\, ilmoita kiinnostuksestasi kerhomestari Juha Pyhälälle\, jotta tiedämme osapuilleen\, kuinka paljon tavaraa on mahdollisesti tulossa.Juhan tavoitat sähköpostilla juha.pyhala@tfmk.com\, tai puhelimella 0400 308874.
URL:https://www.tfmk.com/tapahtuma/tfmk-kamaporssi/
END:VEVENT
BEGIN:VEVENT
DTSTART;TZID=Europe/Helsinki:20230415T140000
DTEND;TZID=Europe/Helsinki:20230415T160000
DTSTAMP:20260426T023505
CREATED:20230130T090117Z
LAST-MODIFIED:20230316T122250Z
UID:10000371-1681567200-1681574400@www.tfmk.com
SUMMARY:Kevätkokous\, Pirtti
DESCRIPTION:Tämä on virallinen kutsu kaikille Touring Finlandia Moottorikerho ry:n jäsenille. Yhdistyksen sääntömääräinen kevätkokous pidetään lauantaina 15. huhtikuuta 2023 klo 14 alkaen Pirtillä\, Metsäpirtintie 1\, Espoo.  \n\n\n\nKokouksessa käsitellään sääntömääräiset asiat. \n\n\n\nKahvitarjoilun järjestämiseksi toivomme ilmoittautumisia ennakkoon\, ilmoittaudu tästä  \n\n\n\n\n\n\n\nTervetuloa!Hallitus
URL:https://www.tfmk.com/tapahtuma/kevatkokous-pirtti/
ATTACH;FMTTYPE=image/jpeg:https://www.tfmk.com/wp-content/uploads/2023/01/uusi_logo_pyorea-e1677082955851.jpg
END:VEVENT
BEGIN:VEVENT
DTSTART;TZID=Europe/Helsinki:20230327T180000
DTEND;TZID=Europe/Helsinki:20230327T200000
DTSTAMP:20260426T023505
CREATED:20230316T122523Z
LAST-MODIFIED:20230316T125750Z
UID:10000667-1679940000-1679947200@www.tfmk.com
SUMMARY:Kerhoillat maanantaisin TFMK:n Pirtillä
DESCRIPTION:Tervetuloa vaihtamaan kuulumisia kahvikupposen äärelle kerhotiloihin osoitteeseen Metsäpirtintie 1\, Espoo
URL:https://www.tfmk.com/tapahtuma/kerhoillat-maanantaisin-tfmkn-pirtilla/2023-03-27/
END:VEVENT
BEGIN:VEVENT
DTSTART;TZID=Europe/Helsinki:20230320T180000
DTEND;TZID=Europe/Helsinki:20230320T200000
DTSTAMP:20260426T023505
CREATED:20230316T122523Z
LAST-MODIFIED:20230316T125750Z
UID:10000665-1679335200-1679342400@www.tfmk.com
SUMMARY:Kerhoillat maanantaisin TFMK:n Pirtillä
DESCRIPTION:Tervetuloa vaihtamaan kuulumisia kahvikupposen äärelle kerhotiloihin osoitteeseen Metsäpirtintie 1\, Espoo
URL:https://www.tfmk.com/tapahtuma/kerhoillat-maanantaisin-tfmkn-pirtilla/2023-03-20/
END:VEVENT
BEGIN:VEVENT
DTSTART;TZID=Europe/Helsinki:20230313T180000
DTEND;TZID=Europe/Helsinki:20230313T200000
DTSTAMP:20260426T023505
CREATED:20230316T122523Z
LAST-MODIFIED:20230316T125750Z
UID:10000664-1678730400-1678737600@www.tfmk.com
SUMMARY:Kerhoillat maanantaisin TFMK:n Pirtillä
DESCRIPTION:Tervetuloa vaihtamaan kuulumisia kahvikupposen äärelle kerhotiloihin osoitteeseen Metsäpirtintie 1\, Espoo
URL:https://www.tfmk.com/tapahtuma/kerhoillat-maanantaisin-tfmkn-pirtilla/2023-03-13/
END:VEVENT
BEGIN:VEVENT
DTSTART;TZID=Europe/Helsinki:20230306T180000
DTEND;TZID=Europe/Helsinki:20230306T200000
DTSTAMP:20260426T023505
CREATED:20230316T122523Z
LAST-MODIFIED:20230316T125750Z
UID:10000666-1678125600-1678132800@www.tfmk.com
SUMMARY:Kerhoillat maanantaisin TFMK:n Pirtillä
DESCRIPTION:Tervetuloa vaihtamaan kuulumisia kahvikupposen äärelle kerhotiloihin osoitteeseen Metsäpirtintie 1\, Espoo
URL:https://www.tfmk.com/tapahtuma/kerhoillat-maanantaisin-tfmkn-pirtilla/2023-03-06/
END:VEVENT
BEGIN:VEVENT
DTSTART;TZID=Europe/Helsinki:20230306T180000
DTEND;TZID=Europe/Helsinki:20230306T200000
DTSTAMP:20260426T023505
CREATED:20230214T164714Z
LAST-MODIFIED:20230215T083651Z
UID:10000372-1678125600-1678132800@www.tfmk.com
SUMMARY:Hostellijärjestö kerhoillassa
DESCRIPTION:Hostellijärjestön pääsihteeri Sanni Vierto tulee vieraaksi.
URL:https://www.tfmk.com/tapahtuma/hostellijarjesto-kerhoillassa/
ATTACH;FMTTYPE=image/jpeg:https://www.tfmk.com/wp-content/uploads/2015/11/HI-Finland-logo-web-e1448386941591.jpg
END:VEVENT
BEGIN:VEVENT
DTSTART;TZID=Europe/Helsinki:20230227T180000
DTEND;TZID=Europe/Helsinki:20230227T200000
DTSTAMP:20260426T023505
CREATED:20230316T122523Z
LAST-MODIFIED:20230316T125750Z
UID:10000663-1677520800-1677528000@www.tfmk.com
SUMMARY:Kerhoillat maanantaisin TFMK:n Pirtillä
DESCRIPTION:Tervetuloa vaihtamaan kuulumisia kahvikupposen äärelle kerhotiloihin osoitteeseen Metsäpirtintie 1\, Espoo
URL:https://www.tfmk.com/tapahtuma/kerhoillat-maanantaisin-tfmkn-pirtilla/2023-02-27/
END:VEVENT
BEGIN:VEVENT
DTSTART;TZID=Europe/Helsinki:20230220T180000
DTEND;TZID=Europe/Helsinki:20230220T200000
DTSTAMP:20260426T023505
CREATED:20230316T122523Z
LAST-MODIFIED:20230316T125750Z
UID:10000653-1676916000-1676923200@www.tfmk.com
SUMMARY:Kerhoillat maanantaisin TFMK:n Pirtillä
DESCRIPTION:Tervetuloa vaihtamaan kuulumisia kahvikupposen äärelle kerhotiloihin osoitteeseen Metsäpirtintie 1\, Espoo
URL:https://www.tfmk.com/tapahtuma/kerhoillat-maanantaisin-tfmkn-pirtilla/2023-02-20/
END:VEVENT
BEGIN:VEVENT
DTSTART;TZID=Europe/Helsinki:20230204T180000
DTEND;TZID=Europe/Helsinki:20230204T233000
DTSTAMP:20260426T023505
CREATED:20220108T133448Z
LAST-MODIFIED:20230118T164119Z
UID:10000320-1675533600-1675553400@www.tfmk.com
SUMMARY:MP23 messubileet ravintola South Helsingissä
DESCRIPTION:Perinteiset messubileet tulee jälleen! \n\n\n\nMP messulauantaina 4.2.2023 tapaamme Ravintola South Helsinki Bar & Cantinassa klo 18 hyvän ruoan ja seuran merkeissä! Tule sinäkin mukaan! Huom. Voit osallistua myös ilman ruokailua!Ravintola South Helsinki Bar & CantinaHietalahdenranta 11\, 00180 Helsinki \n\n\n\nGuadalupe Mexican SaladNachotMangosalsaGuacamoleSalsa Verde \n\n\n\nSouth Helsinki Chili con carne (liha)South Helsinki Chili sin carne (vege) \n\n\n\nRiisiä \n\n\n\nKahvi ja pikkumakea \n\n\n\nGluteeniton / laktoositon vaihtoehto saatavana. \n\n\n\nHinta 26 euroa\, laskutetaan etukäteen tammikuussa. \n\n\n\nIlmoittaudu alla olevasta linkistä mukaan! \n\n\n\nhttps://core.flomembers.com/touring-finlandia/events/manage/preview/112
URL:https://www.tfmk.com/tapahtuma/mp22-messutapaaminen-ravintola-south-helsingissa-26-3-2022-klo-18/
ATTACH;FMTTYPE=image/jpeg:https://www.tfmk.com/wp-content/uploads/2022/01/IMG_0008-e1641136394864.jpg
END:VEVENT
BEGIN:VEVENT
DTSTART;TZID=Europe/Helsinki:20230203T100000
DTEND;TZID=Europe/Helsinki:20230205T170000
DTSTAMP:20260426T023506
CREATED:20221001T083032Z
LAST-MODIFIED:20221204T151714Z
UID:10000360-1675418400-1675616400@www.tfmk.com
SUMMARY:MP 23 -messut
DESCRIPTION:Varoitus!! MP Moottoripyörämessut sisältävät materiaalia\, joka voi aiheuttaa voimakasta halua hankkia kaksipyöräinen moottoriajoneuvo. https://mp.messukeskus.com/
URL:https://www.tfmk.com/tapahtuma/mp-23-messut/
ATTACH;FMTTYPE=image/jpeg:https://www.tfmk.com/wp-content/uploads/2022/12/MP23_OlemmeMukana_1200x628_FI-e1670165017697.jpg
END:VEVENT
BEGIN:VEVENT
DTSTART;TZID=Europe/Helsinki:20230130T180000
DTEND;TZID=Europe/Helsinki:20230130T200000
DTSTAMP:20260426T023506
CREATED:20221204T151142Z
LAST-MODIFIED:20230125T091811Z
UID:10000365-1675101600-1675108800@www.tfmk.com
SUMMARY:Suomi on Saari - ennakkoesitys
DESCRIPTION:MP23 TieVie lavan esitys nyt kerhoillassa ennakkoon! Tule kuulemaan Anu Karvosen esitys mp-matkailun kustannuksista matkustettaessa eri tavoin Eurooppaan.
URL:https://www.tfmk.com/tapahtuma/suomi-on-saari-ennakkoesitys/
ATTACH;FMTTYPE=image/jpeg:https://www.tfmk.com/wp-content/uploads/2015/12/Vartahamnen-laiva-lahdossa-kohti-kotia.-Juuri-kun-ajoimme-laivaan-alkoi-rankkasade.-e1614954173636.jpg
END:VEVENT
BEGIN:VEVENT
DTSTART;TZID=Europe/Helsinki:20230116T180000
DTEND;TZID=Europe/Helsinki:20230116T200000
DTSTAMP:20260426T023506
CREATED:20221204T150728Z
LAST-MODIFIED:20230112T143536Z
UID:10000364-1673892000-1673899200@www.tfmk.com
SUMMARY:PeterPanBike kerhoillassa
DESCRIPTION:Tule kuulemaan PPB:n esitys menneistä ja tulevista matkoista kerholle\, Metsäpirtintie 1\, 02310 Espoo.
URL:https://www.tfmk.com/tapahtuma/peterpanbike-kerhoillassa/
ATTACH;FMTTYPE=image/jpeg:https://www.tfmk.com/wp-content/uploads/2021/04/x-xvarillinen_logo-1024x834.png.pagespeed.ic_.F5OGJ3XIYB-e1641136765953.jpg
END:VEVENT
BEGIN:VEVENT
DTSTART;TZID=Europe/Helsinki:20230109T180000
DTEND;TZID=Europe/Helsinki:20230109T200000
DTSTAMP:20260426T023506
CREATED:20221204T151503Z
LAST-MODIFIED:20221220T214144Z
UID:10000366-1673287200-1673294400@www.tfmk.com
SUMMARY:Kerhoiltojen kevätkauden avajaiset 9.1.2023
DESCRIPTION:Paluu joululomalta\, kevään kerhoillat alkavat taas\, Tervetuloa!
URL:https://www.tfmk.com/tapahtuma/kerhoiltojen-kevatkauden-avajaiset/
ATTACH;FMTTYPE=image/jpeg:https://www.tfmk.com/wp-content/uploads/2022/04/f02705c9-cbf2-8dbe-199e-1ded5eb25a76-e1654447070218.jpg
END:VEVENT
BEGIN:VEVENT
DTSTART;TZID=Europe/Helsinki:20221219T180000
DTEND;TZID=Europe/Helsinki:20221219T200000
DTSTAMP:20260426T023506
CREATED:20221001T075559Z
LAST-MODIFIED:20221204T152206Z
UID:10000359-1671472800-1671480000@www.tfmk.com
SUMMARY:Glögi-ilta Pirtillä
DESCRIPTION:Syyskauden kerhoiltojen päätöstä vietetään glögi- mukin äärellä. Tervetuloa Metsäpirtintie 1\, Espoo!Kerhoillat jäävät joulutauolle 9.1.2023 asti.
URL:https://www.tfmk.com/tapahtuma/glogi-ilta-pirtilla/
ATTACH;FMTTYPE=image/jpeg:https://www.tfmk.com/wp-content/uploads/2022/10/glogi.jpg
END:VEVENT
BEGIN:VEVENT
DTSTART;TZID=Europe/Helsinki:20221212T180000
DTEND;TZID=Europe/Helsinki:20221212T200000
DTSTAMP:20260426T023506
CREATED:20221001T075159Z
LAST-MODIFIED:20221001T075200Z
UID:10000357-1670868000-1670875200@www.tfmk.com
SUMMARY:Kerhoilta Pirtillä
DESCRIPTION:Tervetuloa vaihtamaan kuulumisia kahvikupposen äärelle Pirtille\, Metsäpirtintie 1\, Espoo
URL:https://www.tfmk.com/tapahtuma/kerhoilta-pirtilla-7/2022-12-12/
ATTACH;FMTTYPE=image/jpeg:https://www.tfmk.com/wp-content/uploads/2022/03/0f22dcfa-ccf6-8534-d54e-d4fdcfab7e12.jpg
END:VEVENT
END:VCALENDAR