BEGIN:VCALENDAR
VERSION:2.0
PRODID:-//TFMK - ECPv6.15.20//NONSGML v1.0//EN
CALSCALE:GREGORIAN
METHOD:PUBLISH
X-ORIGINAL-URL:https://www.tfmk.com
X-WR-CALDESC:Tapahtumat TFMK
REFRESH-INTERVAL;VALUE=DURATION:PT1H
X-Robots-Tag:noindex
X-PUBLISHED-TTL:PT1H
BEGIN:VTIMEZONE
TZID:Europe/Helsinki
BEGIN:DAYLIGHT
TZOFFSETFROM:+0200
TZOFFSETTO:+0300
TZNAME:EEST
DTSTART:20220327T010000
END:DAYLIGHT
BEGIN:STANDARD
TZOFFSETFROM:+0300
TZOFFSETTO:+0200
TZNAME:EET
DTSTART:20221030T010000
END:STANDARD
BEGIN:DAYLIGHT
TZOFFSETFROM:+0200
TZOFFSETTO:+0300
TZNAME:EEST
DTSTART:20230326T010000
END:DAYLIGHT
BEGIN:STANDARD
TZOFFSETFROM:+0300
TZOFFSETTO:+0200
TZNAME:EET
DTSTART:20231029T010000
END:STANDARD
BEGIN:DAYLIGHT
TZOFFSETFROM:+0200
TZOFFSETTO:+0300
TZNAME:EEST
DTSTART:20240331T010000
END:DAYLIGHT
BEGIN:STANDARD
TZOFFSETFROM:+0300
TZOFFSETTO:+0200
TZNAME:EET
DTSTART:20241027T010000
END:STANDARD
BEGIN:DAYLIGHT
TZOFFSETFROM:+0200
TZOFFSETTO:+0300
TZNAME:EEST
DTSTART:20250330T010000
END:DAYLIGHT
BEGIN:STANDARD
TZOFFSETFROM:+0300
TZOFFSETTO:+0200
TZNAME:EET
DTSTART:20251026T010000
END:STANDARD
END:VTIMEZONE
BEGIN:VEVENT
DTSTART;TZID=Europe/Helsinki:20240311T180000
DTEND;TZID=Europe/Helsinki:20240311T200000
DTSTAMP:20260425T193050
CREATED:20240117T073711Z
LAST-MODIFIED:20240118T074719Z
UID:10000741-1710180000-1710187200@www.tfmk.com
SUMMARY:Kahvi-illassa vieraana PeterPanBike
DESCRIPTION:Tervetuloa kuuntelemaan kahvikupposen äärelle infoa Touringin ja PeterPanBiken yhteistyö-matkasta Andalusiaan lokakuussa. Osoite Metsäpirtintie 1\, Espoo
URL:https://www.tfmk.com/tapahtuma/kahvi-illassa-vieraana-peterpanbike/
ATTACH;FMTTYPE=image/png:https://www.tfmk.com/wp-content/uploads/2021/04/varillinen_logo-e1705564026835.png
END:VEVENT
BEGIN:VEVENT
DTSTART;TZID=Europe/Helsinki:20240304T180000
DTEND;TZID=Europe/Helsinki:20240304T200000
DTSTAMP:20260425T193050
CREATED:20240118T074508Z
LAST-MODIFIED:20240123T130925Z
UID:10000747-1709575200-1709582400@www.tfmk.com
SUMMARY:Kahvi-ilta\, vieraana IF-vakuutus
DESCRIPTION:If-vakuutuksesta Eija Kaisio tulee kertomaan matkaturvasta Euroopassa. Kahvipannu tuttuun tapaan kuumana. Tervetuloa mukaan!
URL:https://www.tfmk.com/tapahtuma/kahvi-ilta-vieraana-if-vakuutus/
ATTACH;FMTTYPE=image/jpeg:https://www.tfmk.com/wp-content/uploads/2022/03/If_Logotype_Blue_RGB-1200px.jpg
END:VEVENT
BEGIN:VEVENT
DTSTART;TZID=Europe/Helsinki:20240302T140000
DTEND;TZID=Europe/Helsinki:20240302T170000
DTSTAMP:20260425T193050
CREATED:20240216T135255Z
LAST-MODIFIED:20240216T135256Z
UID:10000750-1709388000-1709398800@www.tfmk.com
SUMMARY:Motobowling!
DESCRIPTION:HMPK:n järjestämä leikkimielinen hohtokeilaus tapahtuma! TFMK osallistuu 1–2 joukkueella\, tule mukaan ja jos et keilaa\, tule kannustamaan! \n\n\n\nKeilauspaikka:– Mosabowling\, osoite Erätie 3\, Helsinki\, ja tarkemmat tiedot: https://mosabowling.fi/Tapahtuman ajankohta:-lauantaina 2.3.2024\, klo 14–15\, kaikki hallin radat on varattu tunniksi.  \n\n\n\nHMPK:n järjestämään Motobowling turnaukseen ovat ilmoittautuneet:– Helsingin Moottoripyöräilijäkerho – HMPK– Mopoilevat nuoret ry– Ladies’ Bike Club /WIMA Finland ry– Intruder Club Finland ry (ICF)\, Etelä– Touring Finlandia Moottorikerho ry ja– Widows Son’s. \n\n\n\nTapahtuman palkintojen jako ja jatkot ovat lähellä sijaitsevassa HMPK:n kerhotilassa\, osoitteessa Vanha Tapanilantie 77\, Helsinki.Tule mukaan!Jos olet kiinnostunut osallistumaan keilaukseen\, ota yhteyttä sähköpostilla palaute@tfmk.com
URL:https://www.tfmk.com/tapahtuma/motobowling/
CATEGORIES:Jäsentapahtuma
ATTACH;FMTTYPE=image/jpeg:https://www.tfmk.com/wp-content/uploads/2024/02/Bowling.jpeg
END:VEVENT
BEGIN:VEVENT
DTSTART;TZID=Europe/Helsinki:20240226T180000
DTEND;TZID=Europe/Helsinki:20240226T200000
DTSTAMP:20260425T193050
CREATED:20240216T092717Z
LAST-MODIFIED:20240216T133250Z
UID:10000749-1708970400-1708977600@www.tfmk.com
SUMMARY:Kahvi-ilta Pirtillä; vieraana HMPK (Helsingin moottoripyöräkerho)
DESCRIPTION:Tule tapaamaan ja tutustumaan HMPK:n jäseniin ja viettämään mukava kerhoilta kahvikupposen ääressä. Ohjelmassa mm. TFMK kerhoesittely ja Suomi on Saari esitys; jos et mp-messuilla niitä nähnyt\, tule nyt!
URL:https://www.tfmk.com/tapahtuma/kahvi-ilta-pirtilla-vieraana-hmpk-helsingin-moottoripyorakerho/
ATTACH;FMTTYPE=image/png:https://www.tfmk.com/wp-content/uploads/2023/02/HMPK_tunnus_pngmuodossa.png
END:VEVENT
BEGIN:VEVENT
DTSTART;TZID=Europe/Helsinki:20240212T180000
DTEND;TZID=Europe/Helsinki:20240212T200000
DTSTAMP:20260425T193050
CREATED:20240117T065831Z
LAST-MODIFIED:20240118T074843Z
UID:10000739-1707760800-1707768000@www.tfmk.com
SUMMARY:Kahvi-illassa vieraana Hostelli-järjestö
DESCRIPTION:Tervetuloa kuuntelemaan infoa hostelleista niin kotimaassa kuin ulkomailtakin. Hostelli-vinkkejä tulee ainakin Itävallasta sekä Tanskasta. Suomen hostelli-järjestöstä paikalla on Sanni Viirto.  \n\n\n\nKahvitarjoilu tuttuun tapaan!
URL:https://www.tfmk.com/tapahtuma/kahvi-illassa-vieraana-hostelli-jarjesto/
ATTACH;FMTTYPE=image/jpeg:https://www.tfmk.com/wp-content/uploads/2022/03/a06b8ac2-6712-309d-9155-7c00684be32b.jpg
END:VEVENT
BEGIN:VEVENT
DTSTART;TZID=Europe/Helsinki:20240205T180000
DTEND;TZID=Europe/Helsinki:20240205T200000
DTSTAMP:20260425T193050
CREATED:20240117T070103Z
LAST-MODIFIED:20240117T070105Z
UID:10000740-1707156000-1707163200@www.tfmk.com
SUMMARY:Kahvi-ilta Pirtillä
DESCRIPTION:Pirtillä\, Metsäpirtintie 1\, Espoo\, kahvipannu kuumana tourinkilaisille. Tervetuloa!
URL:https://www.tfmk.com/tapahtuma/kahvi-ilta-pirtilla-3/
ATTACH;FMTTYPE=image/jpeg:https://www.tfmk.com/wp-content/uploads/2022/03/e2e14999-cdf5-ba06-c98b-08a09e0fcaf4.jpg
END:VEVENT
BEGIN:VEVENT
DTSTART;TZID=Europe/Helsinki:20240203T180000
DTEND;TZID=Europe/Helsinki:20240203T233000
DTSTAMP:20260425T193050
CREATED:20231203T111718Z
LAST-MODIFIED:20231203T111720Z
UID:10000734-1706983200-1707003000@www.tfmk.com
SUMMARY:Messubileet\, ravintola Juttutupa
DESCRIPTION:Tule mukaan jatkamaan MP-messulauantaita Touringin perinteisiin messubileisiin. Messujen jatkoja vietetään ravintola Juttutuvassa\, Säästöpankinranta 6\, Helsinki klo 18 alkaen.  \n\n\n\nIllan musiikista vastaa The Kokoma Kings klo 19 alkaen.  \n\n\n\nIllalliskortin hinta on 25 eur ja menuvaihtoehtoina:– Paahdettua maissikananrintaa\, tomaattista vihanneshöystöä\, polentaa ja basilikaaJuttutuvan klassikkohampurilainen Black Angus -rotukarjanlihasta valmistettu täyslihapihvi\, Jukolan juuston cheddaria\, pekonia\, salaattia\, tomaattia\, suolakurkkua\, chilimajoneesia\, marinoitua punasipulia\, briossisämpylä ja maalaisranskalaiset.  \n\n\n\nSitovat ilmoittautumiset tästä linkistä –>  https://www.flomembers.com/touring-finlandia/events/register/42a0e188f5033bc65bf8d78622277c4e
URL:https://www.tfmk.com/tapahtuma/messubileet-ravintola-juttutupa/
ATTACH;FMTTYPE=image/jpeg:https://www.tfmk.com/wp-content/uploads/2023/12/juttutupa.jpg
END:VEVENT
BEGIN:VEVENT
DTSTART;TZID=Europe/Helsinki:20240202T100000
DTEND;TZID=Europe/Helsinki:20240204T170000
DTSTAMP:20260425T193050
CREATED:20231114T152857Z
LAST-MODIFIED:20240126T071335Z
UID:10000731-1706868000-1707066000@www.tfmk.com
SUMMARY:MP24 -messut\, Helsingin messukeskus
DESCRIPTION:Tourinki on jälleen omalla osastolla 6 c 30 mukana MP-messuilla Tie Vie -alueen tuntumassa. Tie Vie -alueen lavalla on kuultavana myös meidän kerholaisten matkakertomuksia kuvien kera. \n\n\n\nTule moikkaamaan Touringin osastolle\, nähdään messuilla!
URL:https://www.tfmk.com/tapahtuma/mp24-messut-helsingin-messukeskus/
ATTACH;FMTTYPE=image/jpeg:https://www.tfmk.com/wp-content/uploads/2022/10/mp23-e1664613002213.jpg
END:VEVENT
BEGIN:VEVENT
DTSTART;TZID=Europe/Helsinki:20240129T180000
DTEND;TZID=Europe/Helsinki:20240129T200000
DTSTAMP:20260425T193050
CREATED:20240116T120941Z
LAST-MODIFIED:20240116T120943Z
UID:10000738-1706551200-1706558400@www.tfmk.com
SUMMARY:Kahvi-ilta Pirtillä
DESCRIPTION:Tervetuloa kahvittelemaan hyvässä seurassa Pirtille\, Metsäpirtintie 1\, Espoo!
URL:https://www.tfmk.com/tapahtuma/kahvi-ilta-pirtilla-2/
ATTACH;FMTTYPE=image/jpeg:https://www.tfmk.com/wp-content/uploads/2022/03/e2e14999-cdf5-ba06-c98b-08a09e0fcaf4.jpg
END:VEVENT
BEGIN:VEVENT
DTSTART;TZID=Europe/Helsinki:20240122T180000
DTEND;TZID=Europe/Helsinki:20240122T200000
DTSTAMP:20260425T193050
CREATED:20240116T120759Z
LAST-MODIFIED:20240116T120800Z
UID:10000737-1705946400-1705953600@www.tfmk.com
SUMMARY:Kahvi-ilta Pirtillä
DESCRIPTION:Tervetuloa vaihtamaan kuulumisia kahvittelun merkeissä. Osoite Metsäpirtintie 1\, Espoo
URL:https://www.tfmk.com/tapahtuma/kahvi-ilta-pirtilla/
ATTACH;FMTTYPE=image/jpeg:https://www.tfmk.com/wp-content/uploads/2022/03/e2e14999-cdf5-ba06-c98b-08a09e0fcaf4.jpg
END:VEVENT
BEGIN:VEVENT
DTSTART;TZID=Europe/Helsinki:20240115T180000
DTEND;TZID=Europe/Helsinki:20240115T200000
DTSTAMP:20260425T193050
CREATED:20240113T050757Z
LAST-MODIFIED:20240113T050759Z
UID:10000736-1705341600-1705348800@www.tfmk.com
SUMMARY:Kahvi-ilta\, Pirtti
DESCRIPTION:Tervetuloa Pirtille vaihtamaan kuulumisia kahvikupposen äärelle. Kevätkauden kahvi-illat starttaavat tästä. Osoite Metsäpirtintie 1\, Espoo
URL:https://www.tfmk.com/tapahtuma/kahvi-ilta-pirtti/
END:VEVENT
BEGIN:VEVENT
DTSTART;TZID=Europe/Helsinki:20231218T180000
DTEND;TZID=Europe/Helsinki:20231218T200000
DTSTAMP:20260425T193050
CREATED:20231016T073149Z
LAST-MODIFIED:20231016T073235Z
UID:10000721-1702922400-1702929600@www.tfmk.com
SUMMARY:Glögi-ilta Pirtillä\, Metsäpirtintie 1\, Espoo
DESCRIPTION:Tule mukaan viettämään syyskauden kerhoiltojen päätöstä Pirtille!
URL:https://www.tfmk.com/tapahtuma/glogi-ilta-pirtilla-metsapirtintie-1-espoo/
ATTACH;FMTTYPE=image/jpeg:https://www.tfmk.com/wp-content/uploads/2022/10/glogi.jpg
END:VEVENT
BEGIN:VEVENT
DTSTART;TZID=Europe/Helsinki:20231211T180000
DTEND;TZID=Europe/Helsinki:20231211T200000
DTSTAMP:20260425T193050
CREATED:20231016T072949Z
LAST-MODIFIED:20231016T074202Z
UID:10000730-1702317600-1702324800@www.tfmk.com
SUMMARY:Kahvi-ilta Pirtillä\, Metsäpirtintie 1\, Espoo
DESCRIPTION:Tervetuloa vaihtamaan kuulumisia kahvikupposen äärelle Pirtille!  Teemallisista kerhoilloista tiedotetaan päivämäärät erikseen.
URL:https://www.tfmk.com/tapahtuma/kahvi-ilta-pirtilla-metsapirtintie-1-espoo/2023-12-11/
END:VEVENT
BEGIN:VEVENT
DTSTART;TZID=Europe/Helsinki:20231204T180000
DTEND;TZID=Europe/Helsinki:20231204T200000
DTSTAMP:20260425T193050
CREATED:20231016T072949Z
LAST-MODIFIED:20231016T074202Z
UID:10000729-1701712800-1701720000@www.tfmk.com
SUMMARY:Kahvi-ilta Pirtillä\, Metsäpirtintie 1\, Espoo
DESCRIPTION:Tervetuloa vaihtamaan kuulumisia kahvikupposen äärelle Pirtille!  Teemallisista kerhoilloista tiedotetaan päivämäärät erikseen.
URL:https://www.tfmk.com/tapahtuma/kahvi-ilta-pirtilla-metsapirtintie-1-espoo/2023-12-04/
END:VEVENT
BEGIN:VEVENT
DTSTART;TZID=Europe/Helsinki:20231127T180000
DTEND;TZID=Europe/Helsinki:20231127T200000
DTSTAMP:20260425T193050
CREATED:20231016T072949Z
LAST-MODIFIED:20231016T074202Z
UID:10000728-1701108000-1701115200@www.tfmk.com
SUMMARY:Kahvi-ilta Pirtillä\, Metsäpirtintie 1\, Espoo
DESCRIPTION:Tervetuloa vaihtamaan kuulumisia kahvikupposen äärelle Pirtille!  Teemallisista kerhoilloista tiedotetaan päivämäärät erikseen.
URL:https://www.tfmk.com/tapahtuma/kahvi-ilta-pirtilla-metsapirtintie-1-espoo/2023-11-27/
END:VEVENT
BEGIN:VEVENT
DTSTART;TZID=Europe/Helsinki:20231120T180000
DTEND;TZID=Europe/Helsinki:20231120T200000
DTSTAMP:20260425T193050
CREATED:20231016T072949Z
LAST-MODIFIED:20231016T074202Z
UID:10000727-1700503200-1700510400@www.tfmk.com
SUMMARY:Kahvi-ilta Pirtillä\, Metsäpirtintie 1\, Espoo
DESCRIPTION:Tervetuloa vaihtamaan kuulumisia kahvikupposen äärelle Pirtille!  Teemallisista kerhoilloista tiedotetaan päivämäärät erikseen.
URL:https://www.tfmk.com/tapahtuma/kahvi-ilta-pirtilla-metsapirtintie-1-espoo/2023-11-20/
END:VEVENT
BEGIN:VEVENT
DTSTART;TZID=Europe/Helsinki:20231113T180000
DTEND;TZID=Europe/Helsinki:20231113T200000
DTSTAMP:20260425T193050
CREATED:20231016T072949Z
LAST-MODIFIED:20231016T074202Z
UID:10000726-1699898400-1699905600@www.tfmk.com
SUMMARY:Kahvi-ilta Pirtillä\, Metsäpirtintie 1\, Espoo
DESCRIPTION:Tervetuloa vaihtamaan kuulumisia kahvikupposen äärelle Pirtille!  Teemallisista kerhoilloista tiedotetaan päivämäärät erikseen.
URL:https://www.tfmk.com/tapahtuma/kahvi-ilta-pirtilla-metsapirtintie-1-espoo/2023-11-13/
END:VEVENT
BEGIN:VEVENT
DTSTART;TZID=Europe/Helsinki:20231111T150000
DTEND;TZID=Europe/Helsinki:20231112T120000
DTSTAMP:20260425T193050
CREATED:20230828T055725Z
LAST-MODIFIED:20230908T081123Z
UID:10000710-1699714800-1699790400@www.tfmk.com
SUMMARY:Pikkujoulut Messilässä!
DESCRIPTION:Tervetuloa vuoden huipentumaan! \n\n\n\nOHJELMA \n\n\n\nLauantai 11.11.2023 \n\n\n\nKlo 15.00           Syyskokous Messilän Markkinaravintolassa                          – kahvitarjoiluIlmoittaudu kokoukseen erikseen tästä tai sähköpostilla anne.vainio@tfmk.com kahvitarjoiluiden varaamiseksi. \n\n\n\nn. Klo 16.30       Majoittautuminen.Klo 18.30 =>      Pikkujouluillallinen Messilän MarkkinaravintolassaKlo 21 =>           Tanssia ja viihtymistä\, menosta vastaa Ansku ja Ajattomat \n\n\n\nTarkemmat tiedot ilmoittautumislomakkeella. Ilmoittautumiset 20.10. mennessä.TERVETULOA!
URL:https://www.tfmk.com/tapahtuma/pikkujoulut-messilassa/
END:VEVENT
BEGIN:VEVENT
DTSTART;TZID=Europe/Helsinki:20231111T150000
DTEND;TZID=Europe/Helsinki:20231111T170000
DTSTAMP:20260425T193050
CREATED:20230828T042225Z
LAST-MODIFIED:20230908T080946Z
UID:10000709-1699714800-1699722000@www.tfmk.com
SUMMARY:TFMK:n syyskokous Messilässä!
DESCRIPTION:Tervetuloa syyskokoukseen! \n\n\n\nTämä on virallinen kutsu kaikille Touring Finlandia Moottorikerho ry:n jäsenille. Yhdistyksen syyskokous pidetään lauantaina 11. marraskuuta 2023 alkaen klo 15.00\, Messilän kartanon Markkinaravintolassa\, osoitteessa Messiläntie 308\, 15980 Hollola. \n\n\n\nKokouksessa käsitellään sääntömääräiset asiat:– henkilövalinnat: valitaan hallituksen varajäsen ja jäsenet erovuoroisten tilalle kaudelle 2024–25.– toimintasuunnitelma ja talousarvio 2024– muut asiat \n\n\n\nKahvitarjoilu! \n\n\n\nTERVETULOA! \n\n\n\nEspoossa 15.8.2023Touring Finlandia Moottorikerho ryHallitusKokouksessa on osallistumis- ja äänioikeus jäsenmaksunsa maksaneilla jäsenillä. Kahvitarjoilun mitoittamiseksi\, ilmoittaudu tästä tai osoitteella anne.vainio@tfmk.com tarjoiluiden tilaamiseksi 3.11.2023 mennessä. \n\n\n\nHUOM.Kerhon pikkujoulut samassa tilassa alkaen klo 18.30.Ilmoittaudu tästä.
URL:https://www.tfmk.com/tapahtuma/tfmkn-syyskokous-messilassa/
ATTACH;FMTTYPE=image/jpeg:https://www.tfmk.com/wp-content/uploads/2023/08/Hotelli-1.jpg
END:VEVENT
BEGIN:VEVENT
DTSTART;TZID=Europe/Helsinki:20231106T180000
DTEND;TZID=Europe/Helsinki:20231106T200000
DTSTAMP:20260425T193051
CREATED:20231016T072949Z
LAST-MODIFIED:20231016T074202Z
UID:10000725-1699293600-1699300800@www.tfmk.com
SUMMARY:Kahvi-ilta Pirtillä\, Metsäpirtintie 1\, Espoo
DESCRIPTION:Tervetuloa vaihtamaan kuulumisia kahvikupposen äärelle Pirtille!  Teemallisista kerhoilloista tiedotetaan päivämäärät erikseen.
URL:https://www.tfmk.com/tapahtuma/kahvi-ilta-pirtilla-metsapirtintie-1-espoo/2023-11-06/
END:VEVENT
BEGIN:VEVENT
DTSTART;TZID=Europe/Helsinki:20231030T180000
DTEND;TZID=Europe/Helsinki:20231030T200000
DTSTAMP:20260425T193051
CREATED:20231016T072949Z
LAST-MODIFIED:20231016T074202Z
UID:10000724-1698688800-1698696000@www.tfmk.com
SUMMARY:Kahvi-ilta Pirtillä\, Metsäpirtintie 1\, Espoo
DESCRIPTION:Tervetuloa vaihtamaan kuulumisia kahvikupposen äärelle Pirtille!  Teemallisista kerhoilloista tiedotetaan päivämäärät erikseen.
URL:https://www.tfmk.com/tapahtuma/kahvi-ilta-pirtilla-metsapirtintie-1-espoo/2023-10-30/
END:VEVENT
BEGIN:VEVENT
DTSTART;TZID=Europe/Helsinki:20231023T180000
DTEND;TZID=Europe/Helsinki:20231023T200000
DTSTAMP:20260425T193051
CREATED:20231016T072949Z
LAST-MODIFIED:20231016T074202Z
UID:10000723-1698084000-1698091200@www.tfmk.com
SUMMARY:Kahvi-ilta Pirtillä\, Metsäpirtintie 1\, Espoo
DESCRIPTION:Tervetuloa vaihtamaan kuulumisia kahvikupposen äärelle Pirtille!  Teemallisista kerhoilloista tiedotetaan päivämäärät erikseen.
URL:https://www.tfmk.com/tapahtuma/kahvi-ilta-pirtilla-metsapirtintie-1-espoo/2023-10-23/
END:VEVENT
BEGIN:VEVENT
DTSTART;TZID=Europe/Helsinki:20231016T180000
DTEND;TZID=Europe/Helsinki:20231016T200000
DTSTAMP:20260425T193051
CREATED:20231016T072949Z
LAST-MODIFIED:20231016T074202Z
UID:10000722-1697479200-1697486400@www.tfmk.com
SUMMARY:Kahvi-ilta Pirtillä\, Metsäpirtintie 1\, Espoo
DESCRIPTION:Tervetuloa vaihtamaan kuulumisia kahvikupposen äärelle Pirtille!  Teemallisista kerhoilloista tiedotetaan päivämäärät erikseen.
URL:https://www.tfmk.com/tapahtuma/kahvi-ilta-pirtilla-metsapirtintie-1-espoo/2023-10-16/
END:VEVENT
BEGIN:VEVENT
DTSTART;TZID=Europe/Helsinki:20230915T080000
DTEND;TZID=Europe/Helsinki:20230917T170000
DTSTAMP:20260425T193051
CREATED:20230221T124005Z
LAST-MODIFIED:20230816T195839Z
UID:10000659-1694764800-1694970000@www.tfmk.com
SUMMARY:Ajokauden 2023 päätös Saarenmaalla Virossa
DESCRIPTION:Meri Seaside Hotel & Spa\n\n\n\nHUOM. KAIKKI MAJOITUKSET MERI SPA HOTELLISSA OVAT TÄYNNÄ \n\n\n\nJos olet kiinnostunut vielä osallistumaan\, ilmoita itsesi jonoon (palaute@tfmk.com)\, jos tulee peruutuksia. \n\n\n\nAjokauden 2023 päätös Kuressaaressa\, Saarenmaalla 15. – 17.9.2023 \n\n\n\nLähde ajokauden päätökseen Saarenmaalle\, Kuressaaren kaupunkiin. Vietämme mukavan viikonlopun Meri Seaside Hotel & kylpylässä ja teemme lauantain ajoretkiä tutustuen Saarenmaan nähtävyyksiin. \n\n\n\nAlustava ohjelma \n\n\n\nKokoonnumme hotellille noin klo 17 mennessä tai miten kukin paikalle pääsee. Osoite on Meri Hotel & Spa\, Pargi 16\, Kuressaare. www.merihotel.ee \n\n\n\nPerjantai illan ohjelmassa n. klo 19 on yhteinen illallinen buffetpöydästä hotellissa ja omaehtoista tutustumista kylpylään tai Kuressaareen. Hotellin kylpylä on uusittu 2023!Lauantaina aamiaisen jälkeen lähdemme ajoretkelle tutustumaan Saarenmaahan\, bongaten sen kuuluisampia nähtävyyksiä\, teemme pari eri ajoreittiä ja mahdollisesti nautimme omakustanteisen lounaan jossain matkan varrella. Lauantai illalla nautimme illallisen joko hotellilla tai mahdollisesti jossakin Kuressaaren ravintoloissa (lisähintaan\, selviää kevään aikana). \n\n\n\nSunnuntaina aamiaisen ja huoneiden luovutuksen jälkeen kukin voi jatkaa tutustumista vielä Saarenmaahan ja sitten suunnistaa kohti Tallinnaa ja kotimatkaa. Jos kotimatkalla jää aikaa\, käymme tutustumassa Jukka Tenhusen ät-motoristikahvilaan Tallinnassa;  Baar Living Room ät\, Kopli 4\, Tallinna. \n\n\n\nHinnoittelu \n\n\n\nPakettihinnoittelu sisältää aamiaiset ja 2x buffet illallisen hotellilla valitussa majoitusmuodossa.; myös kylpylän käyttö kuuluu pakettiin. Pakettihinta valitun majoituksen mukaan: \n\n\n\nStandardihuone\, 1 hlön huonepaketti\, hinta 155 €. TÄYNNÄStandardihuone\, 2 hlön huonepaketti\, hinta 100 €/hlö. TÄYNNÄSuperiorhuone\, 1 henkilön huonepaketti\, hinta 170 €. TÄYNNÄSuperiorhuone\, 2 henkilön huonepaketti\, hinta 110 €/hlö. TÄYNNÄSuperiorhuone\,  3 henkilön huonepaketti\, hinta 100 €/hlö. TÄYNNÄSuperiorhuone parvekkeella\, 2 hlön huonepaketti\, hinta 120 €/hlö. TÄYNNÄ \n\n\n\nOlemme varanneet hotellista 40 huonetta\, joten ole ripeä ja ilmoittaudu ajoissa! \n\n\n\nMatkustus \n\n\n\nJokainen varaa lauttamatkansa kaikkiin ylityksiin itse\, kerho on  järjestänyt H:ki-Tallinna/myös paluu lähtöihin kiintiöitä moottoripyörille. Kiintiöt laivoihin  \n\n\n\nVaraukset kiintiöistä on tehtävä 15.8.2023 mennessä\, jonka jälkeenkäyttämättömät paikat kiintiöistä vapautetaan. \n\n\n\nECKERÖLINE \n\n\n\nMENO 15.9. m/s Finlandia\, klo 9:00-11:15PALUU Tallinna – H:ki 17.9. m/s Finlandia\, klo 18:30-21:00PALUU Muuga – H:ki 17.9. m/s Finbo Cargo\, klo 16:30-19:15 \n\n\n\nKiintiövarauksille on 20 % alennus normaalihinnoista. \n\n\n\nTALLINK \n\n\n\nMENO H:ki – Tallinna 15.9.\, klo 10.30–12.30PALUU Tallinna – H:ki 17.9.\, klo 16.30–18.30 \n\n\n\nNäihin kiintiöihin on omat varausohjeet jäsensivuilla. \n\n\n\nSaarenmaalle mennään myös lautalla\, Virtsun satamasta Kuivastuun\, lauttamatka kestää n. 30 min. Liput kannattaa ostaa etukäteen viikonloppuisin ja sesonkiaikana. Aikataulut\, verkkoliput ja tarkemmat ohjeet löytyvät osoitteesta praamid.ee (tarvittaessa valitse englanninkielinen sivusto). \n\n\n\nIlmoittaudu tästä mukaan tapahtumaan \n\n\n\nTule mukaan\, vietetään mukava viikonloppu Saarenmaalla!  \n\n\n\nTFMK Hallitus
URL:https://www.tfmk.com/tapahtuma/ajokauden-2023-paatos-saarenmaalla-virossa/
CATEGORIES:Jäsentapahtuma
ATTACH;FMTTYPE=image/jpeg:https://www.tfmk.com/wp-content/uploads/2023/02/A2A0518_-e1676983081337.jpg
END:VEVENT
BEGIN:VEVENT
DTSTART;TZID=Europe/Helsinki:20230910T100000
DTEND;TZID=Europe/Helsinki:20230910T180000
DTSTAMP:20260425T193051
CREATED:20230830T142815Z
LAST-MODIFIED:20230830T142817Z
UID:10000711-1694340000-1694368800@www.tfmk.com
SUMMARY:LS-alue: Kimppa-ajo Tuuriin
DESCRIPTION:Tervetuloa LS-alueen viimeiseen kimppa-ajoon Tuurin ”kyläkaupalle”. Lähtö klo 10.00 Aitolahden Teboililta\, Kaitavedentie 95\, Tampere. Matkat kurvaillaan pikkuteitä ja perillä on aikaa käydä syömässä ja kierrellä kaupassa. Perillä oloaika sovitaan paikan päällä. \n\n\n\nTämä kimppa-ajo toteutetaan säävarauksella. Kovaan sateeseen emme lähde kurvailemaan. Kimppa-ajon toteutuminen varmistuu perjantaina 8.9. Tieto tulee tälle sivulle sekä LS-alueen sähköpostiin. \n\n\n\nMenomatka: \n\n\n\n\n\n\n\nPaluumatka: \n\n\n\n\n\n\n\nReiteissä saattaa olla pientä virhettä\, mutta ovat kuitenkin suuntaa antavat 🙂
URL:https://www.tfmk.com/tapahtuma/ls-alue-kimppa-ajo-tuuriin/
ATTACH;FMTTYPE=image/jpeg:https://www.tfmk.com/wp-content/uploads/2023/08/images.jpg
END:VEVENT
BEGIN:VEVENT
DTSTART;TZID=Europe/Helsinki:20230909T100000
DTEND;TZID=Europe/Helsinki:20230909T180000
DTSTAMP:20260425T193051
CREATED:20230831T165118Z
LAST-MODIFIED:20230831T165119Z
UID:10000712-1694253600-1694282400@www.tfmk.com
SUMMARY:PS-alue: Bikercamp
DESCRIPTION:Viimeisiä viedään ennen kuin ajokausi 2023 pohjoisessa loppuu! \n\n\n\nLauantaina teemme päiväretken Ilkan ja Nooran luo Oijärven Bikercampiin (Bikercamp Oijärvi – Wilderness camping). Yhteislähtö Rovaniemeltä tiedekeksus Pilkkeen edestä (Ounasjoentie 6) kello 10. Muualta tulevat: nähdään campilla n. klo 11.30. \n\n\n\nPerillä meillä on mahdollisuus nauttia omakustanteinen lounas tai kahvit\, miten itse kukin haluaa. Myös sauna lämpiää! \n\n\n\nMukaan mahtuu 10 ensimmäistä ja siis nopeinta. Ilmoittautumiset minulle joko sähköpostiin johanna.ikavalko@tfmk.com tai numeroon 044-9881066 VIIMEISTÄÄN torstaina 7.9. Muista kertoa haluatko lounaan vai kahvit\, mahdollisista ruoka-aineallergioista ja tuletko mukaan Rovaniemeltä vai saavutko paikalle muita reittejä. \n\n\n\nParhain terveisin\, \n\n\n\nJohanna
URL:https://www.tfmk.com/tapahtuma/ps-alue-bikercamp/
ATTACH;FMTTYPE=image/jpeg:https://www.tfmk.com/wp-content/uploads/2023/08/bikercamp.jpg
END:VEVENT
BEGIN:VEVENT
DTSTART;TZID=Europe/Helsinki:20230902T090000
DTEND;TZID=Europe/Helsinki:20230902T170000
DTSTAMP:20260425T193051
CREATED:20230816T092936Z
LAST-MODIFIED:20230816T092939Z
UID:10000708-1693645200-1693674000@www.tfmk.com
SUMMARY:ES-alue: Kimppa-ajo Raasepori
DESCRIPTION:Syyskuun alun kimppa-ajo suuntautuu Raaseporiin. Lähtö klo 9.00 Vanhalta Unkalta\, Hämeentie 18\, Hyrylä.
URL:https://www.tfmk.com/tapahtuma/es-alue-kimppa-ajo-raasepori/
ATTACH;FMTTYPE=image/jpeg:https://www.tfmk.com/wp-content/uploads/2023/08/raasepori.jpg
END:VEVENT
BEGIN:VEVENT
DTSTART;TZID=Europe/Helsinki:20230823T170000
DTEND;TZID=Europe/Helsinki:20230823T200000
DTSTAMP:20260425T193051
CREATED:20230810T062730Z
LAST-MODIFIED:20230810T062733Z
UID:10000704-1692810000-1692820800@www.tfmk.com
SUMMARY:KS-alue: Ilta-ajo
DESCRIPTION:Tervetuloa mukaan Keski-Suomen aluetoiminnan ilta-ajoihin. Lähtö tapahtuu Neste Kirriltä\, Kirrintie 2\, Palokka (Jyväskylä). Lähtöaika klo 17.  \n\n\n\nLisäedot/tiedustelut ks-alue@tfmk.com
URL:https://www.tfmk.com/tapahtuma/ks-alue-ilta-ajo-3/
END:VEVENT
BEGIN:VEVENT
DTSTART;TZID=Europe/Helsinki:20230819T083000
DTEND;TZID=Europe/Helsinki:20230819T180000
DTSTAMP:20260425T193051
CREATED:20230613T092141Z
LAST-MODIFIED:20230810T062620Z
UID:10000705-1692433800-1692468000@www.tfmk.com
SUMMARY:LS-alue: kimppa-ajo Mustilan Arboretumiin\, Elimäki
DESCRIPTION:Tervetuloa mukaan kimppa-ajoon! Elokuun ajokohteena on Elimäellä sijaitseva Mustilan arboretum.  \n\n\n\nElimäelle ajellaan pikkuteitä tuttuun tyyliin. Lähtö ABC Toijalan parkkipaikalta klo 8.30. Mennessä pidetään kahvitauko sopivassa kohdassa. Arboretumin kahviossa on tarjolla keittolounasta 8 euron hintaan. \n\n\n\nIlmoittautumiset 15.8. mennessä –> https://www.flomembers.com/touring-finlandia/events/register/76dc611d6ebaafc66cc0879c71b5db5c \n\n\n\ntai sähköpostilla sari.laurell@tfmk.com
URL:https://www.tfmk.com/tapahtuma/ls-alue-kimppa-ajo-mustilan-arboretumiin-elimaki/
ATTACH;FMTTYPE=image/jpeg:https://www.tfmk.com/wp-content/uploads/2023/06/rodolaakso-007-5-960x667-1.jpg
END:VEVENT
BEGIN:VEVENT
DTSTART;TZID=Europe/Helsinki:20230817T173000
DTEND;TZID=Europe/Helsinki:20230817T200000
DTSTAMP:20260425T193051
CREATED:20230816T092015Z
LAST-MODIFIED:20230816T092017Z
UID:10000707-1692293400-1692302400@www.tfmk.com
SUMMARY:ES-alue: Ilta-ajo Porvoo
DESCRIPTION:Tervetuloa mukaan ilta-ajeluun Porvooseen. Lähtö klo 17.30 Vanha Unkka\, Hämeentie 18\, Hyrylä.
URL:https://www.tfmk.com/tapahtuma/es-alue-ilta-ajo-porvoo/
ATTACH;FMTTYPE=image/jpeg:https://www.tfmk.com/wp-content/uploads/2022/08/porvoo-scaled.jpg
END:VEVENT
END:VCALENDAR