BEGIN:VCALENDAR
VERSION:2.0
PRODID:-//TFMK - ECPv6.15.20//NONSGML v1.0//EN
CALSCALE:GREGORIAN
METHOD:PUBLISH
X-WR-CALNAME:TFMK
X-ORIGINAL-URL:https://www.tfmk.com
X-WR-CALDESC:Tapahtumat TFMK
REFRESH-INTERVAL;VALUE=DURATION:PT1H
X-Robots-Tag:noindex
X-PUBLISHED-TTL:PT1H
BEGIN:VTIMEZONE
TZID:Europe/Helsinki
BEGIN:DAYLIGHT
TZOFFSETFROM:+0200
TZOFFSETTO:+0300
TZNAME:EEST
DTSTART:20230326T010000
END:DAYLIGHT
BEGIN:STANDARD
TZOFFSETFROM:+0300
TZOFFSETTO:+0200
TZNAME:EET
DTSTART:20231029T010000
END:STANDARD
BEGIN:DAYLIGHT
TZOFFSETFROM:+0200
TZOFFSETTO:+0300
TZNAME:EEST
DTSTART:20240331T010000
END:DAYLIGHT
BEGIN:STANDARD
TZOFFSETFROM:+0300
TZOFFSETTO:+0200
TZNAME:EET
DTSTART:20241027T010000
END:STANDARD
BEGIN:DAYLIGHT
TZOFFSETFROM:+0200
TZOFFSETTO:+0300
TZNAME:EEST
DTSTART:20250330T010000
END:DAYLIGHT
BEGIN:STANDARD
TZOFFSETFROM:+0300
TZOFFSETTO:+0200
TZNAME:EET
DTSTART:20251026T010000
END:STANDARD
END:VTIMEZONE
BEGIN:VEVENT
DTSTART;TZID=Europe/Helsinki:20240610T170000
DTEND;TZID=Europe/Helsinki:20240610T200000
DTSTAMP:20260425T155047
CREATED:20240610T113640Z
LAST-MODIFIED:20240610T113644Z
UID:10000771-1718038800-1718049600@www.tfmk.com
SUMMARY:ES-alue: Ilta-ajelu\,  Kytäjän maisemiin\, Marttojen Motoristikahvilaan!
DESCRIPTION:Hyvää alkanutta kesää ES-alueen tourinkilainen ! \n\n\n\nAjetaan ilta-ajo Kytäjän maisemiin Marttojen motoristikahvilaan. Kahvila auki klo 17-20. Maksuvälineet käteinen tai MobilePay. \n\n\n\nLähtöpaikkana Vanha Unkka – Hämeentie 18\, Hyrylä \n\n\n\nKohde Maapirtti\, Palkkisillantie 28\, Hyvinkää (Kytäjä) \n\n\n\nIlmoittautuminen ja lisätiedot: es-alue@tfmk.com. Kohteeseen voi ajella myös omatoimisesti. Maapirtin FB sivu: https://www.facebook.com/p/Kyt%C3%A4j%C3%A4n-Maapirtti-100057494347465/ \n\n\n\nLähtöaika Tiistaina 11.5. klo 17\, ajoaika n. 1 h. Menoreitin pituus alustavasti n. 40 km Unkalta lähdettäessä. Ole ajoissa lähtöpaikalla\, pyörä tankattuna.Muistutuksena kerhomme Tourer-kisa\, joten kimppaan osallistuminen kartuttaa pistetiliä. \n\n\n\nPaluu omatoimisesti tai kimpassa jos halukkaita löytyy. Sovitaan paikan päällä. \n\n\n\nMikäli sataa rankasti tai jatkuvasti ajoa ei ajeta. Tämän hetke ennuste näyttäisi hyvältä tiistai illalle. \n\n\n\nTervetuloa mukaan ! \n\n\n\nterveisin ES-alueen tiimi
URL:https://www.tfmk.com/tapahtuma/es-alue-ilta-ajelu-kytajan-maisemiin-marttojen-motoristikahvilaan/
ATTACH;FMTTYPE=image/jpeg:https://www.tfmk.com/wp-content/uploads/2023/02/TFMK_logo_ymp_4v-e1702977208440.jpg
END:VEVENT
BEGIN:VEVENT
DTSTART;TZID=Europe/Helsinki:20240608T130000
DTEND;TZID=Europe/Helsinki:20240608T170000
DTSTAMP:20260425T155047
CREATED:20240513T075040Z
LAST-MODIFIED:20240513T075043Z
UID:10000768-1717851600-1717866000@www.tfmk.com
SUMMARY:PS-alue: Kimppa-ajo Mäkipeura
DESCRIPTION:Tervetuloa mukaan lettukahville Mäkipeuralle (Nelostie 3079b\, Tervola) klo 14. Rovaniemeltä yhteislähtö Tiedekeskus Pilkkeen (Ounasjoentie 6) edestä klo 13. Ilmoittautumisia ei tarvita – tervetuloa ja nähdään Mäkipeuralla!
URL:https://www.tfmk.com/tapahtuma/ps-alue-kimppa-ajo-makipeura/
ATTACH;FMTTYPE=image/jpeg:https://www.tfmk.com/wp-content/uploads/2024/05/images.jpg
END:VEVENT
BEGIN:VEVENT
DTSTART;TZID=Europe/Helsinki:20240608T090000
DTEND;TZID=Europe/Helsinki:20240608T180000
DTSTAMP:20260425T155047
CREATED:20240503T052105Z
LAST-MODIFIED:20240529T072808Z
UID:10000764-1717837200-1717869600@www.tfmk.com
SUMMARY:Tutustuminen KymiRingiin
DESCRIPTION:Hei\, nyt tilaisuus tourinkilaisille\, joka ei aivan pian toistu\, tutustumisajoa KymiRingin radalla!Olemme saaneet SRRAn (Suomen Road Race Ajajat ry) Ring Race Clubin ja kerhomme yhteistyön tuloksena mahdollisuuden päästä ajamaan KymiRingin radalle ja tutustumaan alueeseen.Tutustumisajoon osallistuminen on ilmaista TFMK:n jäsenille!Ilmoittaudu mukaan 4.6. mennessä TÄSTÄ\, jotta tiedämme järjestäjälle kertoa osallistujamäärän! Osallistumismäärää voidaan rajoittaa\, huomioiden käytettävissä oleva aika. \n\n\n\nTutustumiskierrokset toteutetaan ajaen radalla lauantaina 8.6.2024 klo 13.20–13.50. Joten tule ajoissa paikalle!Tutustumisajoryhmä ajaa rataa saatettuna\, jotta vauhti pysyy maltillisena ja onhan tutustumisen tarkoitus nähdä ja aistia rataa. Kaikki ilmoittautujat saavat ennen tapahtumaa sähköpostilla toimintaohjeet ja aluekartan\, tiedät miten alueella toimitaan. \n\n\n\nRadalla tapahtuu koko ajan 8.–9.6.; siellä on kisa-autoilla ja -motoilla ajoa; ohjelmaa on koko päivän lauantaina ja sunnuntaina! Voit osallistua myös maksulliseen ajoharjoitteluun! Ilmoittaudu järjestäjän sivuilla saman päivän tai seuraavan päivän ratapäivään\, osta ajovuorosi ao. tapahtumasivun kautta:https://ringraceclub.fi/tapahtumat/ratapaivat/kymiring89624Tule mukaan!
URL:https://www.tfmk.com/tapahtuma/tutustuminen-kymiringiin/
CATEGORIES:Jäsentapahtuma
ATTACH;FMTTYPE=image/jpeg:https://www.tfmk.com/wp-content/uploads/2024/05/Kymiring.jpg
END:VEVENT
BEGIN:VEVENT
DTSTART;TZID=Europe/Helsinki:20240531T200000
DTEND;TZID=Europe/Helsinki:20240614T100000
DTSTAMP:20260425T155047
CREATED:20231125T063010Z
LAST-MODIFIED:20240303T161115Z
UID:10000733-1717185600-1718359200@www.tfmk.com
SUMMARY:TFMK Eurooppa Tournee 2024
DESCRIPTION:Tervetuloa mukaan Euroopan kierrokselle! Reissuun lähdetään Turusta perjantai-iltana. Laivamatkat varataan ryhmävarauksena \n\n\n\nMatkareitti:pe 31.5. Tku-Sto -laivala 1.6. Sto-Karlskrona\, n. 500 kmsu 2.6. Gdynia-Krakova\, n. 600  kmma 3.6. Krakova\, mahdollisuus käydä Wielizkan suolakaivoksessati 4.6. Krakova-Strebske Bleso\, 170 kmke 5.6. Strebske Bleso-Wien\, 400 kmto 6.6. Wienpe 7.6. Wien-Plzen\, 330 kmla 8.6. Plzen-Dresden\, 260 kmsu 9.6. Dresdenma 10.6. Dresden-Hampuri\, 465 kmti 11.6. Hampuri\, mahdollisuus käydä Miniatur Wunderlandissa ke 12.6. Hampuri-Travemünde\, 100 km\, josta aamuyöllä laivalla Suomeen (lähtö to 13.6.\, checkin keskiviikko-iltana 12.6.)pe 14.6. aamulla Suomessa Vuosaaressa \n\n\n\nKesällä 2024 reissataan jälleen Keski-Euroopassa. Matkalle osuu kaksi näkemisen arvoista paikkaa; Wielizkan suolakaivos Krakovan lähellä ja Hampurissa sijaitseva Miniatur Wunderland. Varsinkin Miniatur Wunderlandiin liput on tilattava jo hyvissä ajoin\, jotta sinne päästään tiettynä päivänä. \n\n\n\n\n\n\n\nTuttuun tapaan myös hotelleja aletaan varailemaan ilmoittautumisajan umpeuduttua ja osa maksellaankin etukäteen. Hotellit varataan niin\, että niissä on täysi peruutusoikeus ja rahat saa takaisin. \n\n\n\nTervetuloa mukaan nauttimaan Euroopan mutkateistä ja upeista kaupungeista! \n\n\n\nIlmoittautumiset 10.3.2024 mennessä alla olevasta linkistä https://www.flomembers.com/touring-finlandia/events/register/7f1de29e6da19d22b51c68001e7e0e54 \n\n\n\nLisätiedot Antti puh. 0440 639 744 tai Sari puh. 044 363 7759
URL:https://www.tfmk.com/tapahtuma/tfmk-eurooppa-tournee-2024/
ATTACH;FMTTYPE=image/jpeg:https://www.tfmk.com/wp-content/uploads/2023/11/wielizka.jpg
END:VEVENT
BEGIN:VEVENT
DTSTART;TZID=Europe/Helsinki:20240529T170000
DTEND;TZID=Europe/Helsinki:20240529T210000
DTSTAMP:20260425T155047
CREATED:20240117T075310Z
LAST-MODIFIED:20240117T075312Z
UID:10000743-1717002000-1717016400@www.tfmk.com
SUMMARY:KS-aluetoiminta: ilta-ajo\, Sysmän satama
DESCRIPTION:Tervetuloa mukaan ilta-ajoon Sysmään. Lähtö Neste Kirri\, Kirrintie 2\, Jyväskylä\, klo 17.00. Ilta-ajoon voit liittyä mukaan myös reitin varrelta. Lisätietoja Claus Jörgensen p. 040 7453 888.
URL:https://www.tfmk.com/tapahtuma/ks-aluetoiminta-ilta-ajo-sysman-satama/
ATTACH;FMTTYPE=image/jpeg:https://www.tfmk.com/wp-content/uploads/2021/03/Kimppakuvaa-e1617893136681.jpg
END:VEVENT
BEGIN:VEVENT
DTSTART;TZID=Europe/Helsinki:20240525T120000
DTEND;TZID=Europe/Helsinki:20240526T130000
DTSTAMP:20260425T155047
CREATED:20240513T074638Z
LAST-MODIFIED:20240513T074640Z
UID:10000767-1716638400-1716728400@www.tfmk.com
SUMMARY:PS-alue: Kimppa-ajo Kieringin lomakylään
DESCRIPTION:Iltapäivällä ajo Kieringin lomakylään (Tuirantie 4\, 97390 Sodankylä)\, jossa yhteinen päivällinen\, sauna ja aamiaismajoitus. Mahdollisuus joko ajaa Johannan kanssa suoraan Rovaniemeltä Kierinkiin\, tai osallistua MP69 offroad ajoharjoitteluun Laura Liimatan ja Jarmo Iivarin ohjauksessa. Lisätiedot majoituksen ja offroad-harjoittelun hinnoista tovin päästä. \n\n\n\nIlmoittautumiset Johannalle sähköpostilla\, johanna.ikavalko@tfmk.com\, viimeistään 18.5. Kerro\, haluatko 1 hh vai 2 hh\, ja kenen kanssa jaat huoneen (muuten arvomme huonekaverin puolestasi).
URL:https://www.tfmk.com/tapahtuma/ps-alue-kimppa-ajo-kieringin-lomakylaan/
ATTACH;FMTTYPE=image/jpeg:https://www.tfmk.com/wp-content/uploads/2024/05/3e4e85e6-0dc6-4596-8db2-f0e3264956d1.jpeg
END:VEVENT
BEGIN:VEVENT
DTSTART;TZID=Europe/Helsinki:20240524T180000
DTEND;TZID=Europe/Helsinki:20240526T170000
DTSTAMP:20260425T155047
CREATED:20240320T103333Z
LAST-MODIFIED:20240320T103335Z
UID:10000755-1716573600-1716742800@www.tfmk.com
SUMMARY:MP ennakoivan ajon koulutus\, Pirtti ja Lavangon ajoharjoittelurata
DESCRIPTION:Tervetuloa mukaan MP ennakoivan ajon koulutukseen! \n\n\n\nHinnat: kuljettaja 80€ ja matkustaja 40€. Osallistuminen edellyttää TFMK:n jäsenyyttä. \n\n\n\nHinta sisältää koulutuksen lisäksi kahvit teoriaosuudessa ja lounaan ajoharjoittelupäivänä. \n\n\n\nTeoria kaikille perjantaina on hybridinä eli voi osallistua joko Pirtillä (Metsäpirtintie 1\, Espoo) tai TEAMsin kautta. TEAMs linkki tulee paria päivää ennen teoriaa.Ajopäivä Lavangon radalla (Myllykyläntie 1\, Vantaa) määräytyy pyörämallin mukaan\, joten ajopäivän tiedot la vai su lähetetään kurssiviikon alkupuolella. \n\n\n\nAhvenistolle pääsee alennettuun hintaan (30€) kun on sitoutuneesti ilmoittautunut kumpaankin tapahtumaan 9.5.24 mennessä \n\n\n\nIlmoittautuminen ennakoivan ajon koulutukseen alla olevan linkin kautta 15.5. mennessä https://core.flomembers.com/touring-finlandia/events/register/1385974ed5904a438616ff7bdb3f7439
URL:https://www.tfmk.com/tapahtuma/mp-ennakoivan-ajon-koulutus-pirtti-ja-lavangon-ajoharjoittelurata/
ATTACH;FMTTYPE=image/jpeg:https://www.tfmk.com/wp-content/uploads/2020/12/MPEAK.jpg
END:VEVENT
BEGIN:VEVENT
DTSTART;TZID=Europe/Helsinki:20240518T133000
DTEND;TZID=Europe/Helsinki:20240519T120000
DTSTAMP:20260425T155047
CREATED:20231209T073604Z
LAST-MODIFIED:20240505T080600Z
UID:10000735-1716039000-1716120000@www.tfmk.com
SUMMARY:Ajokauden avaus Saimaanranta Resort\, Anttola
DESCRIPTION:Vuoden 2024 virallista ajokauden avausta vietetään Anttolan kauniissa järvimaisemassa.  \n\n\n\nOhjelmaKlo 13.30 alkaen majoittautuminenKlo 15 Saunomista ja oleskeluaKlo 19 Illallinen \n\n\n\nMajoitushinnat henkilöltä\, sisältäen majoituksen valitussa huoneluokassa\, lauantain illallisen\, rantasaunan ja sunnuntain aamiaisen:1hh 145\,00 eur2hh Classic 106\,00 eur2hh Superior 114\,00 eur \n\n\n\nRavintolassa esiintyy Rock Trubaduuri Konsta Niskavaara. Ravintolan sisäänpääsy tourinkilaisille 10 eur. \n\n\n\nIlmoittautumiset 28.4.2024 mennessä. Ilmoittautumaan pääset oheisen linkin kautta https://www.flomembers.com/touring-finlandia/events/register/02522a2b2726fb0a03bb19f2d8d9524d
URL:https://www.tfmk.com/tapahtuma/ajokauden-avaus-saimaanranta-resort-anttola/
ATTACH;FMTTYPE=image/jpeg:https://www.tfmk.com/wp-content/uploads/2023/12/Anttolanhovi-hotel-1-scaled-e1702107326823.jpg
END:VEVENT
BEGIN:VEVENT
DTSTART;TZID=Europe/Helsinki:20240518T100000
DTEND;TZID=Europe/Helsinki:20240518T210000
DTSTAMP:20260425T155047
CREATED:20240428T140023Z
LAST-MODIFIED:20240428T140026Z
UID:10000762-1716026400-1716066000@www.tfmk.com
SUMMARY:Hymyilevän Motoristin Kevätpäivä MP-Museolla Lahdessa
DESCRIPTION:Tapahtuman ohjelmaKlo 10.00–12.00 Saapuminen Klo 12.00 Tervetuliaispuheet  Klo 13.00–15.00 MP-paraati Klo 15.00–18.00 Stagella tapahtuu Kiertovanteen luovutus\, Musiikkia\,Yhteistyökumppaneiden puheenvuorojaKlo 18.00 Iltabileet Rock ‘n’ Rollia ja hyvää meininkiä!
URL:https://www.tfmk.com/tapahtuma/hymyilevan-motoristin-kevatpaiva-mp-museolla-lahdessa/
END:VEVENT
BEGIN:VEVENT
DTSTART;TZID=Europe/Helsinki:20240518T090000
DTEND;TZID=Europe/Helsinki:20240518T140000
DTSTAMP:20260425T155047
CREATED:20240505T080422Z
LAST-MODIFIED:20240505T080423Z
UID:10000765-1716022800-1716040800@www.tfmk.com
SUMMARY:LS-alue: Kimppa-ajo Ajokauden avaukseen
DESCRIPTION:LS-alueelta järjestetään kimppa-ajo Anttolaan Ajokauden avajaisiin.Lähtö klo 9 Aapiskukko\, Lahdentie 12\, Pälkäne.  \n\n\n\nAjoreitti:Pälkäne – Luopioinen- Pulkkilanharju – Kalkkinen – Hartola – Pertunmaa – Mäntyharju – Ristiina – Mikkeli – Anttola. \n\n\n\nMatkaan voi liittyä mm. Pulkkilanharjun alkupäässä\, entisen ravintola Reimarin parkkipaikalta\, Pulkkilantie 634\, Asikkala. Saapuminen tähän n. klo 10.15.Jos haluat liittyä letkaan myöhemmiltä pisteiltä\, ole yhteydessä kimppa-ajon vetäjään Antti Laurelliin p. 0440 639 744.
URL:https://www.tfmk.com/tapahtuma/ls-alue-kimppa-ajo-ajokauden-avaukseen/
ATTACH;FMTTYPE=image/jpeg:https://www.tfmk.com/wp-content/uploads/2021/03/Kimppakuvaa-e1617893136681.jpg
END:VEVENT
BEGIN:VEVENT
DTSTART;TZID=Europe/Helsinki:20240515T170000
DTEND;TZID=Europe/Helsinki:20240515T210000
DTSTAMP:20260425T155047
CREATED:20240117T074928Z
LAST-MODIFIED:20240117T074930Z
UID:10000742-1715792400-1715806800@www.tfmk.com
SUMMARY:KS-aluetoiminta: ilta-ajo\, Keuruun satama
DESCRIPTION:Kesän ensimmäinen ilta-ajo Keski-Suomen aluetoiminnassa suuntautuu kohti Keuruun satamaa. Lähtö Neste Kirri\, Kirrintie 2\, Jyväskylä klo 17.00.
URL:https://www.tfmk.com/tapahtuma/ks-aluetoiminta-ilta-ajo-keuruun-satama/
ATTACH;FMTTYPE=image/jpeg:https://www.tfmk.com/wp-content/uploads/2023/02/TFMK_logo_ymp_4v-e1702977208440.jpg
END:VEVENT
BEGIN:VEVENT
DTSTART;TZID=Europe/Helsinki:20240512T120000
DTEND;TZID=Europe/Helsinki:20240512T180000
DTSTAMP:20260425T155047
CREATED:20240320T093009Z
LAST-MODIFIED:20240320T093011Z
UID:10000754-1715515200-1715536800@www.tfmk.com
SUMMARY:Ajoharjoittelu Ahvenisto Race Circuit moottoriradalla\, Hämeenlinna
DESCRIPTION:Tervetuloa ajoharjoitteluun uudistuneisiin maisemiin Ahvenisto Race Circuit moottoriradalle\, Poltinahontie 47\, 13100 Hämeenlinna su12.5.2024. \n\n\n\nTapahtumamaksu on 50€\, joka laskutetaan etukäteen.  \n\n\n\nItse rata on varattuna klo 12-18 ja ajajakokous pidetään klo 11:30\, jotta päästään sujuvasti ajamaan heti 12 aikaan. Toivomme saapumista ennen klo 11:00\, jotta keretään ottamaan melumittaus (max95db) hyvissä ajoin. Myöhemmin tulleille pidetään myöhemmin ajajakokous\, radalle ei pääse ajamaan ilman ajajakokouksen informaatiota. Ruokailu on radan uudistuneessa kahviossa.  \n\n\n\nRadalla ajetaan kahdessa ryhmässä nopea ja hidas. Ryhmää voi vaihtaa kesken päivän tuntemusten mukaan ilmoittamalla ratahenkilökunnalle. Vakuutusten voimassa tulee itse varmistaa omasta vakuutusyhtiöstä. Radalla ajetaan vain moottoripyöräilyyn tarkoitetuissa varusteissa. Suosittelemme nahkapukua. Pyörän pitää olla liikennevakuutettu. \n\n\n\nOn sovittuna\, että ruokailu on mahdollista ennakkoilmoitusten mukaisesti\, ruoan hinta on 14\,50 hlö \n\n\n\nKahviosta saa päivän mittaan muitakin tuotteita. \n\n\n\nIlmoittaudu 9.5. mennessä alla olevasta linkistä https://core.flomembers.com/touring-finlandia/events/register/0f28b5d49b3020afeecd95b4009adf4c
URL:https://www.tfmk.com/tapahtuma/ajoharjoittelu-ahvenisto-race-circuit-moottoriradalla-hameenlinna/
ATTACH;FMTTYPE=image/jpeg:https://www.tfmk.com/wp-content/uploads/2021/04/ahvenisto.jpg
END:VEVENT
BEGIN:VEVENT
DTSTART;TZID=Europe/Helsinki:20240504T090000
DTEND;TZID=Europe/Helsinki:20240504T170000
DTSTAMP:20260425T155047
CREATED:20240428T134623Z
LAST-MODIFIED:20240428T134833Z
UID:10000760-1714813200-1714842000@www.tfmk.com
SUMMARY:Alueiden kimppa-ajo Humppilaan
DESCRIPTION:La 4.5.2024 klo 10–15\, Humppilan Hanx myymälässä on ajokauden startti! Humppilan myymälässä on myös 20 v synttärit!Myymälässä on arvontaa yms. Tule tekemään löytöjä!Hanx Humppila\, Humppilan Lasin kauppakuja\, Lasitehtaantie 5\, 31640 HumppilaLämpimästi tervetuloa!Seuraa alueiden tiedotusta lähtöpaikoista ja reiteistä yms.
URL:https://www.tfmk.com/tapahtuma/alueiden-kimppa-ajo-humppilaan/
END:VEVENT
BEGIN:VEVENT
DTSTART;TZID=Europe/Helsinki:20240429T180000
DTEND;TZID=Europe/Helsinki:20240429T200000
DTSTAMP:20260425T155047
CREATED:20240423T070955Z
LAST-MODIFIED:20240423T071002Z
UID:10000759-1714413600-1714420800@www.tfmk.com
SUMMARY:Kahvi-ilta Pirtillä\, talvikauden päätös
DESCRIPTION:Tervetuloa Pirtille\, Metsäpirtintie 1\, Espoo päättämään talvikauden kahvi-iltoja. Illalla grilli ja kahvipannu kuumana. Illan aikana pidetään myös hätäensiapu-koulutus.  \n\n\n\nTervetuloa mukaan!
URL:https://www.tfmk.com/tapahtuma/kahvi-ilta-pirtilla-talvikauden-paatos/
ATTACH;FMTTYPE=image/jpeg:https://www.tfmk.com/wp-content/uploads/2023/02/TFMK_logo_ymp_4v-e1702977208440.jpg
END:VEVENT
BEGIN:VEVENT
DTSTART;TZID=Europe/Helsinki:20240427T100000
DTEND;TZID=Europe/Helsinki:20240428T160000
DTSTAMP:20260425T155047
CREATED:20240423T065922Z
LAST-MODIFIED:20240423T065926Z
UID:10000758-1714212000-1714320000@www.tfmk.com
SUMMARY:Kuopion MP-näyttely
DESCRIPTION:Touring Finlandia MK ry on mukana tänäkin vuonna Kuopion MP-näyttelyssä omalla osastolla. Messut järjestetään tuttuun tapaan Kuopio-hallissa\, Opistotie 4\, Kuopio.  \n\n\n\nTervetuloa moikkaamaan ja vaihtamaan kuulumisia.Nähdään Kuopiossa!
URL:https://www.tfmk.com/tapahtuma/kuopion-mp-nayttely-2/
ATTACH;FMTTYPE=image/jpeg:https://www.tfmk.com/wp-content/uploads/2022/03/mpkuopio-e1649391853757.jpg
END:VEVENT
BEGIN:VEVENT
DTSTART;TZID=Europe/Helsinki:20240422T180000
DTEND;TZID=Europe/Helsinki:20240422T200000
DTSTAMP:20260425T155047
CREATED:20240406T043716Z
LAST-MODIFIED:20240406T043718Z
UID:10000757-1713808800-1713816000@www.tfmk.com
SUMMARY:Kerhoilta; vierailu HMPK:n kerhotiloihin
DESCRIPTION:Maanantain kerhoiltaa vietetään vieraillen HMPK:n kerhotiloissa\, Vanha Tapanilantie 77\, Helsinki.  \n\n\n\nIlmoittauduthan ennakkoon sari.laurell@tfmk.com\, tarjoilujen järjestämiseksi. \n\n\n\nTervetuloa mukaan!
URL:https://www.tfmk.com/tapahtuma/kerhoilta-vierailu-hmpkn-kerhotiloihin/
ATTACH;FMTTYPE=image/png:https://www.tfmk.com/wp-content/uploads/2023/02/HMPK_tunnus_pngmuodossa.png
END:VEVENT
BEGIN:VEVENT
DTSTART;TZID=Europe/Helsinki:20240415T180000
DTEND;TZID=Europe/Helsinki:20240415T200000
DTSTAMP:20260425T155047
CREATED:20240406T043244Z
LAST-MODIFIED:20240406T043246Z
UID:10000756-1713204000-1713211200@www.tfmk.com
SUMMARY:Kerhoilta Pirtillä
DESCRIPTION:Tervetuloa vaihtamaan kuulumisia Pirtille\, Metsäpirtintie 1\, Espoo. ”Kahvipannu” kuumana!
URL:https://www.tfmk.com/tapahtuma/kerhoilta-pirtilla-8/
END:VEVENT
BEGIN:VEVENT
DTSTART;TZID=Europe/Helsinki:20240413T140000
DTEND;TZID=Europe/Helsinki:20240413T160000
DTSTAMP:20260425T155047
CREATED:20240117T105108Z
LAST-MODIFIED:20240117T105514Z
UID:10000746-1713016800-1713024000@www.tfmk.com
SUMMARY:TFMK kevätkokous\, Pirtti
DESCRIPTION:Tämä on virallinen kutsu kaikille Touring Finlandia Moottorikerho ry:n jäsenille.Yhdistyksen kevätkokous pidetään lauantaina 13. huhtikuuta 2024 alkaen klo 14.00.Paikka: TFMK:n kerhotilat\, Metsäpirtintie 1\, 02130 EspooKokouksessa käsitellään sääntömääräiset asiat.Kahvitarjoilun järjestämiseksi\, pyydämme ilmoittautumaan etukäteen sähköpostilla sihteeri@tfmk.comTERVETULOA!HallitusPS. Jos haluat jonkin asian käsiteltäväksi yhdistyksen yleisessä kokouksessa\,toimita esitys kirjallisena kerhon hallitukselle 8.3.2024 mennessä.
URL:https://www.tfmk.com/tapahtuma/tfmk-kevatkokous-pirtti/
ATTACH;FMTTYPE=image/jpeg:https://www.tfmk.com/wp-content/uploads/2024/01/lataa-e1705488904162.jpg
END:VEVENT
BEGIN:VEVENT
DTSTART;TZID=Europe/Helsinki:20240408T180000
DTEND;TZID=Europe/Helsinki:20240408T200000
DTSTAMP:20260425T155047
CREATED:20240306T095050Z
LAST-MODIFIED:20240306T095055Z
UID:10000752-1712599200-1712606400@www.tfmk.com
SUMMARY:Kahvi-ilta\, vieraana Autoliitto
DESCRIPTION:Maanantain kahvi-illassa on vieraana Autoliitosta Susanna Suokonautio-Hynninen. Hän kertoo ajankohtaista tietoa muuttuneista liikennemääräyksistä Baltian maissa\, Itävallassa\, Italiassa\,  Ruotsissa\, Tanskassa ja Saksassa. \n\n\n\nTervetuloa mukaan!
URL:https://www.tfmk.com/tapahtuma/kahvi-ilta-vieraana-autoliitto/
ATTACH;FMTTYPE=image/jpeg:https://www.tfmk.com/wp-content/uploads/2016/01/AL-autoliitto-logo3D_web.jpg
END:VEVENT
BEGIN:VEVENT
DTSTART;TZID=Europe/Helsinki:20240325T180000
DTEND;TZID=Europe/Helsinki:20240325T200000
DTSTAMP:20260425T155047
CREATED:20240306T094501Z
LAST-MODIFIED:20240310T101616Z
UID:10000751-1711389600-1711396800@www.tfmk.com
SUMMARY:Kahvi-ilta\, esittelyssä Silverfox controller'in navigoinnin apuväline
DESCRIPTION:Kahvipannu jälleen kuumana Pirtillä\, Metsäpirtintie 1\, Espoo. Kerhoillassa Silver Fox Controllersin edustajat tulevat kertomaan jo MP24 messuilla esillä olleista uusista navigoinnin apulaitteista. SFC on kehittänyt moton ohjaustankoon tulevan navigaattoriohjelman ”etäohjaus” laitteen\, jolla helposti pystyy navigaattoria käyttämään ja ohjaamaan helposti hanskat kädessä\, ilman navilaitteen tökkimistä. Laite toimii myös langattomasti bluetooth yhteydellä\, kiinteän yhteyden lisäksi. SFC on myös DMD tuotteiden jälleenmyyjä\, esillä on motokäyttöön tehty 8″ navigaattori\, Android tabletti. Tule kuulemaan viimeisimmät uutiset navigointitekniikasta! Kts lisää www.silverfoxcontrollers.com
URL:https://www.tfmk.com/tapahtuma/kahvi-ilta-esittelyssa-silverfox-controller/
ATTACH;FMTTYPE=image/jpeg:https://www.tfmk.com/wp-content/uploads/2024/03/218_8816-scaled.jpg
END:VEVENT
BEGIN:VEVENT
DTSTART;TZID=Europe/Helsinki:20240311T180000
DTEND;TZID=Europe/Helsinki:20240311T200000
DTSTAMP:20260425T155047
CREATED:20240117T073711Z
LAST-MODIFIED:20240118T074719Z
UID:10000741-1710180000-1710187200@www.tfmk.com
SUMMARY:Kahvi-illassa vieraana PeterPanBike
DESCRIPTION:Tervetuloa kuuntelemaan kahvikupposen äärelle infoa Touringin ja PeterPanBiken yhteistyö-matkasta Andalusiaan lokakuussa. Osoite Metsäpirtintie 1\, Espoo
URL:https://www.tfmk.com/tapahtuma/kahvi-illassa-vieraana-peterpanbike/
ATTACH;FMTTYPE=image/png:https://www.tfmk.com/wp-content/uploads/2021/04/varillinen_logo-e1705564026835.png
END:VEVENT
BEGIN:VEVENT
DTSTART;TZID=Europe/Helsinki:20240304T180000
DTEND;TZID=Europe/Helsinki:20240304T200000
DTSTAMP:20260425T155047
CREATED:20240118T074508Z
LAST-MODIFIED:20240123T130925Z
UID:10000747-1709575200-1709582400@www.tfmk.com
SUMMARY:Kahvi-ilta\, vieraana IF-vakuutus
DESCRIPTION:If-vakuutuksesta Eija Kaisio tulee kertomaan matkaturvasta Euroopassa. Kahvipannu tuttuun tapaan kuumana. Tervetuloa mukaan!
URL:https://www.tfmk.com/tapahtuma/kahvi-ilta-vieraana-if-vakuutus/
ATTACH;FMTTYPE=image/jpeg:https://www.tfmk.com/wp-content/uploads/2022/03/If_Logotype_Blue_RGB-1200px.jpg
END:VEVENT
BEGIN:VEVENT
DTSTART;TZID=Europe/Helsinki:20240302T140000
DTEND;TZID=Europe/Helsinki:20240302T170000
DTSTAMP:20260425T155047
CREATED:20240216T135255Z
LAST-MODIFIED:20240216T135256Z
UID:10000750-1709388000-1709398800@www.tfmk.com
SUMMARY:Motobowling!
DESCRIPTION:HMPK:n järjestämä leikkimielinen hohtokeilaus tapahtuma! TFMK osallistuu 1–2 joukkueella\, tule mukaan ja jos et keilaa\, tule kannustamaan! \n\n\n\nKeilauspaikka:– Mosabowling\, osoite Erätie 3\, Helsinki\, ja tarkemmat tiedot: https://mosabowling.fi/Tapahtuman ajankohta:-lauantaina 2.3.2024\, klo 14–15\, kaikki hallin radat on varattu tunniksi.  \n\n\n\nHMPK:n järjestämään Motobowling turnaukseen ovat ilmoittautuneet:– Helsingin Moottoripyöräilijäkerho – HMPK– Mopoilevat nuoret ry– Ladies’ Bike Club /WIMA Finland ry– Intruder Club Finland ry (ICF)\, Etelä– Touring Finlandia Moottorikerho ry ja– Widows Son’s. \n\n\n\nTapahtuman palkintojen jako ja jatkot ovat lähellä sijaitsevassa HMPK:n kerhotilassa\, osoitteessa Vanha Tapanilantie 77\, Helsinki.Tule mukaan!Jos olet kiinnostunut osallistumaan keilaukseen\, ota yhteyttä sähköpostilla palaute@tfmk.com
URL:https://www.tfmk.com/tapahtuma/motobowling/
CATEGORIES:Jäsentapahtuma
ATTACH;FMTTYPE=image/jpeg:https://www.tfmk.com/wp-content/uploads/2024/02/Bowling.jpeg
END:VEVENT
BEGIN:VEVENT
DTSTART;TZID=Europe/Helsinki:20240226T180000
DTEND;TZID=Europe/Helsinki:20240226T200000
DTSTAMP:20260425T155047
CREATED:20240216T092717Z
LAST-MODIFIED:20240216T133250Z
UID:10000749-1708970400-1708977600@www.tfmk.com
SUMMARY:Kahvi-ilta Pirtillä; vieraana HMPK (Helsingin moottoripyöräkerho)
DESCRIPTION:Tule tapaamaan ja tutustumaan HMPK:n jäseniin ja viettämään mukava kerhoilta kahvikupposen ääressä. Ohjelmassa mm. TFMK kerhoesittely ja Suomi on Saari esitys; jos et mp-messuilla niitä nähnyt\, tule nyt!
URL:https://www.tfmk.com/tapahtuma/kahvi-ilta-pirtilla-vieraana-hmpk-helsingin-moottoripyorakerho/
ATTACH;FMTTYPE=image/png:https://www.tfmk.com/wp-content/uploads/2023/02/HMPK_tunnus_pngmuodossa.png
END:VEVENT
BEGIN:VEVENT
DTSTART;TZID=Europe/Helsinki:20240212T180000
DTEND;TZID=Europe/Helsinki:20240212T200000
DTSTAMP:20260425T155047
CREATED:20240117T065831Z
LAST-MODIFIED:20240118T074843Z
UID:10000739-1707760800-1707768000@www.tfmk.com
SUMMARY:Kahvi-illassa vieraana Hostelli-järjestö
DESCRIPTION:Tervetuloa kuuntelemaan infoa hostelleista niin kotimaassa kuin ulkomailtakin. Hostelli-vinkkejä tulee ainakin Itävallasta sekä Tanskasta. Suomen hostelli-järjestöstä paikalla on Sanni Viirto.  \n\n\n\nKahvitarjoilu tuttuun tapaan!
URL:https://www.tfmk.com/tapahtuma/kahvi-illassa-vieraana-hostelli-jarjesto/
ATTACH;FMTTYPE=image/jpeg:https://www.tfmk.com/wp-content/uploads/2022/03/a06b8ac2-6712-309d-9155-7c00684be32b.jpg
END:VEVENT
BEGIN:VEVENT
DTSTART;TZID=Europe/Helsinki:20240205T180000
DTEND;TZID=Europe/Helsinki:20240205T200000
DTSTAMP:20260425T155047
CREATED:20240117T070103Z
LAST-MODIFIED:20240117T070105Z
UID:10000740-1707156000-1707163200@www.tfmk.com
SUMMARY:Kahvi-ilta Pirtillä
DESCRIPTION:Pirtillä\, Metsäpirtintie 1\, Espoo\, kahvipannu kuumana tourinkilaisille. Tervetuloa!
URL:https://www.tfmk.com/tapahtuma/kahvi-ilta-pirtilla-3/
ATTACH;FMTTYPE=image/jpeg:https://www.tfmk.com/wp-content/uploads/2022/03/e2e14999-cdf5-ba06-c98b-08a09e0fcaf4.jpg
END:VEVENT
BEGIN:VEVENT
DTSTART;TZID=Europe/Helsinki:20240203T180000
DTEND;TZID=Europe/Helsinki:20240203T233000
DTSTAMP:20260425T155047
CREATED:20231203T111718Z
LAST-MODIFIED:20231203T111720Z
UID:10000734-1706983200-1707003000@www.tfmk.com
SUMMARY:Messubileet\, ravintola Juttutupa
DESCRIPTION:Tule mukaan jatkamaan MP-messulauantaita Touringin perinteisiin messubileisiin. Messujen jatkoja vietetään ravintola Juttutuvassa\, Säästöpankinranta 6\, Helsinki klo 18 alkaen.  \n\n\n\nIllan musiikista vastaa The Kokoma Kings klo 19 alkaen.  \n\n\n\nIllalliskortin hinta on 25 eur ja menuvaihtoehtoina:– Paahdettua maissikananrintaa\, tomaattista vihanneshöystöä\, polentaa ja basilikaaJuttutuvan klassikkohampurilainen Black Angus -rotukarjanlihasta valmistettu täyslihapihvi\, Jukolan juuston cheddaria\, pekonia\, salaattia\, tomaattia\, suolakurkkua\, chilimajoneesia\, marinoitua punasipulia\, briossisämpylä ja maalaisranskalaiset.  \n\n\n\nSitovat ilmoittautumiset tästä linkistä –>  https://www.flomembers.com/touring-finlandia/events/register/42a0e188f5033bc65bf8d78622277c4e
URL:https://www.tfmk.com/tapahtuma/messubileet-ravintola-juttutupa/
ATTACH;FMTTYPE=image/jpeg:https://www.tfmk.com/wp-content/uploads/2023/12/juttutupa.jpg
END:VEVENT
BEGIN:VEVENT
DTSTART;TZID=Europe/Helsinki:20240202T100000
DTEND;TZID=Europe/Helsinki:20240204T170000
DTSTAMP:20260425T155047
CREATED:20231114T152857Z
LAST-MODIFIED:20240126T071335Z
UID:10000731-1706868000-1707066000@www.tfmk.com
SUMMARY:MP24 -messut\, Helsingin messukeskus
DESCRIPTION:Tourinki on jälleen omalla osastolla 6 c 30 mukana MP-messuilla Tie Vie -alueen tuntumassa. Tie Vie -alueen lavalla on kuultavana myös meidän kerholaisten matkakertomuksia kuvien kera. \n\n\n\nTule moikkaamaan Touringin osastolle\, nähdään messuilla!
URL:https://www.tfmk.com/tapahtuma/mp24-messut-helsingin-messukeskus/
ATTACH;FMTTYPE=image/jpeg:https://www.tfmk.com/wp-content/uploads/2022/10/mp23-e1664613002213.jpg
END:VEVENT
BEGIN:VEVENT
DTSTART;TZID=Europe/Helsinki:20240129T180000
DTEND;TZID=Europe/Helsinki:20240129T200000
DTSTAMP:20260425T155047
CREATED:20240116T120941Z
LAST-MODIFIED:20240116T120943Z
UID:10000738-1706551200-1706558400@www.tfmk.com
SUMMARY:Kahvi-ilta Pirtillä
DESCRIPTION:Tervetuloa kahvittelemaan hyvässä seurassa Pirtille\, Metsäpirtintie 1\, Espoo!
URL:https://www.tfmk.com/tapahtuma/kahvi-ilta-pirtilla-2/
ATTACH;FMTTYPE=image/jpeg:https://www.tfmk.com/wp-content/uploads/2022/03/e2e14999-cdf5-ba06-c98b-08a09e0fcaf4.jpg
END:VEVENT
BEGIN:VEVENT
DTSTART;TZID=Europe/Helsinki:20240122T180000
DTEND;TZID=Europe/Helsinki:20240122T200000
DTSTAMP:20260425T155047
CREATED:20240116T120759Z
LAST-MODIFIED:20240116T120800Z
UID:10000737-1705946400-1705953600@www.tfmk.com
SUMMARY:Kahvi-ilta Pirtillä
DESCRIPTION:Tervetuloa vaihtamaan kuulumisia kahvittelun merkeissä. Osoite Metsäpirtintie 1\, Espoo
URL:https://www.tfmk.com/tapahtuma/kahvi-ilta-pirtilla/
ATTACH;FMTTYPE=image/jpeg:https://www.tfmk.com/wp-content/uploads/2022/03/e2e14999-cdf5-ba06-c98b-08a09e0fcaf4.jpg
END:VEVENT
END:VCALENDAR