BEGIN:VCALENDAR
VERSION:2.0
PRODID:-//TFMK - ECPv6.15.20//NONSGML v1.0//EN
CALSCALE:GREGORIAN
METHOD:PUBLISH
X-ORIGINAL-URL:https://www.tfmk.com
X-WR-CALDESC:Tapahtumat TFMK
REFRESH-INTERVAL;VALUE=DURATION:PT1H
X-Robots-Tag:noindex
X-PUBLISHED-TTL:PT1H
BEGIN:VTIMEZONE
TZID:Europe/Helsinki
BEGIN:DAYLIGHT
TZOFFSETFROM:+0200
TZOFFSETTO:+0300
TZNAME:EEST
DTSTART:20250330T010000
END:DAYLIGHT
BEGIN:STANDARD
TZOFFSETFROM:+0300
TZOFFSETTO:+0200
TZNAME:EET
DTSTART:20251026T010000
END:STANDARD
BEGIN:DAYLIGHT
TZOFFSETFROM:+0200
TZOFFSETTO:+0300
TZNAME:EEST
DTSTART:20260329T010000
END:DAYLIGHT
BEGIN:STANDARD
TZOFFSETFROM:+0300
TZOFFSETTO:+0200
TZNAME:EET
DTSTART:20261025T010000
END:STANDARD
BEGIN:DAYLIGHT
TZOFFSETFROM:+0200
TZOFFSETTO:+0300
TZNAME:EEST
DTSTART:20270328T010000
END:DAYLIGHT
BEGIN:STANDARD
TZOFFSETFROM:+0300
TZOFFSETTO:+0200
TZNAME:EET
DTSTART:20271031T010000
END:STANDARD
END:VTIMEZONE
BEGIN:VEVENT
DTSTART;TZID=Europe/Helsinki:20260628T080000
DTEND;TZID=Europe/Helsinki:20260716T170000
DTSTAMP:20260425T131959
CREATED:20260204T102231Z
LAST-MODIFIED:20260204T102233Z
UID:10000867-1782633600-1784221200@www.tfmk.com
SUMMARY:XXIII Alppikierros
DESCRIPTION:Perinteinen Alppikierros jälleen heinäkuun alussa. Lisätiedot Kari Raisaari\, kari.raisaari@spkoti.fi
URL:https://www.tfmk.com/tapahtuma/xxiii-alppikierros/
ATTACH;FMTTYPE=image/jpeg:https://www.tfmk.com/wp-content/uploads/2022/01/alppikierros.jpg
END:VEVENT
BEGIN:VEVENT
DTSTART;TZID=Europe/Helsinki:20260705T120000
DTEND;TZID=Europe/Helsinki:20260708T120000
DTSTAMP:20260425T131959
CREATED:20260204T090110Z
LAST-MODIFIED:20260204T090112Z
UID:10000864-1783252800-1783512000@www.tfmk.com
SUMMARY:5. – 8.7.2026. Touring Treffen\, Livigno Italia
DESCRIPTION:Kohtaaminen Italian Alpeilla\, Livignossa.Majoitumme Hotel La Montaninassa sunnuntaista keskiviikkoon\, majoituksen hintaan kuuluu aamiainen.Ohjelmaa:• ajoretkiä (Alppikierroksen reitit käytettävissä)• vaellusta ja vuoristokävelyä• kylpylässä käynti• taxfree ostoksia• yhteisiä illallisia yms. \n\n\n\nIlmoittautuminenSitovat ilmoittautumiset Kari Raisaarelle 1.3.2026 mennessä tai niin kauan kuin hotellissa on tilaa (täytetään ilmoittautumisjärjestyksessä)\, osoitteella kari.raisaari@spkoti.fi \n\n\n\nMajoitushinnat Hotel La MontaninassaMajoitushinta/vrk 2hh tai 3hh\, 75 €/hlö tai 1hh 95 €/hlö.Sisältää aamiaisen\, tallin käytön moottoripyörälle. Illalliset eivät kuulu hintaan. Jos suunnittelet omatoimimatkaa Alpeille tai Italiaan yms.\, poikkea Livingoon treffeille! \n\n\n\nHuom.Livigno on yksi kevään 2026 olympiakylistä. Se on lumilautailun ja freestylen tapahtumapaikka 6.-15.3. 2026 Cortinan olympialaisissa \n\n\n\nwww.olympics.com/en/milano-cortina-2026/territories/livigno
URL:https://www.tfmk.com/tapahtuma/5-8-7-2026-touring-treffen-livigno-italia/
ATTACH;FMTTYPE=image/jpeg:https://www.tfmk.com/wp-content/uploads/2026/02/Touring-Treffen-ilmon-kuva-pieni.jpg
END:VEVENT
BEGIN:VEVENT
DTSTART;TZID=Europe/Helsinki:20260811T140000
DTEND;TZID=Europe/Helsinki:20260814T120000
DTSTAMP:20260425T131959
CREATED:20260204T102623Z
LAST-MODIFIED:20260204T102625Z
UID:10000868-1786456800-1786708800@www.tfmk.com
SUMMARY:FIM Mototour of Nations\, Imatra
DESCRIPTION:Kansainvälinen FIM Mototour od Nations rantautuu ensimmäistä kertaa pohjoismaihin ja Touringilla on kunnia olla järjestämässä tapahtumaa. \n\n\n\nLisätiedot tapahtumasivuiltahttps://fim-mototour2026.com/
URL:https://www.tfmk.com/tapahtuma/fim-mototour-of-nations-imatra/
ATTACH;FMTTYPE=image/png:https://www.tfmk.com/wp-content/uploads/2026/01/Mototour-Imatra-logo.png
END:VEVENT
BEGIN:VEVENT
DTSTART;TZID=Europe/Helsinki:20260813T140000
DTEND;TZID=Europe/Helsinki:20260816T120000
DTSTAMP:20260425T131959
CREATED:20260204T102943Z
LAST-MODIFIED:20260413T070832Z
UID:10000869-1786629600-1786881600@www.tfmk.com
SUMMARY:Kerhoralli\, Imatran Kylpylä
DESCRIPTION:Tämän vuoden kerhorallia vietetään Imatralla. Kisakeskuksena toimii Imatran Kylpylä.  \n\n\n\nIlmoittautuminen on nyt auki ! https://core.flomembers.com/touring-finlandia/events/register/96f9f38d6e799ecb1b7742c9a79191ee
URL:https://www.tfmk.com/tapahtuma/kerhoralli-imatran-kylpyla/
ATTACH;FMTTYPE=image/jpeg:https://www.tfmk.com/wp-content/uploads/2026/01/Imatran-Kylpyla-CMYK-LOGO.jpg
END:VEVENT
BEGIN:VEVENT
DTSTART;TZID=Europe/Helsinki:20260828T150000
DTEND;TZID=Europe/Helsinki:20260915T100000
DTSTAMP:20260425T131959
CREATED:20251026T113034Z
LAST-MODIFIED:20260206T080617Z
UID:10000846-1787929200-1789466400@www.tfmk.com
SUMMARY:Eurooppa Tournee 2026\, TÄYNNÄ!
DESCRIPTION:Vuoden 2026 mp-matka suuntautuu Italiaan saakka. Matkan kesto on 18 päivää\, lähtö perjantaina 28.8. Vuosaaresta ja paluu tiistaina 15.9. Vuosaareen. Jokainen varaa laivamatkat itse tai voi saapua Saksaan myös muita reittejä.  \n\n\n\nAlustava reitti: \n\n\n\nPe 28.8. Hki – Travemünde\, Saksa (Finnlines lähtö 28.8. klo 15)La 29.8. Meripäivä ja saapuminen Travemündeen klo 21Su 30.8 Travemünde – Karlsruhe\, 690 km (ajetaan pääasiassa baanaa)Ma 31.8. KarlsruheMa 1.9. Karlsruhe – Friedrichshafen\, 240 kmKe 2.9. Friedrichshafen – Davos\, Sveitsi\, 160 km          To 3.9 Davos – Como (Como-järvi)\, Italia\, 200 kmPe 4.9. ComoLa 5.9. Como – Peschiera del Garda (Garda-järvi)\, 240 kmSu 6.9. Peschiera del GardaMa 7.9. Peschiera del GardaTi 8.9. Peschiera del Garda – Passo Sella – Cortina d´Ampezzo\, 220 kmKe 9.9. Cortina d´Ampezzo – Salzburg\, Itävalta\, 260 kmTo 10.9. SalzburgPe 11.9. Salzburg – Karlovy Vary\, Tsekki\, 285 kmLa 12.9. Karlovy Vary – Leipzig\, Saksa\, 180 kmSu 13.9. Leipzig – Trave\, 440 km (Finnlines lähtö 14.9. klo 02)Ma 14.9. meripäiväTi 15.9. Helsinki \n\n\n\nMatkalla on viisi ”vapaapäivää”\, jolloin ei siirrytä uuteen paikkaan\, vaan on aikaa tutustua kaupunkiin tai käydä omatoimisesti ajoretkellä. \n\n\n\nTälle matkalle lähtiessäsi huolehdithan\, että sekä pyörä että kuski ovat kunnossa ja vakuutukset voimassa 🙂 Ensimmäinen ajopäivällä on pituutta lähes 700 km ja ajamme pääsääntöisesti tämän päivän moottoriteitä\, joten se vaatii kuljettajalta jaksamista ja pitkäkestoista tarkkaavaisuutta. Samoin Alppien ylitykset voivat olla haastavampia teitä. \n\n\n\nIlmoittautuminen 31.3.2026 mennessä tai niin kauan kuin paikkoja riittää. Pyörämäärä on tänä vuonna rajoitettu 16 moottoripyörään matkan pituuden vuoksi. Maksimipyörämäärän täytyttyä ilmoittautuja jää jonopaikalle. Paikkojen vapauduttua jonopaikalla olijoihin ollaan yhteydessä ilmoittautumisjärjestyksessä. \n\n\n\nTiedustelut ja lisätiedot:Antti puh. 0440 639 744Sari puh. 044 363 7759 tai e-mail: sari.laurell@tfmk.com \n\n\n\nilmoittautumaan pääset tästä linkistä https://core.flomembers.com/touring-finlandia/events/register/06409663226af2f3114485aa4e0a23b4
URL:https://www.tfmk.com/tapahtuma/eurooppa-tournee-2026/
ATTACH;FMTTYPE=image/jpeg:https://www.tfmk.com/wp-content/uploads/2025/10/facebook_1761553318930_7388490131802350628.jpg
END:VEVENT
BEGIN:VEVENT
DTSTART;TZID=Europe/Helsinki:20260919T130000
DTEND;TZID=Europe/Helsinki:20260920T120000
DTSTAMP:20260425T131959
CREATED:20260212T102355Z
LAST-MODIFIED:20260212T102551Z
UID:10000871-1789822800-1789905600@www.tfmk.com
SUMMARY:Ajokauden 2026 päätös
DESCRIPTION:NAKKILAN VERSTAS \n\n\n\n \n\n\n\n29270 Nakkila \n\n\n\nwww.nakkilanverstas.fi
URL:https://www.tfmk.com/tapahtuma/ajokauden-2026-paatos/
LOCATION:Nakkilan Verstas\, Pyssykankaantie 170\, Nakkila\, 29270\, Finland
ATTACH;FMTTYPE=image/avif:https://www.tfmk.com/wp-content/uploads/2026/02/Verstas_logo_www.avif
END:VEVENT
END:VCALENDAR