BEGIN:VCALENDAR
VERSION:2.0
PRODID:-//TFMK - ECPv6.15.20//NONSGML v1.0//EN
CALSCALE:GREGORIAN
METHOD:PUBLISH
X-WR-CALNAME:TFMK
X-ORIGINAL-URL:https://www.tfmk.com
X-WR-CALDESC:Tapahtumat TFMK
REFRESH-INTERVAL;VALUE=DURATION:PT1H
X-Robots-Tag:noindex
X-PUBLISHED-TTL:PT1H
BEGIN:VTIMEZONE
TZID:Europe/Helsinki
BEGIN:DAYLIGHT
TZOFFSETFROM:+0200
TZOFFSETTO:+0300
TZNAME:EEST
DTSTART:20250330T010000
END:DAYLIGHT
BEGIN:STANDARD
TZOFFSETFROM:+0300
TZOFFSETTO:+0200
TZNAME:EET
DTSTART:20251026T010000
END:STANDARD
BEGIN:DAYLIGHT
TZOFFSETFROM:+0200
TZOFFSETTO:+0300
TZNAME:EEST
DTSTART:20260329T010000
END:DAYLIGHT
BEGIN:STANDARD
TZOFFSETFROM:+0300
TZOFFSETTO:+0200
TZNAME:EET
DTSTART:20261025T010000
END:STANDARD
BEGIN:DAYLIGHT
TZOFFSETFROM:+0200
TZOFFSETTO:+0300
TZNAME:EEST
DTSTART:20270328T010000
END:DAYLIGHT
BEGIN:STANDARD
TZOFFSETFROM:+0300
TZOFFSETTO:+0200
TZNAME:EET
DTSTART:20271031T010000
END:STANDARD
END:VTIMEZONE
BEGIN:VEVENT
DTSTART;TZID=Europe/Helsinki:20260427T180000
DTEND;TZID=Europe/Helsinki:20260427T200000
DTSTAMP:20260424T220529
CREATED:20260325T121211Z
LAST-MODIFIED:20260325T121213Z
UID:10000880-1777312800-1777320000@www.tfmk.com
SUMMARY:Kevätkauden kahvi-iltojen päätös Pirtillä
DESCRIPTION:Perinteisiä kevätkauden kahvi-iltojen päätöstä vietetään Pirtillä\, Metsäpirtintie 1\, Espoo klo 18 alkaen. Grilli kuumana ja illan aikana myös ensiapukoulutusta tarjolla. Tule mukaan!
URL:https://www.tfmk.com/tapahtuma/kevatkauden-kahvi-iltojen-paatos-pirtilla/
ATTACH;FMTTYPE=image/jpeg:https://www.tfmk.com/wp-content/uploads/2023/02/TFMK_logo_ymp_4v-e1702977208440.jpg
END:VEVENT
END:VCALENDAR