BEGIN:VCALENDAR
VERSION:2.0
PRODID:-//TFMK - ECPv6.15.20//NONSGML v1.0//EN
CALSCALE:GREGORIAN
METHOD:PUBLISH
X-WR-CALNAME:TFMK
X-ORIGINAL-URL:https://www.tfmk.com
X-WR-CALDESC:Tapahtumat TFMK
REFRESH-INTERVAL;VALUE=DURATION:PT1H
X-Robots-Tag:noindex
X-PUBLISHED-TTL:PT1H
BEGIN:VTIMEZONE
TZID:Europe/Helsinki
BEGIN:DAYLIGHT
TZOFFSETFROM:+0200
TZOFFSETTO:+0300
TZNAME:EEST
DTSTART:20250330T010000
END:DAYLIGHT
BEGIN:STANDARD
TZOFFSETFROM:+0300
TZOFFSETTO:+0200
TZNAME:EET
DTSTART:20251026T010000
END:STANDARD
BEGIN:DAYLIGHT
TZOFFSETFROM:+0200
TZOFFSETTO:+0300
TZNAME:EEST
DTSTART:20260329T010000
END:DAYLIGHT
BEGIN:STANDARD
TZOFFSETFROM:+0300
TZOFFSETTO:+0200
TZNAME:EET
DTSTART:20261025T010000
END:STANDARD
BEGIN:DAYLIGHT
TZOFFSETFROM:+0200
TZOFFSETTO:+0300
TZNAME:EEST
DTSTART:20270328T010000
END:DAYLIGHT
BEGIN:STANDARD
TZOFFSETFROM:+0300
TZOFFSETTO:+0200
TZNAME:EET
DTSTART:20271031T010000
END:STANDARD
END:VTIMEZONE
BEGIN:VEVENT
DTSTART;TZID=Europe/Helsinki:20260509T113000
DTEND;TZID=Europe/Helsinki:20260509T180000
DTSTAMP:20260424T222100
CREATED:20260302T085556Z
LAST-MODIFIED:20260317T075100Z
UID:10000873-1778326200-1778349600@www.tfmk.com
SUMMARY:Ajoharjoittelu Ahvenistolla
DESCRIPTION:Tervetuloa TFMK:n ja Nummelan Moottorikerho ry yhteiseen ajoharjoitteluun Ahvenisto Race Circuit moottoriradalle Hämeenlinnaan 9.5.2026. \n\n\n\nTapahtumamaksu on 50 €.  \n\n\n\nRata on varattuna klo 12-18 ja ajajakokous pidetään klo 11:30\, jotta päästään sujuvasti ajamaan heti  klo 12. Toivomme saapumista ennen klo 11:00\, jotta ehditään tekemään melumittaus (max95db) hyvissä ajoin. Myöhemmin tulleille pidetään myöhemmin ajajakokous\, radalle ei pääse ajamaan ilman ajajakokouksen informaatiota. Ruokailu on radan uudistuneessa kahviossa.  \n\n\n\nRadalla ajetaan kahdessa ryhmässä nopea ja hidas. Ryhmää voi vaihtaa kesken päivän tuntemusten mukaan ilmoittamalla ratahenkilökunnalle. Vakuutusten voimassa olo on varmistettava itse omasta vakuutusyhtiöstä. Radalla ajetaan vain moottoripyöräilyyn tarkoitetuissa ajovarusteissa. Suosittelemme nahkapukua. Pyörän pitää olla liikennevakuutettu. \n\n\n\nKahviosta saa päivän mittaan ruokaa ja naposteltavaa. \n\n\n\nSitovat ilmoittautumiset 5.5.2026 mennessä alla olevan linkin kautta \n\n\n\nhttps://core.flomembers.com/touring-finlandia/events/register/f49edddba2de3979de79529dad9d5e4b \n\n\n\n\n\n\n\nPäivämäärä: 09.05.2026 11:30 – 18:00 \n\n\n\nTapahtumapaikka: Ahvenisto Race Circuit Poltinahontie 47 13130 Hämeenlinna \n\n\n\nJärjestäjä: Touring Finlandia MK ry/Niila Lehtivaara \n\n\n\nSähköposti: niila.lehtivaara@tfmk.com
URL:https://www.tfmk.com/tapahtuma/ajoharjoittelu-ahvenistolla-9-5-2026-klo-11-30-18-00/
ATTACH;FMTTYPE=image/jpeg:https://www.tfmk.com/wp-content/uploads/2021/04/ahvenisto-1.jpg
END:VEVENT
BEGIN:VEVENT
DTSTART;TZID=Europe/Helsinki:20260513T170000
DTEND;TZID=Europe/Helsinki:20260513T200000
DTSTAMP:20260424T222100
CREATED:20260325T121717Z
LAST-MODIFIED:20260325T121719Z
UID:10000881-1778691600-1778702400@www.tfmk.com
SUMMARY:KS-alue: ilta-ajo Kahvila Satamakapteeni\, Korpilahti
DESCRIPTION:Keski-Suomen alueen ilta-ajojen ensimmäinen kohde on Korpilahden kahvila Satamakapteeni. Lähtö klo 17 Neste Kirri\, Kirrintie 2. 40270 Jyväskylä. Lisätiedot Claus Jörgensen\, p. 040 745 3888.
URL:https://www.tfmk.com/tapahtuma/ks-alue-ilta-ajo-kahvila-satamakapteeni-korpilahti/
ATTACH;FMTTYPE=image/jpeg:https://www.tfmk.com/wp-content/uploads/2026/03/Satamakapteeni_1-1200x800-1.jpg
END:VEVENT
BEGIN:VEVENT
DTSTART;TZID=Europe/Helsinki:20260514T090000
DTEND;TZID=Europe/Helsinki:20260514T170000
DTSTAMP:20260424T222100
CREATED:20260131T083151Z
LAST-MODIFIED:20260131T195953Z
UID:10000861-1778749200-1778778000@www.tfmk.com
SUMMARY:MPEAK\, Lavangon rata
DESCRIPTION:MP ennakoivan ajon koulutus järjestetään tänä vuonna helatorstaina yksi päiväisenä tapahtumana. Aamu aloitetaan teoriaosuudella ja tämän jälkeen siirrytään rataharjoitteluun. \n\n\n\nAjoharjoittelu pidetään kokonaisuudessaan Lavangon ajoharjoitteluradalla\, Myllykyläntie 1\, Vantaa. Kuljettajat jaetaan ryhmiin pyörätyyppien mukaan. Naiskuljettajille tulee oma ryhmä\, jos osallistujia on riittävästi. \n\n\n\nKoulutuksen hinta kuljettajalta 80 eur ja kyytiläiseltä 35 eur. Hinta sisältää koulutuksen\, ajoharjoittelun sekä lounaan ja aamukahvit. Osallistuminen edellyttää Touring Finlandian jäsenyyttä. \n\n\n\nIlmoittautumiset 7.5.2026 mennessä alla olevan linkin kauttahttps://core.flomembers.com/touring-finlandia/events/register/fa7cdfad1a5aaf8370ebeda47a1ff1c3 \n\n\n\nLisätiedot ja tiedustelut niila.lehtivaara@tfmk.com
URL:https://www.tfmk.com/tapahtuma/mpeak-lavangon-rata/
ATTACH;FMTTYPE=image/jpeg:https://www.tfmk.com/wp-content/uploads/2022/01/MPEAK-150x150-1.jpg
END:VEVENT
BEGIN:VEVENT
DTSTART;TZID=Europe/Helsinki:20260515T140000
DTEND;TZID=Europe/Helsinki:20260517T120000
DTSTAMP:20260424T222100
CREATED:20251222T110608Z
LAST-MODIFIED:20260409T075807Z
UID:10000852-1778853600-1779019200@www.tfmk.com
SUMMARY:ILMOITTAUTUMINEN SULJETTU; TÄYNNÄ! Ajokauden avaus Pühajärve SPA hotel\, Otepää
DESCRIPTION:Tervetuloa viettämään Touringin virallista ajokauden avausta Viron Otepäähän Pühajärven kylpylähotelliin\, Pühajärve\, 67414 Valgamaa.Katso lisää hotellista tästä! \n\n\n\nOhjelma tarkentuu lähempänä. Lauantaina tehdään ajoretki\, jonka aikataulu ja reitti myös ilmoitetaan myöhemmin.Tapahtuman hinnat\, majoituksittain:Kahden hengen huoneessa – pe-su 150 eur/hlö – la-su 75 eur/hlöYhden hengen huoneessa – pe-su 230 eur/hlö – la-su 115 eur/hlöHinnat sisältävät majoituksen valitussa huoneessa\, aamiaiset lauantaina ja sunnuntain sekä illalliset perjantaina ja lauantaina. \n\n\n\nIlmoittautumiset 19.4.2026 mennessä tämän linkin kautta
URL:https://www.tfmk.com/tapahtuma/ajokauden-avaus-puhajarve-spa-hotel-otepaa/
ATTACH;FMTTYPE=image/jpeg:https://www.tfmk.com/wp-content/uploads/2025/12/puhajarve.jpg
END:VEVENT
BEGIN:VEVENT
DTSTART;TZID=Europe/Helsinki:20260525T173000
DTEND;TZID=Europe/Helsinki:20260525T193000
DTSTAMP:20260424T222100
CREATED:20260308T160407Z
LAST-MODIFIED:20260308T160410Z
UID:10000877-1779730200-1779737400@www.tfmk.com
SUMMARY:Kerhovierailu: Vantaan Bike World
DESCRIPTION:Suuntaamme porukalla tutustumaan Bike World Vantaan valikoimaan ja uutuuksiin.  \n\n\n\nTämä on mainio tilaisuus päästä näkemään kauden kuumimmat moottoripyöräuutuudet ja varusteet saman katon alla.Aika: Maanantaina 25.5. klo 17.30Paikka: Bike World Vantaa\, Tuupakantie 7\, 01740 Vantaa \n\n\n\nMitä on luvassa?– Tutustumme myymälän laajaan mp-valikoimaan (mm. Honda\, Aprilia\, Moto Guzzi\, Vespa ja Zero). \n\n\n\n– Tutustumme myymälän ajovarusteisiin.– Mahdollisuus kysyä asiantuntijoilta huoltopalveluista ja varaosista.– Kerhokavereiden tapaamista ja ajokauden fiilistelyä. \n\n\n\nLiike sulkeutuu normaalisti klo 17.00\, joten olemme sopineet tästä vierailusta erikseen.  \n\n\n\nOlethan ajoissa paikalla! \n\n\n\nNähdään Tuupakantiellä!
URL:https://www.tfmk.com/tapahtuma/kerhovierailu-vantaan-bike-world/
ATTACH;FMTTYPE=image/jpeg:https://www.tfmk.com/wp-content/uploads/2015/11/bikeworld_logo184.jpg
ORGANIZER;CN="TFMK":MAILTO:palaute@tfmk.com
END:VEVENT
BEGIN:VEVENT
DTSTART;TZID=Europe/Helsinki:20260527T170000
DTEND;TZID=Europe/Helsinki:20260527T200000
DTSTAMP:20260424T222100
CREATED:20260409T090627Z
LAST-MODIFIED:20260409T090628Z
UID:10000889-1779901200-1779912000@www.tfmk.com
SUMMARY:KS-alue: Ilta-ajo ravintola Reetiin Luhangalle
DESCRIPTION:Keskiviikon ilta-ajo suuntautuu Luhangalle. Lähtö tutusti klo 17 Neste/Huili Kirri\, Kirrintie 2\, Jyväskylä.
URL:https://www.tfmk.com/tapahtuma/ks-alue-ilta-ajo-ravintola-reetiin-luhangalle/
ATTACH;FMTTYPE=image/jpeg:https://www.tfmk.com/wp-content/uploads/2026/04/ravintolareeti.jpg
END:VEVENT
END:VCALENDAR