BEGIN:VCALENDAR
VERSION:2.0
PRODID:-//TFMK - ECPv6.15.20//NONSGML v1.0//EN
CALSCALE:GREGORIAN
METHOD:PUBLISH
X-ORIGINAL-URL:https://www.tfmk.com
X-WR-CALDESC:Tapahtumat TFMK
REFRESH-INTERVAL;VALUE=DURATION:PT1H
X-Robots-Tag:noindex
X-PUBLISHED-TTL:PT1H
BEGIN:VTIMEZONE
TZID:Europe/Helsinki
BEGIN:DAYLIGHT
TZOFFSETFROM:+0200
TZOFFSETTO:+0300
TZNAME:EEST
DTSTART:20250330T010000
END:DAYLIGHT
BEGIN:STANDARD
TZOFFSETFROM:+0300
TZOFFSETTO:+0200
TZNAME:EET
DTSTART:20251026T010000
END:STANDARD
BEGIN:DAYLIGHT
TZOFFSETFROM:+0200
TZOFFSETTO:+0300
TZNAME:EEST
DTSTART:20260329T010000
END:DAYLIGHT
BEGIN:STANDARD
TZOFFSETFROM:+0300
TZOFFSETTO:+0200
TZNAME:EET
DTSTART:20261025T010000
END:STANDARD
BEGIN:DAYLIGHT
TZOFFSETFROM:+0200
TZOFFSETTO:+0300
TZNAME:EEST
DTSTART:20270328T010000
END:DAYLIGHT
BEGIN:STANDARD
TZOFFSETFROM:+0300
TZOFFSETTO:+0200
TZNAME:EET
DTSTART:20271031T010000
END:STANDARD
END:VTIMEZONE
BEGIN:VEVENT
DTSTART;TZID=Europe/Helsinki:20260302T180000
DTEND;TZID=Europe/Helsinki:20260302T200000
DTSTAMP:20260424T222134
CREATED:20260206T074117Z
LAST-MODIFIED:20260206T080510Z
UID:10000870-1772474400-1772481600@www.tfmk.com
SUMMARY:Kerhoilta Pirtillä
DESCRIPTION:Metsäpirtintie 1\, Espoo\, tuttuun tapaan kahvia tarjolla kerholaisille klo 18 alkaen. Tervetuloa!
URL:https://www.tfmk.com/tapahtuma/kerhoilta-pirtilla-23/
ATTACH;FMTTYPE=image/jpeg:https://www.tfmk.com/wp-content/uploads/2026/02/IMG_20260206_093636-scaled-e1770365093625.jpg
END:VEVENT
BEGIN:VEVENT
DTSTART;TZID=Europe/Helsinki:20260307T150000
DTEND;TZID=Europe/Helsinki:20260307T190000
DTSTAMP:20260424T222134
CREATED:20260204T100701Z
LAST-MODIFIED:20260204T100703Z
UID:10000865-1772895600-1772910000@www.tfmk.com
SUMMARY:MotoBowling
DESCRIPTION:HMPK:n järjestämä perinteinen MotoBowling-turnaus käydään maaliskuun lauantaina MosaBowling-radalla\, Erätie 3\, Helsinki. \n\n\n\nTourinki osallistuu kahden joukkueen voimin leikkimieliseen turnaukseen motoristien kesken. Tervetuloa kannustamaan tourinkilaiset loistosuorituksiin!
URL:https://www.tfmk.com/tapahtuma/motobowling-2/
ATTACH;FMTTYPE=image/png:https://www.tfmk.com/wp-content/uploads/2023/02/TFMK_logo_ymp_4v_pallo-1.png
END:VEVENT
BEGIN:VEVENT
DTSTART;TZID=Europe/Helsinki:20260309T180000
DTEND;TZID=Europe/Helsinki:20260309T200000
DTSTAMP:20260424T222134
CREATED:20260302T120007Z
LAST-MODIFIED:20260302T120011Z
UID:10000874-1773079200-1773086400@www.tfmk.com
SUMMARY:Kerhoilta; Tourstart koulutukset Pirtillä
DESCRIPTION:Tervetuloa Pirtille kerhoiltaan. Kolmena maanantaina maaliskuussa Kerhoilloissa on tunnin mittainen Tourstart-reittisuunnitteluohjelman käyttökoulutus. Koulutukseen pääsee osallistumaan myös Teamsin välityksellä. Linkki löytyy maaliskuun Uutiskirjeestä. Sama linkki toimii kaikkina kolmena maanantaina.
URL:https://www.tfmk.com/tapahtuma/kerhoilta-tourstart-koulutukset-pirtilla/2026-03-09/
ATTACH;FMTTYPE=image/jpeg:https://www.tfmk.com/wp-content/uploads/2023/02/TFMK_logo_ymp_4v-e1702977208440.jpg
END:VEVENT
BEGIN:VEVENT
DTSTART;TZID=Europe/Helsinki:20260316T180000
DTEND;TZID=Europe/Helsinki:20260316T200000
DTSTAMP:20260424T222134
CREATED:20260302T120007Z
LAST-MODIFIED:20260302T120011Z
UID:10000875-1773684000-1773691200@www.tfmk.com
SUMMARY:Kerhoilta; Tourstart koulutukset Pirtillä
DESCRIPTION:Tervetuloa Pirtille kerhoiltaan. Kolmena maanantaina maaliskuussa Kerhoilloissa on tunnin mittainen Tourstart-reittisuunnitteluohjelman käyttökoulutus. Koulutukseen pääsee osallistumaan myös Teamsin välityksellä. Linkki löytyy maaliskuun Uutiskirjeestä. Sama linkki toimii kaikkina kolmena maanantaina.
URL:https://www.tfmk.com/tapahtuma/kerhoilta-tourstart-koulutukset-pirtilla/2026-03-16/
ATTACH;FMTTYPE=image/jpeg:https://www.tfmk.com/wp-content/uploads/2023/02/TFMK_logo_ymp_4v-e1702977208440.jpg
END:VEVENT
BEGIN:VEVENT
DTSTART;TZID=Europe/Helsinki:20260323T180000
DTEND;TZID=Europe/Helsinki:20260323T200000
DTSTAMP:20260424T222134
CREATED:20260302T120007Z
LAST-MODIFIED:20260302T120011Z
UID:10000876-1774288800-1774296000@www.tfmk.com
SUMMARY:Kerhoilta; Tourstart koulutukset Pirtillä
DESCRIPTION:Tervetuloa Pirtille kerhoiltaan. Kolmena maanantaina maaliskuussa Kerhoilloissa on tunnin mittainen Tourstart-reittisuunnitteluohjelman käyttökoulutus. Koulutukseen pääsee osallistumaan myös Teamsin välityksellä. Linkki löytyy maaliskuun Uutiskirjeestä. Sama linkki toimii kaikkina kolmena maanantaina.
URL:https://www.tfmk.com/tapahtuma/kerhoilta-tourstart-koulutukset-pirtilla/2026-03-23/
ATTACH;FMTTYPE=image/jpeg:https://www.tfmk.com/wp-content/uploads/2023/02/TFMK_logo_ymp_4v-e1702977208440.jpg
END:VEVENT
BEGIN:VEVENT
DTSTART;TZID=Europe/Helsinki:20260330T180000
DTEND;TZID=Europe/Helsinki:20260330T200000
DTSTAMP:20260424T222134
CREATED:20260325T112208Z
LAST-MODIFIED:20260325T112210Z
UID:10000878-1774893600-1774900800@www.tfmk.com
SUMMARY:Kahvi-ilta Pirtillä
DESCRIPTION:Tervetuloa vaihtamaan kuulumisia kerhotilaan Pirtille\, Metsäpirtintie 1\, Espoo. Kahvia/teetä tarjolla ja mukavaa juttuseuraa!
URL:https://www.tfmk.com/tapahtuma/kahvi-ilta-pirtilla-13/
ATTACH;FMTTYPE=image/jpeg:https://www.tfmk.com/wp-content/uploads/2026/02/IMG_20260206_093636-scaled-e1770365093625.jpg
END:VEVENT
END:VCALENDAR