BEGIN:VCALENDAR
VERSION:2.0
PRODID:-//TFMK - ECPv6.15.20//NONSGML v1.0//EN
CALSCALE:GREGORIAN
METHOD:PUBLISH
X-ORIGINAL-URL:https://www.tfmk.com
X-WR-CALDESC:Tapahtumat TFMK
REFRESH-INTERVAL;VALUE=DURATION:PT1H
X-Robots-Tag:noindex
X-PUBLISHED-TTL:PT1H
BEGIN:VTIMEZONE
TZID:Europe/Helsinki
BEGIN:DAYLIGHT
TZOFFSETFROM:+0200
TZOFFSETTO:+0300
TZNAME:EEST
DTSTART:20240331T010000
END:DAYLIGHT
BEGIN:STANDARD
TZOFFSETFROM:+0300
TZOFFSETTO:+0200
TZNAME:EET
DTSTART:20241027T010000
END:STANDARD
BEGIN:DAYLIGHT
TZOFFSETFROM:+0200
TZOFFSETTO:+0300
TZNAME:EEST
DTSTART:20250330T010000
END:DAYLIGHT
BEGIN:STANDARD
TZOFFSETFROM:+0300
TZOFFSETTO:+0200
TZNAME:EET
DTSTART:20251026T010000
END:STANDARD
BEGIN:DAYLIGHT
TZOFFSETFROM:+0200
TZOFFSETTO:+0300
TZNAME:EEST
DTSTART:20260329T010000
END:DAYLIGHT
BEGIN:STANDARD
TZOFFSETFROM:+0300
TZOFFSETTO:+0200
TZNAME:EET
DTSTART:20261025T010000
END:STANDARD
END:VTIMEZONE
BEGIN:VEVENT
DTSTART;TZID=Europe/Helsinki:20251103T180000
DTEND;TZID=Europe/Helsinki:20251103T200000
DTSTAMP:20260425T054029
CREATED:20251007T093213Z
LAST-MODIFIED:20251015T121824Z
UID:10000845-1762192800-1762200000@www.tfmk.com
SUMMARY:Kahvi-ilta Pirtillä
DESCRIPTION:Metsäpirtintie 1\, Espoo tuttuun tapaan kahvipannu kuumana kerholaisille\, tervetuloa!
URL:https://www.tfmk.com/tapahtuma/kahvi-ilta-pirtilla-8/
ATTACH;FMTTYPE=image/jpeg:https://www.tfmk.com/wp-content/uploads/2023/02/TFMK_logo_ymp_4v-e1702977208440.jpg
END:VEVENT
BEGIN:VEVENT
DTSTART;TZID=Europe/Helsinki:20251110T180000
DTEND;TZID=Europe/Helsinki:20251110T200000
DTSTAMP:20260425T054029
CREATED:20251029T103134Z
LAST-MODIFIED:20251029T103210Z
UID:10000847-1762797600-1762804800@www.tfmk.com
SUMMARY:Kahvi-ilta Pirtillä
DESCRIPTION:Metsäpirtintie 1\, Espoo\, kahvipannu tutusti kuumana kerholaisille\, tervetuloa!
URL:https://www.tfmk.com/tapahtuma/kerhoilta-pirtilla-19/
ATTACH;FMTTYPE=image/png:https://www.tfmk.com/wp-content/uploads/2023/02/TFMK_logo_ymp_4v_pallo-1.png
END:VEVENT
BEGIN:VEVENT
DTSTART;TZID=Europe/Helsinki:20251115T150000
DTEND;TZID=Europe/Helsinki:20251115T160000
DTSTAMP:20260425T054029
CREATED:20250822T081127Z
LAST-MODIFIED:20250825T113232Z
UID:10000837-1763218800-1763222400@www.tfmk.com
SUMMARY:Touring Finlandia MK ry:n Syyskokous\, hotelli Waltikka Valkeakoski
DESCRIPTION:Tämä on virallinen kutsu kaikille Touring Finlandia MK ry:n jäsenille. Yhdistyksen syyskokous pidetään lauantaina 15. marraskuuta alkaen klo 15.00\, hotelli Waltikassa\, osoitteessa Hakalantie 6\, 37600 Valkeakoski. \n\n\n\nKokouksessa käsitellään sääntömääräiset asiat:– henkilövalinnat: valitaan jäsenet erovuoroisten tilalle kaudelle 2026-27– vuosisuunnitelma ja talousarvio 2026– muut asiat \n\n\n\nKahvitarjoilu ennakkoon ilmoittautuneille!  \n\n\n\nTervetuloa!Ilmoittautumaan pääset alla olevan linkin kauttahttps://core.flomembers.com/touring-finlandia/events/register/b73ce398c39f506af761d2277d853a92
URL:https://www.tfmk.com/tapahtuma/touring-finlandia-mk-ryn-syyskokous-hotelli-waltikka-valkeakoski/
ATTACH;FMTTYPE=image/jpeg:https://www.tfmk.com/wp-content/uploads/2024/01/lataa-e1705488904162.jpg
END:VEVENT
BEGIN:VEVENT
DTSTART;TZID=Europe/Helsinki:20251115T180000
DTEND;TZID=Europe/Helsinki:20251116T120000
DTSTAMP:20260425T054029
CREATED:20250825T114111Z
LAST-MODIFIED:20250825T114113Z
UID:10000838-1763229600-1763294400@www.tfmk.com
SUMMARY:Pikkujoulut\, hotelli Waltikka Valkeakoski
DESCRIPTION:Tervetuloa viettämään Touringin pikkujouluja Valkeakoskelle rantahotelli Waltikkaan\, Hakalantie 6\, Valkeakoski.  \n\n\n\nPikkujoulut aloitetaan klo 18.30 ruokailulla kabinettitilassa ja ruokailun lomassa on myös luvassa ohjelmaa. Illan menu:Vihreää salaattia ja vinaigrettea Tomaattia (M\, G)Tähtianis-inkiväärikurkkuja (M\, G) Marinoitua melonia (M\, G) Rosolli ja rosollin kastike (L\, G)Talon leipä ja levite Grillattua kananpaistia PaprikamajoneesiaSäräjuureksia ja Antilan tilan perunoita Pieni makea\, kahvi/tee \n\n\n\nRavintolasalin puolella illalla musiikkista vastaa DJ sekä illan showsta Raptori-yhtye.  \n\n\n\nPikkujoulupaketin hinnat sisältäen ruokailun\, ohjelman\, ravintolan sisäänpääsyn ja aamiaisen1h huoneessa 135€/hlö2h huoneessa 105€/hlöPelkkä ruokailu ja illan show ravintolasalissa 55€/hlö \n\n\n\nIlmoittautuminen syyskokoukseen sekä pikkujouluihin alla olevan linkin kautta 12.10. mennessähttps://core.flomembers.com/touring-finlandia/events/register/140f6969d5213fd0ece03148e62e461e
URL:https://www.tfmk.com/tapahtuma/pikkujoulut-hotelli-waltikka-valkeakoski/
ATTACH;FMTTYPE=image/jpeg:https://www.tfmk.com/wp-content/uploads/2025/08/waltikka-valkeakoski-dronekuva-16x9-1-e1700726870986-600x400-1-e1756122025419.jpg
END:VEVENT
BEGIN:VEVENT
DTSTART;TZID=Europe/Helsinki:20251117T180000
DTEND;TZID=Europe/Helsinki:20251117T200000
DTSTAMP:20260425T054029
CREATED:20251029T103717Z
LAST-MODIFIED:20251029T103843Z
UID:10000848-1763402400-1763409600@www.tfmk.com
SUMMARY:Kahvi-ilta Pirtillä
DESCRIPTION:Tervetuloa viettämään iltaa kahvikupposen äärelle Metsäpirtintie 1\, Espoo.
URL:https://www.tfmk.com/tapahtuma/kahvi-ilta-pirtilla-9/
ATTACH;FMTTYPE=image/jpeg:https://www.tfmk.com/wp-content/uploads/2025/10/2017-04-28-22-32-08-scaled-e1761734311140.jpg
END:VEVENT
BEGIN:VEVENT
DTSTART;TZID=Europe/Helsinki:20251124T180000
DTEND;TZID=Europe/Helsinki:20251124T200000
DTSTAMP:20260425T054029
CREATED:20251007T093018Z
LAST-MODIFIED:20251026T114100Z
UID:10000844-1764007200-1764014400@www.tfmk.com
SUMMARY:Kahvi-illassa vieraana Akac-tanya
DESCRIPTION:Marraskuun viimeisenä maanantaina saamme Pirtille (Metsäpirtintie 1\, Espoo) vieraita Unkarista\, kun Akac-tanyasta tullaan kertomaan heidän toiminnastaan. Heillä on mm. majoitusta ja moottoripyöräparkki\, johon oman mp:n voi jäättää odottamaan valmiiksi seuraava reissua. Kahvia tarjolla tuttuun tapaan!  \n\n\n\nKerhoiltaan voi liittyä myös Teansin välityksellä. Linkki lähetetään marraskuun uutiskirjeessä.
URL:https://www.tfmk.com/tapahtuma/kahvi-illassa-vieraana-akac-tanya/
ATTACH;FMTTYPE=image/jpeg:https://www.tfmk.com/wp-content/uploads/2025/10/akactanya.jpg
END:VEVENT
END:VCALENDAR