BEGIN:VCALENDAR
VERSION:2.0
PRODID:-//TFMK - ECPv6.15.20//NONSGML v1.0//EN
CALSCALE:GREGORIAN
METHOD:PUBLISH
X-WR-CALNAME:TFMK
X-ORIGINAL-URL:https://www.tfmk.com
X-WR-CALDESC:Tapahtumat TFMK
REFRESH-INTERVAL;VALUE=DURATION:PT1H
X-Robots-Tag:noindex
X-PUBLISHED-TTL:PT1H
BEGIN:VTIMEZONE
TZID:Europe/Helsinki
BEGIN:DAYLIGHT
TZOFFSETFROM:+0200
TZOFFSETTO:+0300
TZNAME:EEST
DTSTART:20240331T010000
END:DAYLIGHT
BEGIN:STANDARD
TZOFFSETFROM:+0300
TZOFFSETTO:+0200
TZNAME:EET
DTSTART:20241027T010000
END:STANDARD
BEGIN:DAYLIGHT
TZOFFSETFROM:+0200
TZOFFSETTO:+0300
TZNAME:EEST
DTSTART:20250330T010000
END:DAYLIGHT
BEGIN:STANDARD
TZOFFSETFROM:+0300
TZOFFSETTO:+0200
TZNAME:EET
DTSTART:20251026T010000
END:STANDARD
BEGIN:DAYLIGHT
TZOFFSETFROM:+0200
TZOFFSETTO:+0300
TZNAME:EEST
DTSTART:20260329T010000
END:DAYLIGHT
BEGIN:STANDARD
TZOFFSETFROM:+0300
TZOFFSETTO:+0200
TZNAME:EET
DTSTART:20261025T010000
END:STANDARD
END:VTIMEZONE
BEGIN:VEVENT
DTSTART;TZID=Europe/Helsinki:20250611T170000
DTEND;TZID=Europe/Helsinki:20250611T210000
DTSTAMP:20260425T150229
CREATED:20250306T080424Z
LAST-MODIFIED:20250306T080425Z
UID:10000819-1749661200-1749675600@www.tfmk.com
SUMMARY:KS-alue: ilta-ajo Kahvila Myllytupa\, Suovanlahti
DESCRIPTION:Keski-Suomen aluetoiminnan ilta-ajon lähtö klo 17 Neste Kirri\, Kirrintie 2 Jyväskylä
URL:https://www.tfmk.com/tapahtuma/ks-alue-ilta-ajo-kahvila-myllytupa-suovanlahti/
ATTACH;FMTTYPE=image/jpeg:https://www.tfmk.com/wp-content/uploads/2023/01/uusi_logo_pyorea-e1677082955851.jpg
END:VEVENT
BEGIN:VEVENT
DTSTART;TZID=Europe/Helsinki:20250614T080000
DTEND;TZID=Europe/Helsinki:20250615T170000
DTSTAMP:20260425T150229
CREATED:20250103T060243Z
LAST-MODIFIED:20250602T043431Z
UID:10000804-1749888000-1750006800@www.tfmk.com
SUMMARY:IS- ja LS-alue: Kimppa-ajo Mustilan Arboretum ja Kotka
DESCRIPTION:Kesäkuussa lähdetään ihailemaan Mustilaan alppiruusujen ja atsaleoiden kukkaloistoa. Arboretum-kierroksen jälkeen ajellaan Kotkaan\, jossa yövymme hotelli Merikotkassa. Arboretumista voi myös ajella omia reittejä suoraan kotiin\, jos ei halua yöpymistä.  \n\n\n\nHUOM! Majoitukset jo varattu\, vain päiväretkimahdollisuus!Hotellissa huoneita on rajoitetusti ja 2 hengen huoneita on kahta eri hintaluokkaa. Nämä varataan ilmoittautumisjärjestyksessä.Majoitusvaihtoehdot ja hinnat (sis. aamiainen):1 hh 85 €2 hh pieni huone 125 €2 hh standard huone 135 € \n\n\n\nMustilan Arboretumin sisäänpääsymaksu on aikuiset 10 €\, eläkeläiset 8 € ja opiskelijat 6 €. Mustilaan voit ajalle myös itseksesi suoraan\, ilmoittaudu silloinkin nettisivujen kautta! Osoite Mustilaan on Mustilantie 57\, Kouvola. \n\n\n\nItä-Suomen alue:Lähtö klo 8 ABC Varkauden parkkipaikalta\, vetäjänä Sari.Länsi-Suomen alue:Lähtö klo 8.30 ABC Toijalan parkkipaikalta\, vetäjänä Antti. \n\n\n\nIlmoittautuminen 8.6. mennessä alla olevan linkin kautta. Tapahtuma on avoin kaikille tourinkilaisille. HUOM! Majoitusvaihtoehtoa ei enää ole. Voit tulla mukaan päiväretkelle.https://core.flomembers.com/touring-finlandia/events/register/f2217062e9a397a1dca429e7d70bc6ca
URL:https://www.tfmk.com/tapahtuma/is-ja-ls-alue-kimppa-ajo-mustilan-arboretum-ja-kotka/
ATTACH;FMTTYPE=image/jpeg:https://www.tfmk.com/wp-content/uploads/2024/12/kuva.jpg
END:VEVENT
BEGIN:VEVENT
DTSTART;TZID=Europe/Helsinki:20250614T090000
DTEND;TZID=Europe/Helsinki:20250614T180000
DTSTAMP:20260425T150229
CREATED:20250306T081219Z
LAST-MODIFIED:20250306T081221Z
UID:10000820-1749891600-1749924000@www.tfmk.com
SUMMARY:KS-alue; kimppa-ajo Mobilia-museoon Kangasalle
DESCRIPTION:Kimppa-ajolle Mobilia – auton ja tien museoon lähdetään kesäkuisena lauantaina 14. päivä klo 9 Keljonkankaan ABC\, Eteläväylä 17 Jyväskylä. \n\n\n\nLisätiedot Claus Jörgensen etunimi.sukunimi@tfmk.com
URL:https://www.tfmk.com/tapahtuma/ks-alue-kimppa-ajo-mobilia-museoon-kangasalle/
ATTACH;FMTTYPE=image/jpeg:https://www.tfmk.com/wp-content/uploads/2025/03/mobilia.jpg
END:VEVENT
BEGIN:VEVENT
DTSTART;TZID=Europe/Helsinki:20250614T100000
DTEND;TZID=Europe/Helsinki:20250614T160000
DTSTAMP:20260425T150229
CREATED:20250602T042910Z
LAST-MODIFIED:20250602T042914Z
UID:10000831-1749895200-1749916800@www.tfmk.com
SUMMARY:LS-alue: Kimppa-ajo Anne Mattilan taidekahvilaan
DESCRIPTION:Kimppa-ajon lähtö tapahtuu Ylöjärven Elosta klo 10 kohti  Karviaa Viljakkalan\, Luhalahden ja Parkanon kautta. Paluumatkalla vapaaehtoisesti Jämijärven lentokentälle katsomaan ilmailutoimintaa.Ilmoittaudu whatsapissa puh: 0469217722. Sadepäivän sattuessa ajo siirtyy syksyyn\, ehkä elokuulle. Ossi Tervonen vetää kimppa- ajon.
URL:https://www.tfmk.com/tapahtuma/ls-alue-kimppa-ajo-anne-mattilan-taidekahvilaan/
END:VEVENT
BEGIN:VEVENT
DTSTART;TZID=Europe/Helsinki:20250614T103000
DTEND;TZID=Europe/Helsinki:20250615T140000
DTSTAMP:20260425T150229
CREATED:20250314T060133Z
LAST-MODIFIED:20250314T060135Z
UID:10000822-1749897000-1749996000@www.tfmk.com
SUMMARY:VS- ja ES-alueet: Satakunnan kierros
DESCRIPTION:Ajoretki lähtee Humppilan HANX’in edestä n. klo 10.30\, kulkienSatakunnan mukavia mutkateitä pitkin illaksi Turkuun\, jossa on mahdollisuus yöpyä laivahostelli S/S Boressa\, Aura-joen rannallalähellä Turun keskustaa.Borella majoitusta löytyy 2 hlön hyteissä 80 €/hytti tai 1hlön hytissä50 € (hyteissä suihku + wc). Aamiainen sisältyy hintaan. Hyttien vuodevaihtoehdot ovat erillissängyt tai kerrossängyt. Varattukiintiö! Laivalla on ravintola ja sunnuntai aamuna on mahdollisuussaunomiseen. Laivan vieressä laiturilla on ilmainen pysäköinti moottoripyörille.Ajoreitti tarkentuu myöhemmin. Ajoretkelle ilmoittautumisetes-alue@tfmk.com \n\n\n\nIlmoita myös\, jos tulet suoraan Humppilaan tai Borelle omia reittejämyöten!HUOM. Jokainen varaa itse majoituksensa s/s Boresta koodilla TFMK2025 ja maksaa paikan päällä käteisellä tai kortilla. Pidä kiirettä majoituksen varauksessa\, kesäviikonloput ovat hyvinsuosittuja ko. laivalla! Majoitukset on varattava 31.5. mennessä.S/S Bore majoitusvaraukset: sp. hostel.bore@turku.fi tai puh. 040 8436611 Osoite: Linnankatu 72\, 20100 Turku
URL:https://www.tfmk.com/tapahtuma/vs-ja-es-alueet-satakunnan-kierros/
ATTACH;FMTTYPE=image/jpeg:https://www.tfmk.com/wp-content/uploads/2025/03/Borea-pieni.jpg
END:VEVENT
BEGIN:VEVENT
DTSTART;TZID=Europe/Helsinki:20250628T100000
DTEND;TZID=Europe/Helsinki:20250702T170000
DTSTAMP:20260425T150229
CREATED:20250430T091422Z
LAST-MODIFIED:20250430T091424Z
UID:10000828-1751104800-1751475600@www.tfmk.com
SUMMARY:PS-alue: Lappi goes Finnmark
DESCRIPTION:Hyvät pohjoisen tourinkilaiset\, \n\n\n\nNorja kutsuu meitä jälleen! Tänä kesänä kierretään Finnmarkin itäisintä osaa\, jonne ei mennä kilometrejä nielemään vaan maisemista nauttimaan. Matkaohjelma on tämän viestin liitteenä.PELIN HENKI eli homma toimii näin:Olen laatinut alustavan suunnitelman\, ja varannut majoitukset pääasiassa itselleni. Jokainen voi siis varata oman näköisensä majoituksen – joillekin riittää vain luksus\, toisille melkein telttakin on liikaa. Itse tyydyn kelpo perushotelleihin\, joissa todennäköisesti saa ajokamppeet kuiviksi ennen seuraavaa päivää.Matkalla jokainen vastaa kuluista itse. Kerho tarjoaa jäsenilleen yhden päivällisen\, joka tällä kertaa nautitaan Kirkkoniemessä.Lähtö on Leviltä. Sovitaan yhdessä lähtöaika\, mutta toiveena olisi lähtö aamulla\, viimeistään n. klo 10. \n\n\n\nIlmoittautuneiden kesken perustamme whatsapp-ryhmän (sinut listään vain luvallasi\, tietenkin!)\, joka on tarkoitettu vain reissuun liittyvien asioiden viestimiseen. \n\n\n\nMatkalle otetaan max 14 henkeä. Toivon\, että jos ilmoittaudut\, myös sitoudut lähtemään. Pakottavista esteistä ilmoita mahdollisimman ajoissa\, jotta jonotuslistalla olevat pääsevät reissuun.Lisätiedot ja ilmoittautumiset Johannalle: johanna.ikavalko@bmwmc.fi / 044-981066. Ilmoittautumiset VAIN sähköpostilla\, kiitos!
URL:https://www.tfmk.com/tapahtuma/ps-alue-lappi-goes-finnmark/
ATTACH;FMTTYPE=image/jpeg:https://www.tfmk.com/wp-content/uploads/2025/04/Finnmark-scaled.jpg
END:VEVENT
BEGIN:VEVENT
DTSTART;TZID=Europe/Helsinki:20250629T080000
DTEND;TZID=Europe/Helsinki:20250717T170000
DTSTAMP:20260425T150229
CREATED:20240719T081230Z
LAST-MODIFIED:20240902T051947Z
UID:10000780-1751184000-1752771600@www.tfmk.com
SUMMARY:XXII Alppikierros 2025
DESCRIPTION:Lisätiedot ja ilmoittautuminen kari@solhomes.es
URL:https://www.tfmk.com/tapahtuma/xxii-alppikierros-2025/
ATTACH;FMTTYPE=image/jpeg:https://www.tfmk.com/wp-content/uploads/2015/11/img-4.jpg
END:VEVENT
BEGIN:VEVENT
DTSTART;TZID=Europe/Helsinki:20250629T130000
DTEND;TZID=Europe/Helsinki:20250708T100000
DTSTAMP:20260425T150229
CREATED:20250406T100911Z
LAST-MODIFIED:20250414T043214Z
UID:10000825-1751202000-1751968800@www.tfmk.com
SUMMARY:Touring Adventure goes Baltic Sea
DESCRIPTION:Lähtö su 29.6.2025 iltapäivällä laivalla Helsinki – Tallinna\, josta nopeasti yöksi Tarttoon.Kolme päivää ajamista sorateillä Viro-Latvia-Liettua pysähdellen mm. ihmettelemässä Neuvostoliiton väkivaltakoneiston saavutuksia.Ke 2.7.2025 illalle lähtö lautalla Klaipeda (LT) – Karlshamn (SE).Torstaista 3.7.2025 eteenpäin 4–5 päivää ajamista suureksi osaksi Ruotsin TET-reitillä (https://transeurotrail.org/sweden/) Tukholmaan tai Kapellskäriin\, josta lautalla yli Suomeen. Ajokilometrejä on odotettavissa noin 2300\, joista suurempi osa Ruotsissa. Tiedustelut voi lähettää osoitteeseen adventure@tfmk.com (Timo Kalkkila).Muutokset mahdollisia. Katso matkan tarkempi kuvaus TÄSTÄ
URL:https://www.tfmk.com/tapahtuma/touring-adventure-goes-baltic-sea/
ATTACH;FMTTYPE=image/jpeg:https://www.tfmk.com/wp-content/uploads/2025/04/Touring-Adventure-4-kuva-Timo-Kalkkila-e1743934397450.jpg
END:VEVENT
END:VCALENDAR