BEGIN:VCALENDAR
VERSION:2.0
PRODID:-//TFMK - ECPv6.15.20//NONSGML v1.0//EN
CALSCALE:GREGORIAN
METHOD:PUBLISH
X-ORIGINAL-URL:https://www.tfmk.com
X-WR-CALDESC:Tapahtumat TFMK
REFRESH-INTERVAL;VALUE=DURATION:PT1H
X-Robots-Tag:noindex
X-PUBLISHED-TTL:PT1H
BEGIN:VTIMEZONE
TZID:Europe/Helsinki
BEGIN:DAYLIGHT
TZOFFSETFROM:+0200
TZOFFSETTO:+0300
TZNAME:EEST
DTSTART:20250330T010000
END:DAYLIGHT
BEGIN:STANDARD
TZOFFSETFROM:+0300
TZOFFSETTO:+0200
TZNAME:EET
DTSTART:20251026T010000
END:STANDARD
BEGIN:DAYLIGHT
TZOFFSETFROM:+0200
TZOFFSETTO:+0300
TZNAME:EEST
DTSTART:20260329T010000
END:DAYLIGHT
BEGIN:STANDARD
TZOFFSETFROM:+0300
TZOFFSETTO:+0200
TZNAME:EET
DTSTART:20261025T010000
END:STANDARD
BEGIN:DAYLIGHT
TZOFFSETFROM:+0200
TZOFFSETTO:+0300
TZNAME:EEST
DTSTART:20270328T010000
END:DAYLIGHT
BEGIN:STANDARD
TZOFFSETFROM:+0300
TZOFFSETTO:+0200
TZNAME:EET
DTSTART:20271031T010000
END:STANDARD
END:VTIMEZONE
BEGIN:VEVENT
DTSTART;TZID=Europe/Helsinki:20260628T080000
DTEND;TZID=Europe/Helsinki:20260716T170000
DTSTAMP:20260425T014059
CREATED:20260204T102231Z
LAST-MODIFIED:20260204T102233Z
UID:10000867-1782633600-1784221200@www.tfmk.com
SUMMARY:XXIII Alppikierros
DESCRIPTION:Perinteinen Alppikierros jälleen heinäkuun alussa. Lisätiedot Kari Raisaari\, kari.raisaari@spkoti.fi
URL:https://www.tfmk.com/tapahtuma/xxiii-alppikierros/
ATTACH;FMTTYPE=image/jpeg:https://www.tfmk.com/wp-content/uploads/2022/01/alppikierros.jpg
END:VEVENT
BEGIN:VEVENT
DTSTART;TZID=Europe/Helsinki:20260705T120000
DTEND;TZID=Europe/Helsinki:20260708T120000
DTSTAMP:20260425T014059
CREATED:20260204T090110Z
LAST-MODIFIED:20260204T090112Z
UID:10000864-1783252800-1783512000@www.tfmk.com
SUMMARY:5. – 8.7.2026. Touring Treffen\, Livigno Italia
DESCRIPTION:Kohtaaminen Italian Alpeilla\, Livignossa.Majoitumme Hotel La Montaninassa sunnuntaista keskiviikkoon\, majoituksen hintaan kuuluu aamiainen.Ohjelmaa:• ajoretkiä (Alppikierroksen reitit käytettävissä)• vaellusta ja vuoristokävelyä• kylpylässä käynti• taxfree ostoksia• yhteisiä illallisia yms. \n\n\n\nIlmoittautuminenSitovat ilmoittautumiset Kari Raisaarelle 1.3.2026 mennessä tai niin kauan kuin hotellissa on tilaa (täytetään ilmoittautumisjärjestyksessä)\, osoitteella kari.raisaari@spkoti.fi \n\n\n\nMajoitushinnat Hotel La MontaninassaMajoitushinta/vrk 2hh tai 3hh\, 75 €/hlö tai 1hh 95 €/hlö.Sisältää aamiaisen\, tallin käytön moottoripyörälle. Illalliset eivät kuulu hintaan. Jos suunnittelet omatoimimatkaa Alpeille tai Italiaan yms.\, poikkea Livingoon treffeille! \n\n\n\nHuom.Livigno on yksi kevään 2026 olympiakylistä. Se on lumilautailun ja freestylen tapahtumapaikka 6.-15.3. 2026 Cortinan olympialaisissa \n\n\n\nwww.olympics.com/en/milano-cortina-2026/territories/livigno
URL:https://www.tfmk.com/tapahtuma/5-8-7-2026-touring-treffen-livigno-italia/
ATTACH;FMTTYPE=image/jpeg:https://www.tfmk.com/wp-content/uploads/2026/02/Touring-Treffen-ilmon-kuva-pieni.jpg
END:VEVENT
END:VCALENDAR