BEGIN:VCALENDAR
VERSION:2.0
PRODID:-//TFMK - ECPv6.15.20//NONSGML v1.0//EN
CALSCALE:GREGORIAN
METHOD:PUBLISH
X-ORIGINAL-URL:https://www.tfmk.com
X-WR-CALDESC:Tapahtumat TFMK
REFRESH-INTERVAL;VALUE=DURATION:PT1H
X-Robots-Tag:noindex
X-PUBLISHED-TTL:PT1H
BEGIN:VTIMEZONE
TZID:Europe/Helsinki
BEGIN:DAYLIGHT
TZOFFSETFROM:+0200
TZOFFSETTO:+0300
TZNAME:EEST
DTSTART:20250330T010000
END:DAYLIGHT
BEGIN:STANDARD
TZOFFSETFROM:+0300
TZOFFSETTO:+0200
TZNAME:EET
DTSTART:20251026T010000
END:STANDARD
BEGIN:DAYLIGHT
TZOFFSETFROM:+0200
TZOFFSETTO:+0300
TZNAME:EEST
DTSTART:20260329T010000
END:DAYLIGHT
BEGIN:STANDARD
TZOFFSETFROM:+0300
TZOFFSETTO:+0200
TZNAME:EET
DTSTART:20261025T010000
END:STANDARD
BEGIN:DAYLIGHT
TZOFFSETFROM:+0200
TZOFFSETTO:+0300
TZNAME:EEST
DTSTART:20270328T010000
END:DAYLIGHT
BEGIN:STANDARD
TZOFFSETFROM:+0300
TZOFFSETTO:+0200
TZNAME:EET
DTSTART:20271031T010000
END:STANDARD
END:VTIMEZONE
BEGIN:VEVENT
DTSTART;TZID=Europe/Helsinki:20260613T090000
DTEND;TZID=Europe/Helsinki:20260614T200000
DTSTAMP:20260425T014118
CREATED:20260308T144924Z
LAST-MODIFIED:20260308T145824Z
UID:10000860-1781341200-1781467200@www.tfmk.com
SUMMARY:ES-alue: Yön yli ajelu Louhisaareen
DESCRIPTION:•ajetaan kimpassa mutkitellen Louhisaaren kartanoon•majoittuminen (liinavaatteet ja pyyhkeet\, aamiainen sisältyvät hintaan) 60e/hlö•vapaaehtoinen iltapala (ennen saunaa)\, 25e/hlö— HUOM: ihan lähistöllä ei ole palveluita•saunaomat eväät ja juomat mahdollisia\, saunajuomat syytä olla kullakin mukanagrillausmahdollisuus•LA tai SU: tutustuminen Mannerheimin syntymäkotiin\, opastettu kierros (erikseen maksullinen)\, museokortti käy.•SU aamiainen (sisältyy)\,  \n\n\n\nMajoitus\,sauna\, iltapala\, aamiainen\, yhteensä 85e /hlö Valitse majoitustoive ilmoittautumisen yhteydessä\, huomaa että 2h huoneita on kaksi kappaletta\, pariskunnat näihin ensisijaisesti.Keltaisessa talossa on kolme huoneistoa\, huoneistoissa oma Wc+suihku Renkituvassa on yhteiset Wc+suihkutilat\, iso tupa oleskelutilana. \n\n\n\nLähtöpaikka: pääkaupunkiseutu (tarkentuu myöhemmin)  \n\n\n\nPaikkoja on varattu 20 kappaletta\, ilmoittautuminen päättyy 29.5  ja osallistumismaksun eräpäivä on 29.5. Laskutus hoidetaan kerhon kautta. \n\n\n\nIlmoittaudu tästä: Ilmoittautuminen on avattu 8.3.2026Paluu Louhisaaresta su omatoimisesti tai kimpassa\, sovitaan paikan päällä. \n\n\n\nLisätietoja:Museo: LouhisaariMajoitus: Louhisaaren kartano \n\n\n\nTervetuloa mukaan \n\n\n\nLisätietoja tarvittaessa es-alue@tfmk.com
URL:https://www.tfmk.com/tapahtuma/es-alue-yon-yli-ajelu-louhisaareen/
ATTACH;FMTTYPE=image/jpeg:https://www.tfmk.com/wp-content/uploads/2024/02/IMG-22-kukkia.jpg
END:VEVENT
END:VCALENDAR