BEGIN:VCALENDAR
VERSION:2.0
PRODID:-//TFMK - ECPv6.15.20//NONSGML v1.0//EN
CALSCALE:GREGORIAN
METHOD:PUBLISH
X-WR-CALNAME:TFMK
X-ORIGINAL-URL:https://www.tfmk.com
X-WR-CALDESC:Tapahtumat TFMK
REFRESH-INTERVAL;VALUE=DURATION:PT1H
X-Robots-Tag:noindex
X-PUBLISHED-TTL:PT1H
BEGIN:VTIMEZONE
TZID:Europe/Helsinki
BEGIN:DAYLIGHT
TZOFFSETFROM:+0200
TZOFFSETTO:+0300
TZNAME:EEST
DTSTART:20250330T010000
END:DAYLIGHT
BEGIN:STANDARD
TZOFFSETFROM:+0300
TZOFFSETTO:+0200
TZNAME:EET
DTSTART:20251026T010000
END:STANDARD
BEGIN:DAYLIGHT
TZOFFSETFROM:+0200
TZOFFSETTO:+0300
TZNAME:EEST
DTSTART:20260329T010000
END:DAYLIGHT
BEGIN:STANDARD
TZOFFSETFROM:+0300
TZOFFSETTO:+0200
TZNAME:EET
DTSTART:20261025T010000
END:STANDARD
BEGIN:DAYLIGHT
TZOFFSETFROM:+0200
TZOFFSETTO:+0300
TZNAME:EEST
DTSTART:20270328T010000
END:DAYLIGHT
BEGIN:STANDARD
TZOFFSETFROM:+0300
TZOFFSETTO:+0200
TZNAME:EET
DTSTART:20271031T010000
END:STANDARD
END:VTIMEZONE
BEGIN:VEVENT
DTSTART;TZID=Europe/Helsinki:20260610T170000
DTEND;TZID=Europe/Helsinki:20260610T200000
DTSTAMP:20260425T013610
CREATED:20260409T091049Z
LAST-MODIFIED:20260409T091051Z
UID:10000890-1781110800-1781121600@www.tfmk.com
SUMMARY:KS-alue: ilta-ajo kahvila Penni\, Kangasniemi
DESCRIPTION:KS-alue suuntaa ilta-ajon Kangasniemelle. Kahvila Pennissä nautitaan kahvit ja palaillaan sitten kotiin. Lähtö klo 17  Neste/Huili Kirri\, Kirrintie 2\, Jyväskylä
URL:https://www.tfmk.com/tapahtuma/ks-alue-ilta-ajo-kahvila-penni-kangasniemi/
ATTACH;FMTTYPE=image/jpeg:https://www.tfmk.com/wp-content/uploads/2026/04/kahvilapenni.jpg
END:VEVENT
END:VCALENDAR