BEGIN:VCALENDAR
VERSION:2.0
PRODID:-//TFMK - ECPv6.15.20//NONSGML v1.0//EN
CALSCALE:GREGORIAN
METHOD:PUBLISH
X-ORIGINAL-URL:https://www.tfmk.com
X-WR-CALDESC:Tapahtumat TFMK
REFRESH-INTERVAL;VALUE=DURATION:PT1H
X-Robots-Tag:noindex
X-PUBLISHED-TTL:PT1H
BEGIN:VTIMEZONE
TZID:Europe/Helsinki
BEGIN:DAYLIGHT
TZOFFSETFROM:+0200
TZOFFSETTO:+0300
TZNAME:EEST
DTSTART:20250330T010000
END:DAYLIGHT
BEGIN:STANDARD
TZOFFSETFROM:+0300
TZOFFSETTO:+0200
TZNAME:EET
DTSTART:20251026T010000
END:STANDARD
BEGIN:DAYLIGHT
TZOFFSETFROM:+0200
TZOFFSETTO:+0300
TZNAME:EEST
DTSTART:20260329T010000
END:DAYLIGHT
BEGIN:STANDARD
TZOFFSETFROM:+0300
TZOFFSETTO:+0200
TZNAME:EET
DTSTART:20261025T010000
END:STANDARD
BEGIN:DAYLIGHT
TZOFFSETFROM:+0200
TZOFFSETTO:+0300
TZNAME:EEST
DTSTART:20270328T010000
END:DAYLIGHT
BEGIN:STANDARD
TZOFFSETFROM:+0300
TZOFFSETTO:+0200
TZNAME:EET
DTSTART:20271031T010000
END:STANDARD
END:VTIMEZONE
BEGIN:VEVENT
DTSTART;TZID=Europe/Helsinki:20260603T170000
DTEND;TZID=Europe/Helsinki:20260603T180000
DTSTAMP:20260425T034656
CREATED:20260409T085820Z
LAST-MODIFIED:20260409T085821Z
UID:10000886-1780506000-1780509600@www.tfmk.com
SUMMARY:Etelä-Pohjanmaan Kesäkahvien aloitus
DESCRIPTION:EP-aluuen Kesäkahveille kokoonnutaan Bakery Voilaan keskiviikkoisin klo 17 alkaen. Osoite Jorma Lillbackantie 21\, Härmä
URL:https://www.tfmk.com/tapahtuma/etela-pohjanmaan-kesakahvien-aloitus/
ATTACH;FMTTYPE=image/jpeg:https://www.tfmk.com/wp-content/uploads/2023/01/cropped-uusi_logo_pyorea-e1677082955851.jpg
END:VEVENT
BEGIN:VEVENT
DTSTART;TZID=Europe/Helsinki:20260603T173000
DTEND;TZID=Europe/Helsinki:20260603T190000
DTSTAMP:20260425T034656
CREATED:20260409T081301Z
LAST-MODIFIED:20260409T081303Z
UID:10000883-1780507800-1780513200@www.tfmk.com
SUMMARY:Etelä-Suomen Kesäkahvien aloitus
DESCRIPTION:ES-alueen kesäkahveja tarjolla kahdessa paikassa:klo 17.30-18.30 Piparkakkutalo\, Träskändanristi 4\, Espooklo 18.00-19.00 Gumbo Kioski\, Gumbontie 213\, Söderkulla
URL:https://www.tfmk.com/tapahtuma/etela-suomen-kesakahvien-aloitus/
ATTACH;FMTTYPE=image/jpeg:https://www.tfmk.com/wp-content/uploads/2023/01/cropped-uusi_logo_pyorea-e1677082955851.jpg
END:VEVENT
END:VCALENDAR