BEGIN:VCALENDAR
VERSION:2.0
PRODID:-//TFMK - ECPv6.15.20//NONSGML v1.0//EN
CALSCALE:GREGORIAN
METHOD:PUBLISH
X-WR-CALNAME:TFMK
X-ORIGINAL-URL:https://www.tfmk.com
X-WR-CALDESC:Tapahtumat TFMK
REFRESH-INTERVAL;VALUE=DURATION:PT1H
X-Robots-Tag:noindex
X-PUBLISHED-TTL:PT1H
BEGIN:VTIMEZONE
TZID:Europe/Helsinki
BEGIN:DAYLIGHT
TZOFFSETFROM:+0200
TZOFFSETTO:+0300
TZNAME:EEST
DTSTART:20250330T010000
END:DAYLIGHT
BEGIN:STANDARD
TZOFFSETFROM:+0300
TZOFFSETTO:+0200
TZNAME:EET
DTSTART:20251026T010000
END:STANDARD
BEGIN:DAYLIGHT
TZOFFSETFROM:+0200
TZOFFSETTO:+0300
TZNAME:EEST
DTSTART:20260329T010000
END:DAYLIGHT
BEGIN:STANDARD
TZOFFSETFROM:+0300
TZOFFSETTO:+0200
TZNAME:EET
DTSTART:20261025T010000
END:STANDARD
BEGIN:DAYLIGHT
TZOFFSETFROM:+0200
TZOFFSETTO:+0300
TZNAME:EEST
DTSTART:20270328T010000
END:DAYLIGHT
BEGIN:STANDARD
TZOFFSETFROM:+0300
TZOFFSETTO:+0200
TZNAME:EET
DTSTART:20271031T010000
END:STANDARD
END:VTIMEZONE
BEGIN:VEVENT
DTSTART;TZID=Europe/Helsinki:20260601T180000
DTEND;TZID=Europe/Helsinki:20260601T190000
DTSTAMP:20260425T013707
CREATED:20260409T080958Z
LAST-MODIFIED:20260409T080959Z
UID:10000882-1780336800-1780340400@www.tfmk.com
SUMMARY:Varsinais-Suomen alueen Kesäkahvien aloitus
DESCRIPTION:1.6. alkaen VS-alueen kesäkahvitteluja vietetään Villa Promenadessa Ruissalossa\, Kansanpuistontie 76\, Turku. Kahvitteluja ei ole 22.6.\, 29.6.\, eikä 6.7.
URL:https://www.tfmk.com/tapahtuma/varsinais-suomen-alueen-kesakahvien-aloitus/
ATTACH;FMTTYPE=image/jpeg:https://www.tfmk.com/wp-content/uploads/2023/01/cropped-uusi_logo_pyorea-e1677082955851.jpg
END:VEVENT
BEGIN:VEVENT
DTSTART;TZID=Europe/Helsinki:20260601T180000
DTEND;TZID=Europe/Helsinki:20260601T190000
DTSTAMP:20260425T013707
CREATED:20260409T081433Z
LAST-MODIFIED:20260409T081435Z
UID:10000884-1780336800-1780340400@www.tfmk.com
SUMMARY:Länsi-Suomen alueen Kesäkahvien aloitus
DESCRIPTION:LS-alueen Kesäkahveille kokoonnutaan klo 18-19 Kutalan Kasinolle\, Kutalantie 783\, Sastamala
URL:https://www.tfmk.com/tapahtuma/lansi-suomen-alueen-kesakahvien-aloitus/
ATTACH;FMTTYPE=image/jpeg:https://www.tfmk.com/wp-content/uploads/2023/01/cropped-uusi_logo_pyorea-e1677082955851.jpg
END:VEVENT
END:VCALENDAR