BEGIN:VCALENDAR
VERSION:2.0
PRODID:-//TFMK - ECPv6.15.20//NONSGML v1.0//EN
CALSCALE:GREGORIAN
METHOD:PUBLISH
X-ORIGINAL-URL:https://www.tfmk.com
X-WR-CALDESC:Tapahtumat TFMK
REFRESH-INTERVAL;VALUE=DURATION:PT1H
X-Robots-Tag:noindex
X-PUBLISHED-TTL:PT1H
BEGIN:VTIMEZONE
TZID:Europe/Helsinki
BEGIN:DAYLIGHT
TZOFFSETFROM:+0200
TZOFFSETTO:+0300
TZNAME:EEST
DTSTART:20250330T010000
END:DAYLIGHT
BEGIN:STANDARD
TZOFFSETFROM:+0300
TZOFFSETTO:+0200
TZNAME:EET
DTSTART:20251026T010000
END:STANDARD
BEGIN:DAYLIGHT
TZOFFSETFROM:+0200
TZOFFSETTO:+0300
TZNAME:EEST
DTSTART:20260329T010000
END:DAYLIGHT
BEGIN:STANDARD
TZOFFSETFROM:+0300
TZOFFSETTO:+0200
TZNAME:EET
DTSTART:20261025T010000
END:STANDARD
BEGIN:DAYLIGHT
TZOFFSETFROM:+0200
TZOFFSETTO:+0300
TZNAME:EEST
DTSTART:20270328T010000
END:DAYLIGHT
BEGIN:STANDARD
TZOFFSETFROM:+0300
TZOFFSETTO:+0200
TZNAME:EET
DTSTART:20271031T010000
END:STANDARD
END:VTIMEZONE
BEGIN:VEVENT
DTSTART;TZID=Europe/Helsinki:20260216T180000
DTEND;TZID=Europe/Helsinki:20260216T200000
DTSTAMP:20260425T014059
CREATED:20260202T171301Z
LAST-MODIFIED:20260202T171302Z
UID:10000863-1771264800-1771272000@www.tfmk.com
SUMMARY:Kerhoillassa vieraana Hostellijärjestö
DESCRIPTION:Tervetuloa kuulemaan ajankohtaiset uutiset Hostellijärjestöltä Pirtille maanantaina klo 18 alkaen. Uutiskirjeessä jäsenille myös Teams-linkki  iltaan. Tervetuloa mukaan osoitteeseen Metsäpirtintie 1 Espoo!
URL:https://www.tfmk.com/tapahtuma/kerhoillassa-vieraana-hostellijarjesto/
ATTACH;FMTTYPE=image/jpeg:https://www.tfmk.com/wp-content/uploads/2015/11/Hostellijarjesto_logo-copy.jpg
END:VEVENT
END:VCALENDAR