BEGIN:VCALENDAR
VERSION:2.0
PRODID:-//TFMK - ECPv6.15.20//NONSGML v1.0//EN
CALSCALE:GREGORIAN
METHOD:PUBLISH
X-WR-CALNAME:TFMK
X-ORIGINAL-URL:https://www.tfmk.com
X-WR-CALDESC:Tapahtumat TFMK
REFRESH-INTERVAL;VALUE=DURATION:PT1H
X-Robots-Tag:noindex
X-PUBLISHED-TTL:PT1H
BEGIN:VTIMEZONE
TZID:Europe/Helsinki
BEGIN:DAYLIGHT
TZOFFSETFROM:+0200
TZOFFSETTO:+0300
TZNAME:EEST
DTSTART:20240331T010000
END:DAYLIGHT
BEGIN:STANDARD
TZOFFSETFROM:+0300
TZOFFSETTO:+0200
TZNAME:EET
DTSTART:20241027T010000
END:STANDARD
BEGIN:DAYLIGHT
TZOFFSETFROM:+0200
TZOFFSETTO:+0300
TZNAME:EEST
DTSTART:20250330T010000
END:DAYLIGHT
BEGIN:STANDARD
TZOFFSETFROM:+0300
TZOFFSETTO:+0200
TZNAME:EET
DTSTART:20251026T010000
END:STANDARD
BEGIN:DAYLIGHT
TZOFFSETFROM:+0200
TZOFFSETTO:+0300
TZNAME:EEST
DTSTART:20260329T010000
END:DAYLIGHT
BEGIN:STANDARD
TZOFFSETFROM:+0300
TZOFFSETTO:+0200
TZNAME:EET
DTSTART:20261025T010000
END:STANDARD
END:VTIMEZONE
BEGIN:VEVENT
DTSTART;TZID=Europe/Helsinki:20250725T140000
DTEND;TZID=Europe/Helsinki:20250727T170000
DTSTAMP:20260425T150042
CREATED:20250306T075501Z
LAST-MODIFIED:20250606T062136Z
UID:10000817-1753452000-1753635600@www.tfmk.com
SUMMARY:IS-alue: Kimppa-ajo Kalajoelle
DESCRIPTION:Tervetuloa mukaan Itä-Suomen aluetoiminnan järjestämälle kimppa-ajolle viikonlopun viettoon Kalajoelle. Ajoreitti ja lähtöpaikka julkaistaan lähempänä tapahtumaa. \n\n\n\nMajoituksen hinta viikonlopulta pe-su sis. liinavaatteet on 90 eur/hlö. \n\n\n\nMajoituspaikkoja rajoitetusti\, joten varaa pikaisesti oma paikkasi\, viimeistään 6.7. sähköpostilla sari.laurell@tfmk.com
URL:https://www.tfmk.com/tapahtuma/is-alue-kimppa-ajo-kalajoelle/
ATTACH;FMTTYPE=image/jpeg:https://www.tfmk.com/wp-content/uploads/2025/03/kalajoki.jpg
END:VEVENT
END:VCALENDAR