BEGIN:VCALENDAR
VERSION:2.0
PRODID:-//TFMK - ECPv6.15.20//NONSGML v1.0//EN
CALSCALE:GREGORIAN
METHOD:PUBLISH
X-WR-CALNAME:TFMK
X-ORIGINAL-URL:https://www.tfmk.com
X-WR-CALDESC:Tapahtumat TFMK
REFRESH-INTERVAL;VALUE=DURATION:PT1H
X-Robots-Tag:noindex
X-PUBLISHED-TTL:PT1H
BEGIN:VTIMEZONE
TZID:Europe/Helsinki
BEGIN:DAYLIGHT
TZOFFSETFROM:+0200
TZOFFSETTO:+0300
TZNAME:EEST
DTSTART:20240331T010000
END:DAYLIGHT
BEGIN:STANDARD
TZOFFSETFROM:+0300
TZOFFSETTO:+0200
TZNAME:EET
DTSTART:20241027T010000
END:STANDARD
BEGIN:DAYLIGHT
TZOFFSETFROM:+0200
TZOFFSETTO:+0300
TZNAME:EEST
DTSTART:20250330T010000
END:DAYLIGHT
BEGIN:STANDARD
TZOFFSETFROM:+0300
TZOFFSETTO:+0200
TZNAME:EET
DTSTART:20251026T010000
END:STANDARD
BEGIN:DAYLIGHT
TZOFFSETFROM:+0200
TZOFFSETTO:+0300
TZNAME:EEST
DTSTART:20260329T010000
END:DAYLIGHT
BEGIN:STANDARD
TZOFFSETFROM:+0300
TZOFFSETTO:+0200
TZNAME:EET
DTSTART:20261025T010000
END:STANDARD
END:VTIMEZONE
BEGIN:VEVENT
DTSTART;TZID=Europe/Helsinki:20250516T150000
DTEND;TZID=Europe/Helsinki:20250518T120000
DTSTAMP:20260425T184952
CREATED:20250117T073439Z
LAST-MODIFIED:20250425T102648Z
UID:10000805-1747407600-1747569600@www.tfmk.com
SUMMARY:Ajokauden avaus Kasnäsin kylpylä\, Kemiön saari
DESCRIPTION:HUOM! Kaikki huoneet on jo varattu\, mutta voit edelleen ilmoittautua ja laitamme sinut jonotuslistalle. \n\n\n\nTämän vuoden virallisia ajokauden avajaisia vietetään Kemiön saarella Kasnäsissa. Tapahtumakeskuksena toimii Kasnäsin kylpylä. \n\n\n\nPakettihinnat lauantaista sunnuntaihin henkilöltä (17.-18.5.):1HH 170€2HH 130€/hlö3HH 120€/hlöHinnat sisältävät retken Rosalan Viikinkikylään (https://rosala.fi/fi/) omalla moottoripyörällä (opastettu museokäynti)\, illallisen\, ohjelman\, aamiaisen\, kuntosalin ja kylpylän käytön. \n\n\n\n\n\n\nJos haluat tulla paikanpäälle jo perjantaina 16.5.\, hinta perjantai-lauauntai yöltä:1HH 110€2HH 70€/hlö3HH 60€/hlöHinnat sisältävät aamiaisen ja kylpylän käytön.  \n\n\n\n\n\n\nPerjantain osallistujien lukumäärän perusteella järjestämme optiona yhteisen BBQ-illallisen rantasaunan terassilla hintaan 30 e/hlö. \n\n\n\nJos et tarvitse majoitusta\, mutta haluaisit osallistua retkelle ja lauantain ruokailuun\, hinta on 55 €\, pelkkä ruokailu 35€ tai pelkkä retki 20€. \n\n\n\nIlmoittautumiset alla olevan linkin kautta 5.5.25 mennessähttps://core.flomembers.com/touring-finlandia/events/register/7ef605fc8dba5425d6965fbd4c8fbe1f
URL:https://www.tfmk.com/tapahtuma/ajokauden-avaus-kasnasin-kylpyla-kemion-saari/
ATTACH;FMTTYPE=image/jpeg:https://www.tfmk.com/wp-content/uploads/2025/01/kasnasin-kylpyla.jpg
END:VEVENT
END:VCALENDAR