BEGIN:VCALENDAR
VERSION:2.0
PRODID:-//TFMK - ECPv6.15.20//NONSGML v1.0//EN
CALSCALE:GREGORIAN
METHOD:PUBLISH
X-ORIGINAL-URL:https://www.tfmk.com
X-WR-CALDESC:Tapahtumat TFMK
REFRESH-INTERVAL;VALUE=DURATION:PT1H
X-Robots-Tag:noindex
X-PUBLISHED-TTL:PT1H
BEGIN:VTIMEZONE
TZID:Europe/Helsinki
BEGIN:DAYLIGHT
TZOFFSETFROM:+0200
TZOFFSETTO:+0300
TZNAME:EEST
DTSTART:20240331T010000
END:DAYLIGHT
BEGIN:STANDARD
TZOFFSETFROM:+0300
TZOFFSETTO:+0200
TZNAME:EET
DTSTART:20241027T010000
END:STANDARD
BEGIN:DAYLIGHT
TZOFFSETFROM:+0200
TZOFFSETTO:+0300
TZNAME:EEST
DTSTART:20250330T010000
END:DAYLIGHT
BEGIN:STANDARD
TZOFFSETFROM:+0300
TZOFFSETTO:+0200
TZNAME:EET
DTSTART:20251026T010000
END:STANDARD
BEGIN:DAYLIGHT
TZOFFSETFROM:+0200
TZOFFSETTO:+0300
TZNAME:EEST
DTSTART:20260329T010000
END:DAYLIGHT
BEGIN:STANDARD
TZOFFSETFROM:+0300
TZOFFSETTO:+0200
TZNAME:EET
DTSTART:20261025T010000
END:STANDARD
END:VTIMEZONE
BEGIN:VEVENT
DTSTART;TZID=Europe/Helsinki:20250501T130000
DTEND;TZID=Europe/Helsinki:20250501T180000
DTSTAMP:20260425T185034
CREATED:20250430T091818Z
LAST-MODIFIED:20250430T091821Z
UID:10000829-1746104400-1746122400@www.tfmk.com
SUMMARY:PS-alue: Wappuajelu
DESCRIPTION:Wappupäivänä 1.5. kokoontuminen Keminmaan Citymarketin pihassa olevan Nesteen jakeluaseman kupeessa klo 13. Kari johdattaa teitä Kemijoen Itäpuolentietä hissukseen kohti Ossauskoskea ja siitä ”Peuran Essolle” eli Mäkipeuralle\, os. Nelostie 3079\, 95300 Tervola). Perillä ollaan n. klo 14.20. Nautiskellaan lettukahvit (kerho tarjoaa jäsenilleen!)\, ja ajellaan takaisin Länsipuolentietä (tai oman aikataulun mukaisesti). Muualta kuin Kemin suunnalta tulevat; nähdään Mäkipeuralla!Ilmoittautumisia ei tarvita\, mutta huonon ajosään sattuessa reissu siirtyy seuraavaan ajankohtaan. Lisätietoja Karilta\, 0400-809534.
URL:https://www.tfmk.com/tapahtuma/ps-alue-wappuajelu/
ATTACH;FMTTYPE=image/jpeg:https://www.tfmk.com/wp-content/uploads/2022/04/LIsakuva-Harkatie-ajoon.Ryhma-Kosken-torilla.Kuva-Wingi-Tappe..jpg
END:VEVENT
END:VCALENDAR