BEGIN:VCALENDAR
VERSION:2.0
PRODID:-//TFMK - ECPv6.15.20//NONSGML v1.0//EN
CALSCALE:GREGORIAN
METHOD:PUBLISH
X-WR-CALNAME:TFMK
X-ORIGINAL-URL:https://www.tfmk.com
X-WR-CALDESC:Tapahtumat TFMK
REFRESH-INTERVAL;VALUE=DURATION:PT1H
X-Robots-Tag:noindex
X-PUBLISHED-TTL:PT1H
BEGIN:VTIMEZONE
TZID:Europe/Helsinki
BEGIN:DAYLIGHT
TZOFFSETFROM:+0200
TZOFFSETTO:+0300
TZNAME:EEST
DTSTART:20240331T010000
END:DAYLIGHT
BEGIN:STANDARD
TZOFFSETFROM:+0300
TZOFFSETTO:+0200
TZNAME:EET
DTSTART:20241027T010000
END:STANDARD
BEGIN:DAYLIGHT
TZOFFSETFROM:+0200
TZOFFSETTO:+0300
TZNAME:EEST
DTSTART:20250330T010000
END:DAYLIGHT
BEGIN:STANDARD
TZOFFSETFROM:+0300
TZOFFSETTO:+0200
TZNAME:EET
DTSTART:20251026T010000
END:STANDARD
BEGIN:DAYLIGHT
TZOFFSETFROM:+0200
TZOFFSETTO:+0300
TZNAME:EEST
DTSTART:20260329T010000
END:DAYLIGHT
BEGIN:STANDARD
TZOFFSETFROM:+0300
TZOFFSETTO:+0200
TZNAME:EET
DTSTART:20261025T010000
END:STANDARD
END:VTIMEZONE
BEGIN:VEVENT
DTSTART;TZID=Europe/Helsinki:20250428T180000
DTEND;TZID=Europe/Helsinki:20250428T200000
DTSTAMP:20260425T184842
CREATED:20250423T164510Z
LAST-MODIFIED:20250423T164515Z
UID:10000827-1745863200-1745870400@www.tfmk.com
SUMMARY:Kerhoiltojen kevätkauden päättäjäiset
DESCRIPTION:Tervetuloa päättämään kerhoiltojen kevätkautta Pirtille\, Metsäpirtintie 1\, Espoo. Grilli lämpiää ja kahviakin saa. Lisäksi perinteisesti ensiaputaitojen kertausta.
URL:https://www.tfmk.com/tapahtuma/kerhoiltojen-kevatkauden-paattajaiset/
ATTACH;FMTTYPE=image/jpeg:https://www.tfmk.com/wp-content/uploads/2025/04/grillimakkara.jpg
END:VEVENT
END:VCALENDAR