BEGIN:VCALENDAR
VERSION:2.0
PRODID:-//TFMK - ECPv6.15.20//NONSGML v1.0//EN
CALSCALE:GREGORIAN
METHOD:PUBLISH
X-WR-CALNAME:TFMK
X-ORIGINAL-URL:https://www.tfmk.com
X-WR-CALDESC:Tapahtumat TFMK
REFRESH-INTERVAL;VALUE=DURATION:PT1H
X-Robots-Tag:noindex
X-PUBLISHED-TTL:PT1H
BEGIN:VTIMEZONE
TZID:Europe/Helsinki
BEGIN:DAYLIGHT
TZOFFSETFROM:+0200
TZOFFSETTO:+0300
TZNAME:EEST
DTSTART:20240331T010000
END:DAYLIGHT
BEGIN:STANDARD
TZOFFSETFROM:+0300
TZOFFSETTO:+0200
TZNAME:EET
DTSTART:20241027T010000
END:STANDARD
BEGIN:DAYLIGHT
TZOFFSETFROM:+0200
TZOFFSETTO:+0300
TZNAME:EEST
DTSTART:20250330T010000
END:DAYLIGHT
BEGIN:STANDARD
TZOFFSETFROM:+0300
TZOFFSETTO:+0200
TZNAME:EET
DTSTART:20251026T010000
END:STANDARD
BEGIN:DAYLIGHT
TZOFFSETFROM:+0200
TZOFFSETTO:+0300
TZNAME:EEST
DTSTART:20260329T010000
END:DAYLIGHT
BEGIN:STANDARD
TZOFFSETFROM:+0300
TZOFFSETTO:+0200
TZNAME:EET
DTSTART:20261025T010000
END:STANDARD
END:VTIMEZONE
BEGIN:VEVENT
DTSTART;TZID=Europe/Helsinki:20250412T140000
DTEND;TZID=Europe/Helsinki:20250412T150000
DTSTAMP:20260425T203514
CREATED:20250306T074841Z
LAST-MODIFIED:20250306T074842Z
UID:10000816-1744466400-1744470000@www.tfmk.com
SUMMARY:Sääntömääräinen Kevätkokous Pirtillä
DESCRIPTION:Tämä on virallinen kutsu kaikille Touring Finlandia Moottorikerho ry:n jäsenille. \n\n\n\nYhdistyksen kevätkokous pidetään lauantaina 12. huhtikuuta 2025 alkaen klo 14 TFMK:n kerhotilassa\, Metsäpirtintie 1\, 02130 Espoo. \n\n\n\nKokouksessa käsitellään sääntömääräiset asiat.  \n\n\n\nKahvitarjoilun järjestämiseksi pyydämme ilmoittautumaan etukäteen sähköpostilla sihteeri@tfmk.com \n\n\n\nTervetuloa!Hallitus
URL:https://www.tfmk.com/tapahtuma/saantomaarainen-kevatkokous-pirtilla/
ATTACH;FMTTYPE=image/jpeg:https://www.tfmk.com/wp-content/uploads/2023/01/uusi_logo_pyorea-e1677082955851.jpg
END:VEVENT
END:VCALENDAR