BEGIN:VCALENDAR
VERSION:2.0
PRODID:-//TFMK - ECPv6.15.20//NONSGML v1.0//EN
CALSCALE:GREGORIAN
METHOD:PUBLISH
X-ORIGINAL-URL:https://www.tfmk.com
X-WR-CALDESC:Tapahtumat TFMK
REFRESH-INTERVAL;VALUE=DURATION:PT1H
X-Robots-Tag:noindex
X-PUBLISHED-TTL:PT1H
BEGIN:VTIMEZONE
TZID:Europe/Helsinki
BEGIN:DAYLIGHT
TZOFFSETFROM:+0200
TZOFFSETTO:+0300
TZNAME:EEST
DTSTART:20240331T010000
END:DAYLIGHT
BEGIN:STANDARD
TZOFFSETFROM:+0300
TZOFFSETTO:+0200
TZNAME:EET
DTSTART:20241027T010000
END:STANDARD
BEGIN:DAYLIGHT
TZOFFSETFROM:+0200
TZOFFSETTO:+0300
TZNAME:EEST
DTSTART:20250330T010000
END:DAYLIGHT
BEGIN:STANDARD
TZOFFSETFROM:+0300
TZOFFSETTO:+0200
TZNAME:EET
DTSTART:20251026T010000
END:STANDARD
BEGIN:DAYLIGHT
TZOFFSETFROM:+0200
TZOFFSETTO:+0300
TZNAME:EEST
DTSTART:20260329T010000
END:DAYLIGHT
BEGIN:STANDARD
TZOFFSETFROM:+0300
TZOFFSETTO:+0200
TZNAME:EET
DTSTART:20261025T010000
END:STANDARD
END:VTIMEZONE
BEGIN:VEVENT
DTSTART;TZID=Europe/Helsinki:20250131T100000
DTEND;TZID=Europe/Helsinki:20250202T170000
DTSTAMP:20260426T000330
CREATED:20240709T094841Z
LAST-MODIFIED:20250120T085835Z
UID:10000774-1738317600-1738515600@www.tfmk.com
SUMMARY:MP25-messut
DESCRIPTION:Pohjoismaiden suurimmat moottoripyörämessut Helsingin messukeskuksessa. \n\n\n\nTouring Finlandia on tuttuun tapaan omalla osastolla mukana; 6c30\, osaston löydät TieVie-lavan vierestä. Nähdään messuilla!
URL:https://www.tfmk.com/tapahtuma/mp25-messut/
ATTACH;FMTTYPE=image/jpeg:https://www.tfmk.com/wp-content/uploads/2022/10/mp23-e1664613002213.jpg
END:VEVENT
BEGIN:VEVENT
DTSTART;TZID=Europe/Helsinki:20250201T180000
DTEND;TZID=Europe/Helsinki:20250201T203000
DTSTAMP:20260426T000330
CREATED:20241212T113817Z
LAST-MODIFIED:20241212T113818Z
UID:10000794-1738432800-1738441800@www.tfmk.com
SUMMARY:Messujatkot\, panimoravintola Helsinki Bryggeri
DESCRIPTION:Tervetuloa viettämään messujatkoja lauantai-iltana panimoravintola Helsinki Bryggeriin\, Torikorttelit\, Sofiankatu 2\, Helsinki. \n\n\n\nIlmoittautumisen yhteydessä valitaan haluttu ruoka-annos. Ruoka maksetaan vasta ravintolassa. Ruokavaihtoehdot:1. PANANG CAULIFLOWER (V\, G\, SIS. PÄHKINÄÄ) 25\,90 €Paahdettua kukkakaalia panang curryssa\, vegaanista fetaa\, sokeriherne\, neulapapu\, suolapähkinää\, kookoslastuja ja korianteria.2. MUSHROOM RISOTTO (VL\, G) 23\,90 €Pikkelöityjä sieniä\, timjamia\, parmesaania ja tryffeli öljyä.3. FISH N’ CHIPS (L\, F) 25\,90 €Bryggerin olutpaneroitua turskaa\, ruohosipuliaiolia\, minttuherneitä.4. HOUSE SCHNITZEL (L) 27\,90 €200g paneroitu porsaan ulkofileepihvi\, anjovis-kaprisvoita\, suolakurkkua ja krossattua perunaa\, salaattia tai ranskalaisia.5. KARAAGE CHICKEN BURGER (G*\, F) HOT! 23\,90 €Rapeaa kanaa Martin’s perunasämpylän välissä\, KewPie-majoneesia\, talon kimchiä ja ranskalaiset chipotlemajoneesilla.6. DOUBLE SMASH CHEESE BURGER (G*) 17\,90 €Kaksi kotimaista naudanlihapihviä\, cheddaria\, jalapenoketsuppia\, olutsipulia ja majoneesia Martin’s perunasämpylässä sekä ranskalaisia ja chipotlemajoneesia. \n\n\n\nSitovat ilmoittautumiset 23.1.2025 mennessä.  \n\n\n\nIlmoittaudu alla olevan linkin kauttahttps://core.flomembers.com/touring-finlandia/events/register/47d1e990583c9c67424d369f3414728e
URL:https://www.tfmk.com/tapahtuma/messujatkot-panimoravintola-helsinki-bryggeri/
ATTACH;FMTTYPE=image/jpeg:https://www.tfmk.com/wp-content/uploads/2024/12/f1a9d6fa3f598b1ea74d5cb4468b412664b6a1bb.jpg
END:VEVENT
END:VCALENDAR