BEGIN:VCALENDAR
VERSION:2.0
PRODID:-//TFMK - ECPv6.15.20//NONSGML v1.0//EN
CALSCALE:GREGORIAN
METHOD:PUBLISH
X-ORIGINAL-URL:https://www.tfmk.com
X-WR-CALDESC:Tapahtumat TFMK
REFRESH-INTERVAL;VALUE=DURATION:PT1H
X-Robots-Tag:noindex
X-PUBLISHED-TTL:PT1H
BEGIN:VTIMEZONE
TZID:Europe/Helsinki
BEGIN:DAYLIGHT
TZOFFSETFROM:+0200
TZOFFSETTO:+0300
TZNAME:EEST
DTSTART:20240331T010000
END:DAYLIGHT
BEGIN:STANDARD
TZOFFSETFROM:+0300
TZOFFSETTO:+0200
TZNAME:EET
DTSTART:20241027T010000
END:STANDARD
BEGIN:DAYLIGHT
TZOFFSETFROM:+0200
TZOFFSETTO:+0300
TZNAME:EEST
DTSTART:20250330T010000
END:DAYLIGHT
BEGIN:STANDARD
TZOFFSETFROM:+0300
TZOFFSETTO:+0200
TZNAME:EET
DTSTART:20251026T010000
END:STANDARD
BEGIN:DAYLIGHT
TZOFFSETFROM:+0200
TZOFFSETTO:+0300
TZNAME:EEST
DTSTART:20260329T010000
END:DAYLIGHT
BEGIN:STANDARD
TZOFFSETFROM:+0300
TZOFFSETTO:+0200
TZNAME:EET
DTSTART:20261025T010000
END:STANDARD
END:VTIMEZONE
BEGIN:VEVENT
DTSTART;TZID=Europe/Helsinki:20250127T180000
DTEND;TZID=Europe/Helsinki:20250127T200000
DTSTAMP:20260426T000448
CREATED:20241217T151907Z
LAST-MODIFIED:20250117T074954Z
UID:10000798-1738000800-1738008000@www.tfmk.com
SUMMARY:Suomi on Saari 2025 etkot
DESCRIPTION:Anu Karvonen esittää MP25 messuille tulevan\, päivitetyn Suomi on Saari -esityksen ennakkoon kerholaisille!Teams-linkki on lähetetty tammikuun Uutiskirjeen mukana\, tervetuloa linjoille myös kauempaa!
URL:https://www.tfmk.com/tapahtuma/suomi-on-saari-2025-etkot/
ATTACH;FMTTYPE=image/jpeg:https://www.tfmk.com/wp-content/uploads/2024/02/Suomi-on-Saari-avauskuva-modattu-pieni.jpg
END:VEVENT
END:VCALENDAR