BEGIN:VCALENDAR
VERSION:2.0
PRODID:-//TFMK - ECPv6.15.20//NONSGML v1.0//EN
CALSCALE:GREGORIAN
METHOD:PUBLISH
X-ORIGINAL-URL:https://www.tfmk.com
X-WR-CALDESC:Tapahtumat TFMK
REFRESH-INTERVAL;VALUE=DURATION:PT1H
X-Robots-Tag:noindex
X-PUBLISHED-TTL:PT1H
BEGIN:VTIMEZONE
TZID:Europe/Helsinki
BEGIN:DAYLIGHT
TZOFFSETFROM:+0200
TZOFFSETTO:+0300
TZNAME:EEST
DTSTART:20230326T010000
END:DAYLIGHT
BEGIN:STANDARD
TZOFFSETFROM:+0300
TZOFFSETTO:+0200
TZNAME:EET
DTSTART:20231029T010000
END:STANDARD
BEGIN:DAYLIGHT
TZOFFSETFROM:+0200
TZOFFSETTO:+0300
TZNAME:EEST
DTSTART:20240331T010000
END:DAYLIGHT
BEGIN:STANDARD
TZOFFSETFROM:+0300
TZOFFSETTO:+0200
TZNAME:EET
DTSTART:20241027T010000
END:STANDARD
BEGIN:DAYLIGHT
TZOFFSETFROM:+0200
TZOFFSETTO:+0300
TZNAME:EEST
DTSTART:20250330T010000
END:DAYLIGHT
BEGIN:STANDARD
TZOFFSETFROM:+0300
TZOFFSETTO:+0200
TZNAME:EET
DTSTART:20251026T010000
END:STANDARD
END:VTIMEZONE
BEGIN:VEVENT
DTSTART;TZID=Europe/Helsinki:20241209T080000
DTEND;TZID=Europe/Helsinki:20241209T170000
DTSTAMP:20260426T031419
CREATED:20241127T114224Z
LAST-MODIFIED:20241127T114225Z
UID:10000793-1733731200-1733763600@www.tfmk.com
SUMMARY:Kerhoilta Pirtillä
DESCRIPTION:Tervetuloa vaihtamaan kuulumisia Pirtille kahvikupposen äärelle osoitteeseen Metsäpirtintie 1\, Espoo
URL:https://www.tfmk.com/tapahtuma/kerhoilta-pirtilla-14/
END:VEVENT
END:VCALENDAR