BEGIN:VCALENDAR
VERSION:2.0
PRODID:-//TFMK - ECPv6.15.20//NONSGML v1.0//EN
CALSCALE:GREGORIAN
METHOD:PUBLISH
X-ORIGINAL-URL:https://www.tfmk.com
X-WR-CALDESC:Tapahtumat TFMK
REFRESH-INTERVAL;VALUE=DURATION:PT1H
X-Robots-Tag:noindex
X-PUBLISHED-TTL:PT1H
BEGIN:VTIMEZONE
TZID:Europe/Helsinki
BEGIN:DAYLIGHT
TZOFFSETFROM:+0200
TZOFFSETTO:+0300
TZNAME:EEST
DTSTART:20180325T010000
END:DAYLIGHT
BEGIN:STANDARD
TZOFFSETFROM:+0300
TZOFFSETTO:+0200
TZNAME:EET
DTSTART:20181028T010000
END:STANDARD
BEGIN:DAYLIGHT
TZOFFSETFROM:+0200
TZOFFSETTO:+0300
TZNAME:EEST
DTSTART:20190331T010000
END:DAYLIGHT
BEGIN:STANDARD
TZOFFSETFROM:+0300
TZOFFSETTO:+0200
TZNAME:EET
DTSTART:20191027T010000
END:STANDARD
BEGIN:DAYLIGHT
TZOFFSETFROM:+0200
TZOFFSETTO:+0300
TZNAME:EEST
DTSTART:20200329T010000
END:DAYLIGHT
BEGIN:STANDARD
TZOFFSETFROM:+0300
TZOFFSETTO:+0200
TZNAME:EET
DTSTART:20201025T010000
END:STANDARD
END:VTIMEZONE
BEGIN:VEVENT
DTSTART;TZID=Europe/Helsinki:20190704T170000
DTEND;TZID=Europe/Helsinki:20190704T210000
DTSTAMP:20260425T183007
CREATED:20190626T192246Z
LAST-MODIFIED:20190626T192608Z
UID:10000250-1562259600-1562274000@www.tfmk.com
SUMMARY:Kimppa-ajo Tuusulasta Janakkalan Mallinkaiseen kahville 4.7. klo 17=>
DESCRIPTION:Kimpassa Mallinkaisiin – tule mukaan 4.7. \nAjokausi on kukkeimmillaan. Mutkateiden ajaminen sekä kuulumisten vaihto hyvässä kohteessa ja hyvässä seurassa kruunaa kokemuksen. Haasta kaverisi mukaan. \nJohdan kimppa-ajon Hyrylästä Janakkalan Mallinkaisten motoristikahvilaan – Kouluraitti 1 Janakkala. Siellä on hyvät tarjoilut ja satamäärin motoristejä. Katso tästä lisää paikasta. \nPiirtelin kartan mutkatietä\, joka on hyväksi havaittu.\n \n  \n  \n  \n  \n  \n  \n  \nLähtö on Hämeentie 18 Tuusulassa klo 17.00 ja paikka on tunnettu Vintage miesten Weird Antiques tv-ohjelmastakin  – paikka on Vanha Unkka. \nMenomatka kestää 1h 15 minuuttia ja perillä helposti kuluu 45 minuuttia. \nPaluumatka on vapaavalintainen\, mutta minä ajan takaisin Tervakosken – Kytäjän kautta makoisia mutkateitä. Kotona yhdeksän pintaan ja saunaan? \nMphessu 050-5944575 \nPs.1 Laitapa tekstari osallistumisestasi. Voit esittää toiveesi hitaasta tai nopeasta ajoryhmästä. Samalla saat kännyysi ajonjohtajan yhteystiedon – kaiken varalta. \nPs. 2 Mallinkainen on liki Suomen väestön keskipistettä – kokoa oma kimppa ja tavataan kaffeilla.
URL:https://www.tfmk.com/tapahtuma/kimppa-ajo-tuusulasta-janakkalan-mallinkaiseen-kahville-4-7-klo-17/
LOCATION:Vanha Unkka Tuusula\, Hämeentie 18\, Tuusula\, Suomi
END:VEVENT
END:VCALENDAR