BEGIN:VCALENDAR
VERSION:2.0
PRODID:-//TFMK - ECPv6.15.20//NONSGML v1.0//EN
CALSCALE:GREGORIAN
METHOD:PUBLISH
X-ORIGINAL-URL:https://www.tfmk.com
X-WR-CALDESC:Tapahtumat TFMK
REFRESH-INTERVAL;VALUE=DURATION:PT1H
X-Robots-Tag:noindex
X-PUBLISHED-TTL:PT1H
BEGIN:VTIMEZONE
TZID:Europe/Helsinki
BEGIN:DAYLIGHT
TZOFFSETFROM:+0200
TZOFFSETTO:+0300
TZNAME:EEST
DTSTART:20200329T010000
END:DAYLIGHT
BEGIN:STANDARD
TZOFFSETFROM:+0300
TZOFFSETTO:+0200
TZNAME:EET
DTSTART:20201025T010000
END:STANDARD
BEGIN:DAYLIGHT
TZOFFSETFROM:+0200
TZOFFSETTO:+0300
TZNAME:EEST
DTSTART:20210328T010000
END:DAYLIGHT
BEGIN:STANDARD
TZOFFSETFROM:+0300
TZOFFSETTO:+0200
TZNAME:EET
DTSTART:20211031T010000
END:STANDARD
BEGIN:DAYLIGHT
TZOFFSETFROM:+0200
TZOFFSETTO:+0300
TZNAME:EEST
DTSTART:20220327T010000
END:DAYLIGHT
BEGIN:STANDARD
TZOFFSETFROM:+0300
TZOFFSETTO:+0200
TZNAME:EET
DTSTART:20221030T010000
END:STANDARD
END:VTIMEZONE
BEGIN:VEVENT
DTSTART;TZID=Europe/Helsinki:20210508T090000
DTEND;TZID=Europe/Helsinki:20210508T160000
DTSTAMP:20260425T060833
CREATED:20210324T163346Z
LAST-MODIFIED:20210421T174006Z
UID:10000280-1620464400-1620489600@www.tfmk.com
SUMMARY:Kevään aloitusajo 8.5. Lahnajärveltä Taalintehtaalle ja Inkooseen
DESCRIPTION:Olet lämpimästi tervetullut aloittamaan touring-ajokautesi kauniiseen Läntiseen Suomeen ! \nLähdemme taukopaikka Lahnajärveltä mutkateitä ajaen\, maisemista nauttien ja ruokahalua kasvattaen kohti Kemiönsaarta ja Strandhotellin ravintolaa.\nLounaan nautittuamme jatkamme matkaa yhdessä Inkoon Torpin tykit Sotamuseoon. Sotamuseossa on järjestetty opastettu kierros ja mahdollisuus omakustanteiseen kahvitteluun. Ajoaikaa siirtymiin on varattu noin 3\,5 tuntia\, mutta hyvässä ja mukavassa seurassa vierähtää koko päivä !\nHuomioithan\, että ruokailut ja museon pääsymaksu ovat omakustanteisia. \nOHJELMA\nKlo 9.45 kokoontuminen taukopaikka Lahnajärvi. Tule ajoissa paikalle. \n• Tervetuloa !\n• Pelisäännöt ja ohjelma\n• Muistakaa tankata pyörä ja ”tyhjentää kuski” ennen lähtöä. \nKlo 10.00 lähtö Lahnajärveltä\nKlo 12.00 lounas Strandhotellet Dalsbruk\nTaalintehtaantie 694\, Taalintehdas/ Kemiönsaari\n(Omakustanteinen ruokailu ja huom! Koronarajoitusten mukaisesti\, joko sisällä normaalisti tai take away -tyylillä ulkona) \nklo 13.00 Lähtö Inkooseen\nklo. 14.30 Torpin Tykit Inkoo \nOpastettu kierros ja mahdollisuus kahvitteluun (pääsymaksu 8 €/hlö.) \nn. klo. 16.00 Hyvää omatoimista kotimatkaa! \nTapahtuman esite tulostettavassa muodossa. \n\nIlmoittautumiset sähköpostilla ES-alue@tfmk.com 30.4.2021 mennessä.\n( Kirjoita sähköpostiin sana länsi\, oma nimi\, osallistujamäärä) \nIlmoittautuminen on pakollinen\, jotta etukäteen voidaan varautua osallistujamäärään. \nOsallistujille lähetetään lisätietoja lähempänä kimppa-ajoa. \nMukavasta yhteisestä toukokuun ajopäivästä nauttien…. \nTervetuloa ! \nKimppa-ajon ryhmänjohtajana ajaa Tapani ”Tappe” Pirttimaa 040 087 5303\nPerämiehenä ajaa Mika Nyman 044 758 9122
URL:https://www.tfmk.com/tapahtuma/kevaan-aloitusajo-lahnajarvelta-taalintehtaalle-ja-inkooseen/
LOCATION:Taukopaikka Lahnajärvi\, Helsingintie 3276\, Lahnajärvi\, 25420
ATTACH;FMTTYPE=image/jpeg:https://www.tfmk.com/wp-content/uploads/2021/03/Kimppakuvaa-e1617893136681.jpg
END:VEVENT
END:VCALENDAR