BEGIN:VCALENDAR
VERSION:2.0
PRODID:-//TFMK - ECPv6.15.20//NONSGML v1.0//EN
CALSCALE:GREGORIAN
METHOD:PUBLISH
X-ORIGINAL-URL:https://www.tfmk.com
X-WR-CALDESC:Tapahtumat TFMK
REFRESH-INTERVAL;VALUE=DURATION:PT1H
X-Robots-Tag:noindex
X-PUBLISHED-TTL:PT1H
BEGIN:VTIMEZONE
TZID:Europe/Helsinki
BEGIN:DAYLIGHT
TZOFFSETFROM:+0200
TZOFFSETTO:+0300
TZNAME:EEST
DTSTART:20200329T010000
END:DAYLIGHT
BEGIN:STANDARD
TZOFFSETFROM:+0300
TZOFFSETTO:+0200
TZNAME:EET
DTSTART:20201025T010000
END:STANDARD
BEGIN:DAYLIGHT
TZOFFSETFROM:+0200
TZOFFSETTO:+0300
TZNAME:EEST
DTSTART:20210328T010000
END:DAYLIGHT
BEGIN:STANDARD
TZOFFSETFROM:+0300
TZOFFSETTO:+0200
TZNAME:EET
DTSTART:20211031T010000
END:STANDARD
BEGIN:DAYLIGHT
TZOFFSETFROM:+0200
TZOFFSETTO:+0300
TZNAME:EEST
DTSTART:20220327T010000
END:DAYLIGHT
BEGIN:STANDARD
TZOFFSETFROM:+0300
TZOFFSETTO:+0200
TZNAME:EET
DTSTART:20221030T010000
END:STANDARD
END:VTIMEZONE
BEGIN:VEVENT
DTSTART;TZID=Europe/Helsinki:20211127T160000
DTEND;TZID=Europe/Helsinki:20211128T120000
DTSTAMP:20260425T041326
CREATED:20210915T155118Z
LAST-MODIFIED:20211116T130845Z
UID:10000298-1638028800-1638100800@www.tfmk.com
SUMMARY:Pikkujoulut Tallukassa 27.11.2021
DESCRIPTION:Vuoden 2021 pikkujouluja vietetään Hotelli Tallukassa\, Vääksyssä. \nHotelli Tallukka sijaitsee luonnonkauniilla kannaksella kahden suuren vesistön välissä – Päijänteen kansallispuiston maisemissa.Katso lisää paikasta www.tallukka.fi \nMajoitus yhden tai kahden hengen huoneessa sisältää: – herkullisen jouluisen illallisen noutopöydästä ja tanssilipun sekä runsaan aamiaisen noutopöydästä\, saunan\, kuntosalin ja allasosaston käytön niiden palveluaikoina. \nHinnat: kahden hengen huoneessa 95 €/henkilö (sisältäen pikkujouluillallisen ja tanssilipun yms.)  Yhden hlön huoneesta 30 € lisämaksu.Pikkujouluillallinen ilman majoitusta 45 € (sis. tanssilipun). \nMajoitus-ja illallisvaraukset tehdään kerhon sivuilla ilmoittautumislomakkeella\, kaikki maksut maksetaan Tallukassa! \nHUOM.! Tallukka ottaa käyttöön koronapassin 12.11.2021 alkaen! \nIlmoittaudu tästä\nOhjelmaklo 14.00 Kerhon syyskokous Kahvitarjoiluklo 16.00 Kokouksen jälkeen omatoimista ohjelmaa Tallukan tarjoamissa hyvissä puitteissa.klo 18.45 Pikkujouluillallinen buffet-pöydästäklo 21.00 Tanssit Heikki Koskelo & orkesterin tahdissa\, yhdessäoloa! \nTERVETULOA!
URL:https://www.tfmk.com/tapahtuma/pikkujoulut-tallukassa-27-11-2021/
LOCATION:Tallukka\, Vääksy\, Tallukantie 1\, Vääksy\, 17200\, Suomi
CATEGORIES:Jäsentapahtuma
ATTACH;FMTTYPE=image/jpeg:https://www.tfmk.com/wp-content/uploads/2021/09/Tallukka-maisedma-e1633421565447.jpg
END:VEVENT
END:VCALENDAR