BEGIN:VCALENDAR
VERSION:2.0
PRODID:-//TFMK - ECPv6.15.20//NONSGML v1.0//EN
CALSCALE:GREGORIAN
METHOD:PUBLISH
X-ORIGINAL-URL:https://www.tfmk.com
X-WR-CALDESC:Tapahtumat TFMK
REFRESH-INTERVAL;VALUE=DURATION:PT1H
X-Robots-Tag:noindex
X-PUBLISHED-TTL:PT1H
BEGIN:VTIMEZONE
TZID:Europe/Helsinki
BEGIN:DAYLIGHT
TZOFFSETFROM:+0200
TZOFFSETTO:+0300
TZNAME:EEST
DTSTART:20180325T010000
END:DAYLIGHT
BEGIN:STANDARD
TZOFFSETFROM:+0300
TZOFFSETTO:+0200
TZNAME:EET
DTSTART:20181028T010000
END:STANDARD
BEGIN:DAYLIGHT
TZOFFSETFROM:+0200
TZOFFSETTO:+0300
TZNAME:EEST
DTSTART:20190331T010000
END:DAYLIGHT
BEGIN:STANDARD
TZOFFSETFROM:+0300
TZOFFSETTO:+0200
TZNAME:EET
DTSTART:20191027T010000
END:STANDARD
BEGIN:DAYLIGHT
TZOFFSETFROM:+0200
TZOFFSETTO:+0300
TZNAME:EEST
DTSTART:20200329T010000
END:DAYLIGHT
BEGIN:STANDARD
TZOFFSETFROM:+0300
TZOFFSETTO:+0200
TZNAME:EET
DTSTART:20201025T010000
END:STANDARD
BEGIN:DAYLIGHT
TZOFFSETFROM:+0200
TZOFFSETTO:+0300
TZNAME:EEST
DTSTART:20210328T010000
END:DAYLIGHT
BEGIN:STANDARD
TZOFFSETFROM:+0300
TZOFFSETTO:+0200
TZNAME:EET
DTSTART:20211031T010000
END:STANDARD
BEGIN:DAYLIGHT
TZOFFSETFROM:+0200
TZOFFSETTO:+0300
TZNAME:EEST
DTSTART:20220327T010000
END:DAYLIGHT
BEGIN:STANDARD
TZOFFSETFROM:+0300
TZOFFSETTO:+0200
TZNAME:EET
DTSTART:20221030T010000
END:STANDARD
END:VTIMEZONE
BEGIN:VEVENT
DTSTART;TZID=Europe/Helsinki:20211127T140000
DTEND;TZID=Europe/Helsinki:20211127T160000
DTSTAMP:20260425T053932
CREATED:20210915T155109Z
LAST-MODIFIED:20211005T063749Z
UID:10000297-1638021600-1638028800@www.tfmk.com
SUMMARY:TFMK:n Syyskokous Hotelli Tallukassa 27.11.2021
DESCRIPTION:Tervetuloa Touring Finlandia MK ry:n syyskokoukseen lauantaina 27.11.2021 klo 14.00. \nKokouksessa käsitellään sääntömääräiset asiat; toimintasuunnitelma ja talousarvio vuodelle 2022\,\nhallituksen henkilövalinnat erovuoroisten tilalle.\nKokouksessa on äänioikeus jäsenmaksunsa maksaneilla jäsenillä. \nKahvitarjoilu!\nIlmoittaudu kokoukseen kahvitarjoiluiden tilaamiseksi! PAINA TÄSTÄ ILMOITTAUTUMISEEN \nTervetuloa kokoukseen!\nHallitus
URL:https://www.tfmk.com/tapahtuma/tfmkn-syyskokous-hotelli-tallukassa-27-11-2021/
LOCATION:Tallukka\, Vääksy\, Tallukantie 1\, Vääksy\, 17200\, Suomi
CATEGORIES:Jäsentapahtuma
ATTACH;FMTTYPE=image/jpeg:https://www.tfmk.com/wp-content/uploads/2021/09/Tallukka-nettiin-e1631718968263.jpg
END:VEVENT
BEGIN:VEVENT
DTSTART;TZID=Europe/Helsinki:20190914T120000
DTEND;TZID=Europe/Helsinki:20190915T120000
DTSTAMP:20260425T053932
CREATED:20190723T105634Z
LAST-MODIFIED:20190825T191542Z
UID:10000252-1568462400-1568548800@www.tfmk.com
SUMMARY:Ajokauden päätös 2019
DESCRIPTION:Majoitus lauantai-sunnuntai 14.-15.9.2019 \nTallukassa on meille tarjolla seuraavia huonetyyppejä: \n1hh standard huone 75€/hlö\,\n2hh standard huone 81€\n2hh superior huone 101€ \nHinnat sisältävät majoituksen lisäksi – runsaan hotelliaamiaisen noutopöydästä – kuntosalin\, allas- ja saunaosaston vapaan käytön hotellin aukioloaikoina \nRuokailu 16€/hlö\, sisältää: – päivällinen noutopöydästä alakerran ravintolassa – ruokailu Vesijärvi 2 ravintolasalissa \nIlmoittautumiset kerhon sivujen kautta\, jotta tiedämme että olet tulossa;\nmutta tee itse majoitusvaraus suoraan Tallukasta\, varauskoodilla TFMK. \nOHJELMA \nKlo 12.00 Tapaaminen Päijät-Hämeen ilmailumuseolla (Lentotie 89\, 17130 Vesivehmaa) ja tutustuminen sotilaskoneiden historiaan. Tutustumisaika noin 1-1\,5 tuntia. \nKlo n. 13.30 Kimppa-ajo mukavaa mutkatietä Kalkkisiin (matkaa n.25 km)\, jossa pysähdys Pihamaan tilalla\, josta saa ostaa heidän viiniänsä ja olutta mukaan. Siellä on myös kahvila\, jossa tarjolla pikkupurtavaa. Kahvi+ ostostauko 45 min.\nHuom. jos et lähde Kalkkisiin\, voit Vesivehmaalta lähteä jo suoraan hotellille\, matkaa n. 10 km.\nKimppa-ajossa ”rankkasade varaus”\, jos sataa kovasti\, ajoa ei tehdä. \nKlo n. 14.45 Ajetaan luonnonkauniin Pulkkilanharjun kautta Vääksyyn hotellille\, matkaa n. 30 km.\nKlo n. 15.30 Saunomista ja omaa ohjelmaa\nklo 19 – 21 Illallinen\nKlo 21 – Musiikkia ja yhdessäoloa
URL:https://www.tfmk.com/tapahtuma/ajokauden-paatos-2019/
LOCATION:Tallukka\, Vääksy\, Tallukantie 1\, Vääksy\, 17200\, Suomi
ORGANIZER;CN="TFMK Hallitus":MAILTO:hallitus@tfmk.com
END:VEVENT
END:VCALENDAR