BEGIN:VCALENDAR
VERSION:2.0
PRODID:-//TFMK - ECPv6.15.20//NONSGML v1.0//EN
CALSCALE:GREGORIAN
METHOD:PUBLISH
X-WR-CALNAME:TFMK
X-ORIGINAL-URL:https://www.tfmk.com
X-WR-CALDESC:Tapahtumat TFMK
REFRESH-INTERVAL;VALUE=DURATION:PT1H
X-Robots-Tag:noindex
X-PUBLISHED-TTL:PT1H
BEGIN:VTIMEZONE
TZID:Europe/Helsinki
BEGIN:DAYLIGHT
TZOFFSETFROM:+0200
TZOFFSETTO:+0300
TZNAME:EEST
DTSTART:20180325T010000
END:DAYLIGHT
BEGIN:STANDARD
TZOFFSETFROM:+0300
TZOFFSETTO:+0200
TZNAME:EET
DTSTART:20181028T010000
END:STANDARD
BEGIN:DAYLIGHT
TZOFFSETFROM:+0200
TZOFFSETTO:+0300
TZNAME:EEST
DTSTART:20190331T010000
END:DAYLIGHT
BEGIN:STANDARD
TZOFFSETFROM:+0300
TZOFFSETTO:+0200
TZNAME:EET
DTSTART:20191027T010000
END:STANDARD
BEGIN:DAYLIGHT
TZOFFSETFROM:+0200
TZOFFSETTO:+0300
TZNAME:EEST
DTSTART:20200329T010000
END:DAYLIGHT
BEGIN:STANDARD
TZOFFSETFROM:+0300
TZOFFSETTO:+0200
TZNAME:EET
DTSTART:20201025T010000
END:STANDARD
END:VTIMEZONE
BEGIN:VEVENT
DTSTART;TZID=Europe/Helsinki:20190504T140000
DTEND;TZID=Europe/Helsinki:20190505T120000
DTSTAMP:20260425T215449
CREATED:20190224T142442Z
LAST-MODIFIED:20190303T081748Z
UID:10000244-1556978400-1557057600@www.tfmk.com
SUMMARY:Ajokauden 2019 avajaiset Kuopiossa!
DESCRIPTION:Ajokaudenavaus 4.-5.5.2019 Kuopio \nTänä vuonna kausi avataan Suomen virallisessa kalakukkokaupungissa Kuopiossa. Majoitus hotelli Scandicissa.\nKuopiossa on paikalliset MP-messut samana viikonloppuna ja myös kerhomme on messuilla mukana.\nLauantaina onkin hyvää aikaa tutustua messuihin ja illalla sitten yhdessä ruokaillaan ja juhlitaan Scandissa. \n  \nYhteinen illallinen syödään klo 19.00 alkaen ja tarjolla on \n·  Salaattibuffet\n·  Grillattua kananrintaa ja bearnaisekastiketta L\,G\n·  Paahdettua kirjolohta ja rapukastiketta L\,G\n·  Rakuunavoissa paistettuja porkkanoita L\,G\n·  Paahdettua bataattia ja perunaa L\,G\n·  Omenapiirakka ja vaniljakastiketta L\n·  Kahvi/tee\, jäävesi \nIllallisen hinta on 22 euroa\, maksetaan paikanpäällä. Myös pelkkään illalliseen osallistuvat varaavat ruokansa Scandicista. \n  \nMajoitushinnat: \n85 € yhden hengen standard huone / vuorokausi\n105 € kahden hengen standard huone / vuorokausi\n105 € yhden hengen superior huone / vuorokausi\n125 € kahden hengen superior huone / vuorokausi \nMajoituksen hintaan sisältyy aamiainen\, asukassaunan ja uima-altaan käyttö. \nJokainen majoittuja varaa huoneensa (ja  illallisensa) itse suoraan hotellista sähköpostilla tai puhelimitse:\n\nSähköposti: meeting.kuopio@scandichotels.com\nPuhelin: 017 195111 \nVaratessa on mainittava tunnus ”Touring Finlandia”.\nHuom. Hotelli vaatii varmistuksena luottokortin numeron. \nHuoneet on varattava viimeistään 15.4.2019 mennessä.
URL:https://www.tfmk.com/tapahtuma/ajokauden-2019-avajaiset-kuopiossa/
LOCATION:Scandic Kuopio\, Satamakatu 1\, Kuopio\, 70100
END:VEVENT
END:VCALENDAR