BEGIN:VCALENDAR
VERSION:2.0
PRODID:-//TFMK - ECPv6.15.20//NONSGML v1.0//EN
CALSCALE:GREGORIAN
METHOD:PUBLISH
X-ORIGINAL-URL:https://www.tfmk.com
X-WR-CALDESC:Tapahtumat TFMK
REFRESH-INTERVAL;VALUE=DURATION:PT1H
X-Robots-Tag:noindex
X-PUBLISHED-TTL:PT1H
BEGIN:VTIMEZONE
TZID:Europe/Helsinki
BEGIN:DAYLIGHT
TZOFFSETFROM:+0200
TZOFFSETTO:+0300
TZNAME:EEST
DTSTART:20180325T010000
END:DAYLIGHT
BEGIN:STANDARD
TZOFFSETFROM:+0300
TZOFFSETTO:+0200
TZNAME:EET
DTSTART:20181028T010000
END:STANDARD
BEGIN:DAYLIGHT
TZOFFSETFROM:+0200
TZOFFSETTO:+0300
TZNAME:EEST
DTSTART:20190331T010000
END:DAYLIGHT
BEGIN:STANDARD
TZOFFSETFROM:+0300
TZOFFSETTO:+0200
TZNAME:EET
DTSTART:20191027T010000
END:STANDARD
BEGIN:DAYLIGHT
TZOFFSETFROM:+0200
TZOFFSETTO:+0300
TZNAME:EEST
DTSTART:20200329T010000
END:DAYLIGHT
BEGIN:STANDARD
TZOFFSETFROM:+0300
TZOFFSETTO:+0200
TZNAME:EET
DTSTART:20201025T010000
END:STANDARD
END:VTIMEZONE
BEGIN:VEVENT
DTSTART;TZID=Europe/Helsinki:20190608T093000
DTEND;TZID=Europe/Helsinki:20190608T180000
DTSTAMP:20260425T201803
CREATED:20190513T110101Z
LAST-MODIFIED:20190513T112225Z
UID:10000248-1559986200-1560016800@www.tfmk.com
SUMMARY:Pikkuteitä Reposaareen la 8.6. klo 9:30 alk.
DESCRIPTION:Tule mukaan ajelemaan pikkuteitä pitkin Porin Reposaareen. Reposaaressa menemme syömään Ravintola Merimestaan. Ruokailun vuoksi tapahtumaan tulee ilmoittautua viimeistään 31.5. Tarjolla on runsas noutopöytä kalaruokaan painottuen. Pääruokana on myös lihavaihtoehto. Noutopöydän hinta on 29 eur. Ruokailu maksetaan paikanpäällä. \nKokoontuminen ABC Kolmenkulman parkkipaikalla ja lähtö n. klo 9:30. \nIlmoittautumiset 31.5. mennessä linkin takaa\, Täältä. \n  \n  \n 
URL:https://www.tfmk.com/tapahtuma/pikkuteita-reposaareen-la-8-6-klo-930-alk/
LOCATION:Ravintola Merimesta\, Reposaaren kalasatama\, Pori
ORGANIZER;CN="TFMK/Sari Laurell":MAILTO:sari.laurell@tfmk.com
END:VEVENT
END:VCALENDAR