BEGIN:VCALENDAR
VERSION:2.0
PRODID:-//TFMK - ECPv6.15.20//NONSGML v1.0//EN
CALSCALE:GREGORIAN
METHOD:PUBLISH
X-WR-CALNAME:TFMK
X-ORIGINAL-URL:https://www.tfmk.com
X-WR-CALDESC:Tapahtumat TFMK
REFRESH-INTERVAL;VALUE=DURATION:PT1H
X-Robots-Tag:noindex
X-PUBLISHED-TTL:PT1H
BEGIN:VTIMEZONE
TZID:Europe/Helsinki
BEGIN:DAYLIGHT
TZOFFSETFROM:+0200
TZOFFSETTO:+0300
TZNAME:EEST
DTSTART:20160327T010000
END:DAYLIGHT
BEGIN:STANDARD
TZOFFSETFROM:+0300
TZOFFSETTO:+0200
TZNAME:EET
DTSTART:20161030T010000
END:STANDARD
BEGIN:DAYLIGHT
TZOFFSETFROM:+0200
TZOFFSETTO:+0300
TZNAME:EEST
DTSTART:20170326T010000
END:DAYLIGHT
BEGIN:STANDARD
TZOFFSETFROM:+0300
TZOFFSETTO:+0200
TZNAME:EET
DTSTART:20171029T010000
END:STANDARD
BEGIN:DAYLIGHT
TZOFFSETFROM:+0200
TZOFFSETTO:+0300
TZNAME:EEST
DTSTART:20180325T010000
END:DAYLIGHT
BEGIN:STANDARD
TZOFFSETFROM:+0300
TZOFFSETTO:+0200
TZNAME:EET
DTSTART:20181028T010000
END:STANDARD
BEGIN:DAYLIGHT
TZOFFSETFROM:+0200
TZOFFSETTO:+0300
TZNAME:EEST
DTSTART:20190331T010000
END:DAYLIGHT
BEGIN:STANDARD
TZOFFSETFROM:+0300
TZOFFSETTO:+0200
TZNAME:EET
DTSTART:20191027T010000
END:STANDARD
END:VTIMEZONE
BEGIN:VEVENT
DTSTART;TZID=Europe/Helsinki:20180525T173000
DTEND;TZID=Europe/Helsinki:20180525T200000
DTSTAMP:20260425T174444
CREATED:20151217T205300Z
LAST-MODIFIED:20180128T184205Z
UID:10000190-1527269400-1527278400@www.tfmk.com
SUMMARY:TFMK MPEAK teoria
DESCRIPTION:Touringin MPEAK:in ns. teoriaosuus\, jossa käydään läpi muutamia oleellisia moottoripyöräilyyn liittyviä asioita mm. ryhmätyönä. Yhteinen tilaisuus ensikertalaisille ja kokeneemmile. \nAikaisemmin teoriaosuudelle osallistuneet voivat jättää tämän väliin. \nLisätietoja voit kysyä lähettämättä postia osoitteeseen mpeak18@tfmk.com
URL:https://www.tfmk.com/tapahtuma/tfmk-mpeak-teoria/
LOCATION:Pirtti\, Metsäpirtintie 1\, Espoo\, Suomi
CATEGORIES:Jäsentapahtuma
END:VEVENT
BEGIN:VEVENT
DTSTART;TZID=Europe/Helsinki:20180414T150000
DTEND;TZID=Europe/Helsinki:20180414T170000
DTSTAMP:20260425T174444
CREATED:20180127T163010Z
LAST-MODIFIED:20180127T164235Z
UID:10000223-1523718000-1523725200@www.tfmk.com
SUMMARY:TFMK:n Kevätkokous 14.4.2018
DESCRIPTION:Tervetuloa kevätkokoukseen! \nTämä on virallinen kutsu kaikille Touring Finlandia Moottorikerho ry:n jäsenille. Yhdistyksen kevätkokous pidetään lauantaina 14. huhtikuuta 2018 alkaen klo 15.00\, kerhotiloissa\, Metsäpirtintie 1\, 02130 Espoo. \nKokouksessa käsitellään sääntömääräiset asiat. \nKahvitarjoilu \nTERVETULOA! \nHelsingissä 18.1.2018 \nTouring Finlandia Moottorikerho ry\nHallitus \nTarjoiluiden tilaamiseksi\, ilmoittaudu tästä. \nTervetuloa! \nTFMK Hallitus
URL:https://www.tfmk.com/tapahtuma/tfmkn-kevatkokous-14-4-2018/
LOCATION:Pirtti\, Metsäpirtintie 1\, Espoo\, Suomi
CATEGORIES:Jäsentapahtuma
ORGANIZER;CN="TFMK Kerhoralli j%C3%A4rjestelytoimikunta":MAILTO:kerhoralli2019@tfmk.com
END:VEVENT
BEGIN:VEVENT
DTSTART;TZID=Europe/Helsinki:20171211T190000
DTEND;TZID=Europe/Helsinki:20171211T210000
DTSTAMP:20260425T174444
CREATED:20171122T161805Z
LAST-MODIFIED:20171122T162017Z
UID:10000214-1513018800-1513026000@www.tfmk.com
SUMMARY:Glögi-ilta Uudessa kerhotilassa
DESCRIPTION:Uuden kerhotilan tupaantulijaiset ja perinteinen glögi-ilta yhdistettyinä.
URL:https://www.tfmk.com/tapahtuma/glogi-ilta-uudessa-kerhotilassa/
LOCATION:Pirtti\, Metsäpirtintie 1\, Espoo\, Suomi
CATEGORIES:Jäsentapahtuma
END:VEVENT
END:VCALENDAR