BEGIN:VCALENDAR
VERSION:2.0
PRODID:-//TFMK - ECPv6.15.20//NONSGML v1.0//EN
CALSCALE:GREGORIAN
METHOD:PUBLISH
X-ORIGINAL-URL:https://www.tfmk.com
X-WR-CALDESC:Tapahtumat TFMK
REFRESH-INTERVAL;VALUE=DURATION:PT1H
X-Robots-Tag:noindex
X-PUBLISHED-TTL:PT1H
BEGIN:VTIMEZONE
TZID:Europe/Helsinki
BEGIN:DAYLIGHT
TZOFFSETFROM:+0200
TZOFFSETTO:+0300
TZNAME:EEST
DTSTART:20180325T010000
END:DAYLIGHT
BEGIN:STANDARD
TZOFFSETFROM:+0300
TZOFFSETTO:+0200
TZNAME:EET
DTSTART:20181028T010000
END:STANDARD
BEGIN:DAYLIGHT
TZOFFSETFROM:+0200
TZOFFSETTO:+0300
TZNAME:EEST
DTSTART:20190331T010000
END:DAYLIGHT
BEGIN:STANDARD
TZOFFSETFROM:+0300
TZOFFSETTO:+0200
TZNAME:EET
DTSTART:20191027T010000
END:STANDARD
BEGIN:DAYLIGHT
TZOFFSETFROM:+0200
TZOFFSETTO:+0300
TZNAME:EEST
DTSTART:20200329T010000
END:DAYLIGHT
BEGIN:STANDARD
TZOFFSETFROM:+0300
TZOFFSETTO:+0200
TZNAME:EET
DTSTART:20201025T010000
END:STANDARD
END:VTIMEZONE
BEGIN:VEVENT
DTSTART;TZID=Europe/Helsinki:20190413T150000
DTEND;TZID=Europe/Helsinki:20190413T170000
DTSTAMP:20260425T234016
CREATED:20190327T195757Z
LAST-MODIFIED:20190327T200303Z
UID:10000247-1555167600-1555174800@www.tfmk.com
SUMMARY:Kevätkokous 13.4.2019
DESCRIPTION:Touringin sääntömääräinen kevätkokous pidetään lauantaina 13.4. klo 15 alkaen Pirtillä\, osoitteessä Metsäpirtintie 1\, Espoo. \nKokouksessa käsitellään sääntömääräiset asiat. \nTervetuloa! \nKahvitarjoilu\, ilmoittaudu! \nHallitus \n 
URL:https://www.tfmk.com/tapahtuma/kevatkokous-13-4-2019/
LOCATION:Pirtti\, Metsäpirtintie 1\, Espoo
END:VEVENT
END:VCALENDAR