BEGIN:VCALENDAR
VERSION:2.0
PRODID:-//TFMK - ECPv6.15.20//NONSGML v1.0//EN
CALSCALE:GREGORIAN
METHOD:PUBLISH
X-ORIGINAL-URL:https://www.tfmk.com
X-WR-CALDESC:Tapahtumat TFMK
REFRESH-INTERVAL;VALUE=DURATION:PT1H
X-Robots-Tag:noindex
X-PUBLISHED-TTL:PT1H
BEGIN:VTIMEZONE
TZID:Europe/Helsinki
BEGIN:DAYLIGHT
TZOFFSETFROM:+0200
TZOFFSETTO:+0300
TZNAME:EEST
DTSTART:20170326T010000
END:DAYLIGHT
BEGIN:STANDARD
TZOFFSETFROM:+0300
TZOFFSETTO:+0200
TZNAME:EET
DTSTART:20171029T010000
END:STANDARD
BEGIN:DAYLIGHT
TZOFFSETFROM:+0200
TZOFFSETTO:+0300
TZNAME:EEST
DTSTART:20180325T010000
END:DAYLIGHT
BEGIN:STANDARD
TZOFFSETFROM:+0300
TZOFFSETTO:+0200
TZNAME:EET
DTSTART:20181028T010000
END:STANDARD
BEGIN:DAYLIGHT
TZOFFSETFROM:+0200
TZOFFSETTO:+0300
TZNAME:EEST
DTSTART:20190331T010000
END:DAYLIGHT
BEGIN:STANDARD
TZOFFSETFROM:+0300
TZOFFSETTO:+0200
TZNAME:EET
DTSTART:20191027T010000
END:STANDARD
END:VTIMEZONE
BEGIN:VEVENT
DTSTART;TZID=Europe/Helsinki:20180519T140000
DTEND;TZID=Europe/Helsinki:20180519T140000
DTSTAMP:20260425T213640
CREATED:20180218T141759Z
LAST-MODIFIED:20180418T201221Z
UID:10000225-1526738400-1526738400@www.tfmk.com
SUMMARY:Ajokauden avajaiset 2018 Pihlavan leiri- ja toimintakeskus\, Säkylä.
DESCRIPTION:  \n  \n  \n  \n  \nTule ajokauden avajaisiin lounais-Suomeen\, Pyhäjärven rannalle!\nAjokauden avajaiset 19. – 20.5.2018 ! \nLAUANTAI 19.5. \nKlo 15.00 HUOMAA: Tapaaminen ja tervetuliais sämpylä-pullakahvit Säkylän varuskunnan Sotkussa! Säkylän Sotilaskotiyhdistys ry\, Porilaistie 1\, 27910 Säkylä Puh. 02-867 0430\nKlo 17.00 Sauna Pihlavan leirikeskus\, Lehmuuntie 35 Säkylä\nKlo 19.00 Illallinen Päätalossa: kaksi salaattia\, broilerikiusaus\, leivät\, levitteet\, kotikalja\, maito tms\, jälkkäri marjarahka ja kahvi\nKlo 20.00 Ohjelmaa Saunatuvalla: musiikkia\, tanssia\, laulua ja laulattamista trubaduuri Kaitsun tahtiin\nKlo 22.00 Iltamakkaranpaisto \nSUNNUNTAI 20.5. \nKlo 8-11.00 aamiainen ja lähtöhalaukset \nTURVALLISTA KOTIMATKAA! \nJäsenetuhinnat:\n– Majoitus 4hh 69 €/hlö Varaa huone omalle porukalle!\nIlmoittautumisen yhteydessä kerro osallistuvat kaverisi myös! \n \n \n  \n  \n  \n  \n  \nHinta ilman yöpymistä ja aamiaista 30e/hlö. \nJäsenhintaan sisältyvät:\n– tulokahvit\, sauna\, illallinen\, aamiainen\,\nmajoitus (sis. liinavaatteet ja pyyhkeet) ja ohjelma.\nMuista kertoa ruokarajoitteista! \nTERVETULOA!\nPihlavan leiri- ja toimintakeskus Lehmuuntie 35\, 27800 Säkylä \nILMOITTAUTUMISET 14.5.2018 mennessä tästä linkistä \nMatkan yhteydessä voit tutustua alueen nähtävyyksiin tai paikallisiin putiikkeihin.\nSuunnittele oma ajoreitti lounais-Suomen maisemiin!\nKatso lisää www.visitpyhajarviseutu.fi
URL:https://www.tfmk.com/tapahtuma/ajokauden-avajaiset-2018-pihlavan-leiri-ja-toimintakeskus-sakyla/
LOCATION:Pihlavan leirikeskus\, Lehmuuntie 35\, Säkylä\, 27800\, Suomi
ORGANIZER;CN="TFMK Kerhoralli j%C3%A4rjestelytoimikunta":MAILTO:kerhoralli2019@tfmk.com
END:VEVENT
END:VCALENDAR