BEGIN:VCALENDAR
VERSION:2.0
PRODID:-//TFMK - ECPv6.15.20//NONSGML v1.0//EN
CALSCALE:GREGORIAN
METHOD:PUBLISH
X-ORIGINAL-URL:https://www.tfmk.com
X-WR-CALDESC:Tapahtumat TFMK
REFRESH-INTERVAL;VALUE=DURATION:PT1H
X-Robots-Tag:noindex
X-PUBLISHED-TTL:PT1H
BEGIN:VTIMEZONE
TZID:Europe/Helsinki
BEGIN:DAYLIGHT
TZOFFSETFROM:+0200
TZOFFSETTO:+0300
TZNAME:EEST
DTSTART:20180325T010000
END:DAYLIGHT
BEGIN:STANDARD
TZOFFSETFROM:+0300
TZOFFSETTO:+0200
TZNAME:EET
DTSTART:20181028T010000
END:STANDARD
BEGIN:DAYLIGHT
TZOFFSETFROM:+0200
TZOFFSETTO:+0300
TZNAME:EEST
DTSTART:20190331T010000
END:DAYLIGHT
BEGIN:STANDARD
TZOFFSETFROM:+0300
TZOFFSETTO:+0200
TZNAME:EET
DTSTART:20191027T010000
END:STANDARD
BEGIN:DAYLIGHT
TZOFFSETFROM:+0200
TZOFFSETTO:+0300
TZNAME:EEST
DTSTART:20200329T010000
END:DAYLIGHT
BEGIN:STANDARD
TZOFFSETFROM:+0300
TZOFFSETTO:+0200
TZNAME:EET
DTSTART:20201025T010000
END:STANDARD
END:VTIMEZONE
BEGIN:VEVENT
DTSTART;VALUE=DATE:20190725
DTEND;VALUE=DATE:20190730
DTSTAMP:20260425T164042
CREATED:20181208T152324Z
LAST-MODIFIED:20190221T105627Z
UID:10000240-1564016400-1564361999@www.tfmk.com
SUMMARY:Touring Meeting Ahvenanmaalla 25. - 28.7.2019
DESCRIPTION:Hei\,\nlähde Ålandiin\, tutustumaan suviseen Maarianhaminaan.\nKerhorallikeskus on lähes Maarianhaminan ytimessä\, Övernäsgården Stugor och Gästhemissa.\nMajoitusta on tarjolla telttamajoituksesta mökkeihin ja 1- 2hlön huoneitakin löytyy. Majoituksien hinnat vaihtelevat telttapaikan 10€/yö hinnasta aina hyvin varusteltuun 4 hlön mökkiin\, 600€/3 yötä. Majoitustyypit/hinnat ilmoittautumislomakkeella ja täällä.\nKerää oma porukka ja varaa mökki!\nMajoituksiin sisältyy aamiaiset kaikissa majoitusmuodoissa paitsi telttailijoille. Kerhorallipaketti ilman majoitusta 34\,50€ sis. 3 x illalliset ja kerhon järjestämän ohjelmat ja esiintyjät.\nHUOM.! \nKerhorallin suosio on suuri ja majoitusta on enää rajoitetusti saatavilla. Ilmoittaudu kuitenkin\, niin kerromme mahdollisista vaihtoehdoista! \nILMOITTAUDU TÄSTÄ!\n    \nPerjantaina on retkipäivä\, jolloin teemme retken Kastelholman linnaan\, Jan Karlsgårdenin talonpoikaismuseoon\, vankilamuseoon ja retkipäivä huipentuu julkkiskokki Michael Björklundin ravintolakokonaisuuteen Smakby’hyn\, Makujen kylään\, jossa teemme tislaamokierroksen ja nautimme maukkaan lounaan! Makujen kylän löydät netistä tästä linkistä. Retkelle on bussikuljetus! Retken hinta 25€/hlö\, sis. sisäänpääsymaksut kohteisiin\, suomenkielisen oppaan\, bussikuljetuksen ja lounaan.\n \nAhvenanmaa tarjoaa mukavia ajokohteita myös omatoimiseen seikkailuun ja jo meno sinne voi olla oma seikkailunsa\, jos haluat ajaa saaristoreittiä ja käyttää lauttoja. Reittiehdotuksia kerholehdessä ja täällä.\nJos haluat nopean ja suoraviivaisen matkan Maarianhaminaan tai Långnäsiin\, sitten käytät tietysti yhteistyökumppaneidemme TallinkSiljan tai Finnlinesin matkatarjontaa ja nautit kerhoalennuksista heidän laivoillaan.\n\nHuom. Samaisena viikonloppuna Ahvenanmaalla on myös Viikinkimarkkinat\, 26. – 28.7. Saltvikin Kvarnbossa\, johon on n. 25 min ajomatka Maarianhaminasta.\nIlmoittaudu kerhon nettisivujen kautta ja lähde kerhoralliin Ahvenanmaalle ensi kesänä !  Varaa ajoissa myös laiva-/lauttayhteydet !\nILMOITTAUDU TÄSTÄ!\nAlustava ohjelma:\nTorstai 25.7.\nklo 12                 Alkaen\, ilmoittautuminen ja majoittautuminen\nklo 16                 Saunat käytössä\nklo 19                 Kerhorallin avajaiset\, illallinen.\nPerjantai 26.7.\nklo 8                   Aamiainen\nklo 10                 Lähtö retkelle erillisen ohjelman mukaan\nKlo 15                 Paluu\nKlo 16                 Saunat käytössä\nklo 19                  Illallinen\, musiikkia ja rentoa yhdessäoloa\nLauantai 27.7.\nklo   8                 Aamiainen\nklo 10                 Omatoimimatkailua; tutustumista Maarianhaminaan tai ajelua Viikinmarkkinoille\,tai aivan jotain muuta..\nklo 14                 Teräsmotoristi kilpailu\, leikkimielinen kilpailu vuoden kiertopalkinnosta.\nklo 16                 Saunat käytössä\nklo 19                 Illallinen ja palkintojen jako. Kerhorallin päätös.\nSunnuntai 28.7.\nKlo 8                  Aamiainen\nklo 12                 Huoneiden luovutus ja tie vie eteenpäin!\nHuomioithan\, että 74. FIM Rally on Roskildessa\, Tanskassa heti kerhorallin perään 31.7. – 2.8.2019!\nTERVETULOA!
URL:https://www.tfmk.com/tapahtuma/touring-meeting-ahvenanmaalla-25-28-7-2019/
LOCATION:Övernäsgården Stugor och Gästhemissa\, 3 Östernäsvägen\, Mariehamn 22100\, Ahvenanmaa\, Maarianhamina\, Suomi
ORGANIZER;CN="TFMK Kerhoralli j%C3%A4rjestelytoimikunta":MAILTO:kerhoralli2019@tfmk.com
END:VEVENT
END:VCALENDAR