BEGIN:VCALENDAR
VERSION:2.0
PRODID:-//TFMK - ECPv6.15.20//NONSGML v1.0//EN
CALSCALE:GREGORIAN
METHOD:PUBLISH
X-ORIGINAL-URL:https://www.tfmk.com
X-WR-CALDESC:Tapahtumat TFMK
REFRESH-INTERVAL;VALUE=DURATION:PT1H
X-Robots-Tag:noindex
X-PUBLISHED-TTL:PT1H
BEGIN:VTIMEZONE
TZID:Europe/Helsinki
BEGIN:DAYLIGHT
TZOFFSETFROM:+0200
TZOFFSETTO:+0300
TZNAME:EEST
DTSTART:20170326T010000
END:DAYLIGHT
BEGIN:STANDARD
TZOFFSETFROM:+0300
TZOFFSETTO:+0200
TZNAME:EET
DTSTART:20171029T010000
END:STANDARD
BEGIN:DAYLIGHT
TZOFFSETFROM:+0200
TZOFFSETTO:+0300
TZNAME:EEST
DTSTART:20180325T010000
END:DAYLIGHT
BEGIN:STANDARD
TZOFFSETFROM:+0300
TZOFFSETTO:+0200
TZNAME:EET
DTSTART:20181028T010000
END:STANDARD
BEGIN:DAYLIGHT
TZOFFSETFROM:+0200
TZOFFSETTO:+0300
TZNAME:EEST
DTSTART:20190331T010000
END:DAYLIGHT
BEGIN:STANDARD
TZOFFSETFROM:+0300
TZOFFSETTO:+0200
TZNAME:EET
DTSTART:20191027T010000
END:STANDARD
END:VTIMEZONE
BEGIN:VEVENT
DTSTART;TZID=Europe/Helsinki:20181110T160000
DTEND;TZID=Europe/Helsinki:20181111T120000
DTSTAMP:20260425T213506
CREATED:20180910T180851Z
LAST-MODIFIED:20180911T183111Z
UID:10000238-1541865600-1541937600@www.tfmk.com
SUMMARY:Pikkujoulut Messilässä Lahdessa 10.11.2018
DESCRIPTION:Tule mukaan tourinkilaisiin pikkujouluihin Lahden Messilään! \nMajoittautuminen Messilään alkaa iltapäivällä heti syyskokouksen jälkeen ja iltaohjelma klo 19 pikkujouluillallisella. \nMajoitukset varaat suoraan Messilästä\, tarjolla on aittahuoneista- hotellihuoneisiin ja vaikka hirsimökkejä: Majoitushinnat vaihtelevat majoitustyypin ja henkilöluvun mukaan\, hintaesimerkit näet uusimmasta Moottorituristista. Katso majoituksista lisää täältä www.messila.fi. \nMajoituksen varaat Messilästä numerosta 03 860 11. Muista kertoa olevasi touringista! \nMUISTA MYÖS ilmoittautua kerholle pikkujouluillallisen tilaamiseksi\, ilmoittaudu tästä pikkujouluillalliselle ja hauskanpitoon! \n  \n 
URL:https://www.tfmk.com/tapahtuma/pikkujoulut-messilassa-lahdessa-10-11-2018/
LOCATION:Messilä Lahti\, Lahti\, Suomi
ORGANIZER;CN="TFMK Kerhoralli j%C3%A4rjestelytoimikunta":MAILTO:kerhoralli2019@tfmk.com
END:VEVENT
END:VCALENDAR