BEGIN:VCALENDAR
VERSION:2.0
PRODID:-//TFMK - ECPv6.15.20//NONSGML v1.0//EN
CALSCALE:GREGORIAN
METHOD:PUBLISH
X-WR-CALNAME:TFMK
X-ORIGINAL-URL:https://www.tfmk.com
X-WR-CALDESC:Tapahtumat TFMK
REFRESH-INTERVAL;VALUE=DURATION:PT1H
X-Robots-Tag:noindex
X-PUBLISHED-TTL:PT1H
BEGIN:VTIMEZONE
TZID:Europe/Helsinki
BEGIN:DAYLIGHT
TZOFFSETFROM:+0200
TZOFFSETTO:+0300
TZNAME:EEST
DTSTART:20170326T010000
END:DAYLIGHT
BEGIN:STANDARD
TZOFFSETFROM:+0300
TZOFFSETTO:+0200
TZNAME:EET
DTSTART:20171029T010000
END:STANDARD
BEGIN:DAYLIGHT
TZOFFSETFROM:+0200
TZOFFSETTO:+0300
TZNAME:EEST
DTSTART:20180325T010000
END:DAYLIGHT
BEGIN:STANDARD
TZOFFSETFROM:+0300
TZOFFSETTO:+0200
TZNAME:EET
DTSTART:20181028T010000
END:STANDARD
BEGIN:DAYLIGHT
TZOFFSETFROM:+0200
TZOFFSETTO:+0300
TZNAME:EEST
DTSTART:20190331T010000
END:DAYLIGHT
BEGIN:STANDARD
TZOFFSETFROM:+0300
TZOFFSETTO:+0200
TZNAME:EET
DTSTART:20191027T010000
END:STANDARD
BEGIN:DAYLIGHT
TZOFFSETFROM:+0200
TZOFFSETTO:+0300
TZNAME:EEST
DTSTART:20200329T010000
END:DAYLIGHT
BEGIN:STANDARD
TZOFFSETFROM:+0300
TZOFFSETTO:+0200
TZNAME:EET
DTSTART:20201025T010000
END:STANDARD
BEGIN:DAYLIGHT
TZOFFSETFROM:+0200
TZOFFSETTO:+0300
TZNAME:EEST
DTSTART:20210328T010000
END:DAYLIGHT
BEGIN:STANDARD
TZOFFSETFROM:+0300
TZOFFSETTO:+0200
TZNAME:EET
DTSTART:20211031T010000
END:STANDARD
BEGIN:DAYLIGHT
TZOFFSETFROM:+0200
TZOFFSETTO:+0300
TZNAME:EEST
DTSTART:20220327T010000
END:DAYLIGHT
BEGIN:STANDARD
TZOFFSETFROM:+0300
TZOFFSETTO:+0200
TZNAME:EET
DTSTART:20221030T010000
END:STANDARD
END:VTIMEZONE
BEGIN:VEVENT
DTSTART;TZID=Europe/Helsinki:20210528T180000
DTEND;TZID=Europe/Helsinki:20210530T180000
DTSTAMP:20260425T140557
CREATED:20201211T145234Z
LAST-MODIFIED:20220130T054608Z
UID:10000272-1622224800-1622397600@www.tfmk.com
SUMMARY:TFMK MPEAK Lavangon ajoharjoitteluradalla ja Pirtillä 28. - 30.5.2021
DESCRIPTION:Perinteinen TFMKn MP Ennakoivan ajon koulutus järjestetään 28. – 30.5.2021.\nPerjantai 28.5. teoria koulutus kaikille ryhmille kerhotiloissa ”Pirtillä”\, Metsäpirtin tie 1\, 02130 Espoo.\n\nLauantai 29.5. Ajoharjoittelu ryhmälle 1 Lavangon ajoharjoittelukeskuksessa\, Myllykyläntie 1\, Vantaa\n\nSunnuntai 30.5. Ajoharjoittelu ryhmälle 2 Lavangon ajoharjoittelukeskuksessa\, Myllykyläntie 1\, Vantaa\n\nHinnat: kuljettaja 60\,00 eur ja matkustaja 30\,00 eur\n\nAikataulu tarkentuu myöhemmin.\n\nIlmoittaudu ja varaa paikkasi ajoissa tästä linkistä\n\nTervetuloa!\n\n 
URL:https://www.tfmk.com/tapahtuma/tfmk-mpeak-lavangon-ajoharjoitteluradalla-ja-pirtilla-28-30-5/
LOCATION:Lavangon ajoharjoittelurata\, Myllykyläntie 1 \, Vantaa\, Suomi
ATTACH;FMTTYPE=image/jpeg:https://www.tfmk.com/wp-content/uploads/2020/12/IMG_8876-moto.jpg
END:VEVENT
BEGIN:VEVENT
DTSTART;TZID=Europe/Helsinki:20180527T090000
DTEND;TZID=Europe/Helsinki:20180527T160000
DTSTAMP:20260425T140557
CREATED:20151217T205445Z
LAST-MODIFIED:20180128T184111Z
UID:10000192-1527411600-1527436800@www.tfmk.com
SUMMARY:TFMK MPEAK ajoharjoittelu
DESCRIPTION:MPEAK:in sunnuntain ajoharjoittelupäivä. Hinta 50 € kuljettaja ja 10 € matkustaja sisältää perjantain teoriaosuuden\, sunnuntain ajoharjoittelun\, kahvit ja lounaan. Huom! Vain jäsenille. \nJos osallistut ilman matkustajaa\, ilmoittadu klikkaamalla tästä. \nMatkustajan kanssa osallistuvat ilmoittautuvat klikkaamalla tästä. \nLisätietoja voit kysyä lähettämättä postia osoitteeseen mpeak18@tfmk.com \n 
URL:https://www.tfmk.com/tapahtuma/tfmk-mpeak-ajoharjoittelu-2/
LOCATION:Lavangon ajoharjoittelurata\, Myllykyläntie 1 \, Vantaa\, Suomi
CATEGORIES:Jäsentapahtuma
END:VEVENT
BEGIN:VEVENT
DTSTART;TZID=Europe/Helsinki:20180526T090000
DTEND;TZID=Europe/Helsinki:20180526T160000
DTSTAMP:20260425T140557
CREATED:20151217T205353Z
LAST-MODIFIED:20180325T141713Z
UID:10000191-1527325200-1527350400@www.tfmk.com
SUMMARY:TFMK MPEAK ajoharjoittelu
DESCRIPTION:Lauantain ajoharjoitteluryhmässä on jäljellä enää yksi paikka. Sunnuntain ryhmässä on runsaasti tilaa. \nMPEAK:in ajoharjoittelupäivä lauantaina. Hinta 50 € kuljettaja ja 10 € matkustaja sisältää perjantain teoriaosuuden\, lauantain ajoharjoittelun\, kahvit ja lounaan. Huom! Vain jäsenille. \nJos osallistut ilman matkustajaa\, ilmoittaudu klikkaamalla tästä. \nMatkustajan kanssa osallistuvat klikkaavat tästä. \nLisätietoja voit kysyä lähettämättä postia osoitteeseen mpeak18@tfmk.com \n 
URL:https://www.tfmk.com/tapahtuma/tfmk-mpeak-ajoharjoittelu/
LOCATION:Lavangon ajoharjoittelurata\, Myllykyläntie 1 \, Vantaa\, Suomi
CATEGORIES:Jäsentapahtuma
END:VEVENT
END:VCALENDAR