BEGIN:VCALENDAR
VERSION:2.0
PRODID:-//TFMK - ECPv6.15.20//NONSGML v1.0//EN
CALSCALE:GREGORIAN
METHOD:PUBLISH
X-WR-CALNAME:TFMK
X-ORIGINAL-URL:https://www.tfmk.com
X-WR-CALDESC:Tapahtumat TFMK
REFRESH-INTERVAL;VALUE=DURATION:PT1H
X-Robots-Tag:noindex
X-PUBLISHED-TTL:PT1H
BEGIN:VTIMEZONE
TZID:Europe/Helsinki
BEGIN:DAYLIGHT
TZOFFSETFROM:+0200
TZOFFSETTO:+0300
TZNAME:EEST
DTSTART:20200329T010000
END:DAYLIGHT
BEGIN:STANDARD
TZOFFSETFROM:+0300
TZOFFSETTO:+0200
TZNAME:EET
DTSTART:20201025T010000
END:STANDARD
BEGIN:DAYLIGHT
TZOFFSETFROM:+0200
TZOFFSETTO:+0300
TZNAME:EEST
DTSTART:20210328T010000
END:DAYLIGHT
BEGIN:STANDARD
TZOFFSETFROM:+0300
TZOFFSETTO:+0200
TZNAME:EET
DTSTART:20211031T010000
END:STANDARD
BEGIN:DAYLIGHT
TZOFFSETFROM:+0200
TZOFFSETTO:+0300
TZNAME:EEST
DTSTART:20220327T010000
END:DAYLIGHT
BEGIN:STANDARD
TZOFFSETFROM:+0300
TZOFFSETTO:+0200
TZNAME:EET
DTSTART:20221030T010000
END:STANDARD
END:VTIMEZONE
BEGIN:VEVENT
DTSTART;TZID=Europe/Helsinki:20210805T120000
DTEND;TZID=Europe/Helsinki:20210808T120000
DTSTAMP:20260425T041134
CREATED:20210119T074553Z
LAST-MODIFIED:20210629T091040Z
UID:10000276-1628164800-1628424000@www.tfmk.com
SUMMARY:5. - 8.8.2021 Kotimaan kerhoralli\, Hotelli Varpu\, Kerimäki
DESCRIPTION:Kesän kotimaan kerhorallia vietetään Saimaan rannalla Kerimäellä. Tapahtumapaikkana toimii hotelli Varpu. Koska koronan vaikutuksista tulevan kesän ulkomaanmatkustamiseen ei voida tietää\, päätimme jatkaa suosiolla kotimaan kerhorallia päivällä! Valittavana kerhorallipaketti torstaista sunnuntaihin tai perjantaista sunnuntaihin! \nKerhorallin ohjelma:\nTorstai 5.8.:\n14.00             Ilmoittautuminen avoinna \n15.00             Hotellin saunat käytössä \n18.30             Illallinen hotellin ravintolassa \n20.30            Vapaamuotoista illanviettoa\, yhdessäoloa. \nPerjantai 6.8.:\n7.30-10          Aamiainen tarjolla hotellin ravintolassa \n10.00             Ilmoittautuminen avoinna \n12.00             Lounas tarjolla hotellin ravintolossa \n13.30             Ohjattuja ryhmäajoja \n15.00             Hotellin saunat käytössä \n19.00             Kerhorallin avaus ja illallinen \n21.00             Biletystä Renkibandin vauhdittamana\, yhdessäoloa. \n  \nLauantai 7.8.:\n8-10               Aamiainen tarjolla hotellin ravintolassa \n11.00             Retki ”Risteily Saimaalla ja lounas” \n15.00             Leikkimielinen Teräsmotoristi-kisa \n16.00             Hotellin saunat käytössä \n19.00             Illallinen ja palkintojen jako \n21.00             Musiikista vastaa Ape Saastamoinen\, tanssia\, yhdessäoloa \n  \nSunnuntai 8.8:\n8-10               Aamiainen tarjolla hotellin ravintolassa \n12.00             Huoneiden luovutus \n Turvallista kotimatkaa! \n  \nKerhorallin pakettihinnat;\nTorstai-sunnuntai (sisältää majoitukset\, 3 x aamiainen\, 3 x päivällinen\, 1 x lounas\, saunan käyttö to-la\, iltojen  ja perjantain ohjelman); \n2 hh      230 eur/hlö \n1 hh      295 eur/hlö \n3 hh     195 eur/hlö \nTeltta   165 eur/hlö \n  \nPerjantai-sunnuntai (sisältää majoitukset\, 2 x aamiainen\, 2 x päivällinen\,  saunan käyttö pe-la\, iltojen  ohjelman); \n2 hh       155 eur/hlö \n1 hh       200 eur/hlö \n3 hh       145 eur/hlö \nTeltta    110 eur/hlö \nLauantain ”Risteily Saimaalla ja lounas” – retken hinta varmistuu myöhemmin. \nVapaita huoneita voit tiedustella sari.laurell@tfmk.com \n \nTuuthan siekii Savvoon!! \n           
URL:https://www.tfmk.com/tapahtuma/kotimaan-kerhoralli-hotelli-varpu-kerimaki/
LOCATION:Hotelli varpu\, Veneenniementie 64\, Kerimäki\, 58200
ATTACH;FMTTYPE=image/png:https://www.tfmk.com/wp-content/uploads/2021/01/terassi1.png
ORGANIZER;CN="Touring Finlandia MK":MAILTO:tapahtumat@tfmk.com
END:VEVENT
END:VCALENDAR