BEGIN:VCALENDAR
VERSION:2.0
PRODID:-//TFMK - ECPv6.15.20//NONSGML v1.0//EN
CALSCALE:GREGORIAN
METHOD:PUBLISH
X-ORIGINAL-URL:https://www.tfmk.com
X-WR-CALDESC:Tapahtumat TFMK
REFRESH-INTERVAL;VALUE=DURATION:PT1H
X-Robots-Tag:noindex
X-PUBLISHED-TTL:PT1H
BEGIN:VTIMEZONE
TZID:Europe/Helsinki
BEGIN:DAYLIGHT
TZOFFSETFROM:+0200
TZOFFSETTO:+0300
TZNAME:EEST
DTSTART:20160327T010000
END:DAYLIGHT
BEGIN:STANDARD
TZOFFSETFROM:+0300
TZOFFSETTO:+0200
TZNAME:EET
DTSTART:20161030T010000
END:STANDARD
BEGIN:DAYLIGHT
TZOFFSETFROM:+0200
TZOFFSETTO:+0300
TZNAME:EEST
DTSTART:20170326T010000
END:DAYLIGHT
BEGIN:STANDARD
TZOFFSETFROM:+0300
TZOFFSETTO:+0200
TZNAME:EET
DTSTART:20171029T010000
END:STANDARD
BEGIN:DAYLIGHT
TZOFFSETFROM:+0200
TZOFFSETTO:+0300
TZNAME:EEST
DTSTART:20180325T010000
END:DAYLIGHT
BEGIN:STANDARD
TZOFFSETFROM:+0300
TZOFFSETTO:+0200
TZNAME:EET
DTSTART:20181028T010000
END:STANDARD
END:VTIMEZONE
BEGIN:VEVENT
DTSTART;TZID=Europe/Helsinki:20170720T150000
DTEND;TZID=Europe/Helsinki:20170723T100000
DTSTAMP:20260426T002154
CREATED:20161229T075613Z
LAST-MODIFIED:20170409T093613Z
UID:10000198-1500562800-1500804000@www.tfmk.com
SUMMARY:Kerhoralli Liettuassa
DESCRIPTION:Vuonna 2017 juhlitaan TFMK:n 45-vuotista taivalta ja juhlaralli pidetään Liettuassa\, Trakain kaupungin liepeillä olevassa Slenysin matkaílukeskuksessa. Aluetta on mm. karavaanareiden parissa mainittu Liettuan parhaaksi. \nKatso lisää:     www.camptrakai.lt/en/ www.lithuania.travel/fi/nhtvyydet/ \nSlenys tarjoaa monenhintaisia ja eritasoisia majoitusvaihtoehtoja ja lähistöllä on paljon nähtävää\, teemme retket mm. Trakain linnaan ja KGB-museoon Unohtamatta Uzutrakisin kartanoa ja Vilnan vanhaa kaupunkia.Trakai sijaitsee n. 27 km päässä Vilnasta ja Slenysin matkailukeskukseen tulee matkaa Tallinnan satamasta n. 600 km lyhintä reittiä ajaen. Joten matka ei ole mikään mahdoton rasti ajella yhdessä päivässä tai ottaa loman kannalta ja viettää enemmän aikaa siirtymässä.  Jos et ole aiemmin käynyt mozkalla ulkomailla\, tässä on oiva kohde. Via Baltica on hyvässä kunnossa kohteeseen mennessä ja liikennekään ei ole mahdotonta.\nKerhorallipäivät ovat torstaista sunnuntaihin\, joten sinne voi ajaa vaikka pitkälle viikonloppureissulle! \nHINNAT JA MAKSUEHDOT: \nKERHORALLI PAKETTI\, esimerkkihinta/hlö:\n– sisältää 3 yön majoituksen SUMMER HOUSESSA\, 3x illallinen\, 3x aamiainen\, 2x retket\, paikalliset verot yms. muut kulut; yhteensä 210 €/hlö. \nMajoitus vaihtoehdot:\nTELTTAMAJOITUS\n6€/vrk/hlö + telttamaksu\, riippuen teltan koosta:\nPieni teltta (1-4 hlöä)\,  4€/vrk\nSuuri teltaa (5-10 hlöä)\,  6€/vrk (Esimerkiksi 3 vrk pienessä teltassa maksaa 30€) \nBIG SUMMERHOUSE (WC sisällä\, suihku ulkopuolella)\nKaikissa huoneissa on yksittäisvuoteet.\n1 kpl 2hh\, 7 kpl 3hh\, 4 kpl 4 hh\, 1 kpl 5 hh\, 2 kpl 6hh\nEnsisijaisesti pyritään kaikki vuodepaikat täyttämään\, mutta jos haluat majoittua kahdestaan\nesim. 3h huoneessa\, lisähinta on 10€/vrk/tyhjä petipaikka eli yhteensä 30€ lisämaksua. \nHOTEL\n3kpl 2hh\, parisänky Esimerkkihintaan lisätään  23€/huone/vrk . (jos 2 hlöä; => 2x 210€ + 3 x 23€ = 489€)\n2kpl 2hh\, parisänky Esimerkkihintaan lisätään  38€/huone/vrk . (jos 2 hlöä;=> 2×210€ + 3 x 38€ = 534€) \nPÄÄRAKENNUS\n4kpl 2hh\, kaikissa parisängyt\nEsimerkkihintaan lisätään 38€/huone/vrk . (jos 2 hlöä;=> 2×210€ + 3 x 38€ = 534€) \nMÖKKI\n4 kpl 3hh mökkejä\, 1 kpl parisänky ja 1 kpl yhden hlön vuoteita.\n4 kpl 2hh mökkejä 1 kpl parisänky. (jos 2 hlöä; => 2 x 210€ + 3×67€ = 621€)\nEsimerkkihintaan lisätään 67€/mökki/vrk . \nRETKET: Perjantaina 21.7.2017 retki laivalla Užutrakisin kartanoon + Trakain linnaan Lauantana 22.7.2017 retki bussilla Vilnan vanhaan kaupunkiin ja tutustuminen KGB-museoon.\nRyhmien koot 25 hlöä\, tarvittaessa muodostetaan useampia ryhmiä. Retkillä on englanninkielinen opas\, kestot n. 4 tuntia. Retkien hinnat Uzu+Tra 25€/hlö\, Vilna + KGB 27€/hlö. \nIlmoittautuminen on tehtävä maaliskuun loppuun\, kuitenkin viimeistään 10.4.2017 mennessä. \nKaikki ilmoittautumiset ovat sitovia. Maksuista 50% laskutetaan 15.4.2017 mennessä ja loppuosa 15.6.2017 mennessä. Jos haluat maksaa kaikki yhdellä kerralla (15.4.2017)\, ilmoita siitä ilmoittaumisesi yhteydessä. Esteen tullessa\, maksuja voidaan palauttaa ainoastaan palveluntarjoajan sopimuksen sallimissa rajoissa. Huom. Järjestäjä varaa muutosoikeuden hintoihin palveluntarjoajan muuttaessa hintoja. \nLisätietoja myös sähköpostilla kerhoralli2017@tfmk.com \nILMOITTAUTUMINEN:\n– ilmoita henkilöiden nimet\, mahdolliset ruoka-aineallergiat perustiedot yms. \nIlmoittaudu tästä
URL:https://www.tfmk.com/tapahtuma/kerhoralli-liettuassa/
LOCATION:Camping Slenys\, Trakai\, Liettua
CATEGORIES:Jäsentapahtuma
ORGANIZER;CN="TFMK Kerhoralli j%C3%A4rjestelytoimikunta":MAILTO:kerhoralli2019@tfmk.com
END:VEVENT
END:VCALENDAR