BEGIN:VCALENDAR
VERSION:2.0
PRODID:-//TFMK - ECPv6.15.20//NONSGML v1.0//EN
CALSCALE:GREGORIAN
METHOD:PUBLISH
X-WR-CALNAME:TFMK
X-ORIGINAL-URL:https://www.tfmk.com
X-WR-CALDESC:Tapahtumat TFMK
REFRESH-INTERVAL;VALUE=DURATION:PT1H
X-Robots-Tag:noindex
X-PUBLISHED-TTL:PT1H
BEGIN:VTIMEZONE
TZID:Europe/Helsinki
BEGIN:DAYLIGHT
TZOFFSETFROM:+0200
TZOFFSETTO:+0300
TZNAME:EEST
DTSTART:20190331T010000
END:DAYLIGHT
BEGIN:STANDARD
TZOFFSETFROM:+0300
TZOFFSETTO:+0200
TZNAME:EET
DTSTART:20191027T010000
END:STANDARD
BEGIN:DAYLIGHT
TZOFFSETFROM:+0200
TZOFFSETTO:+0300
TZNAME:EEST
DTSTART:20200329T010000
END:DAYLIGHT
BEGIN:STANDARD
TZOFFSETFROM:+0300
TZOFFSETTO:+0200
TZNAME:EET
DTSTART:20201025T010000
END:STANDARD
BEGIN:DAYLIGHT
TZOFFSETFROM:+0200
TZOFFSETTO:+0300
TZNAME:EEST
DTSTART:20210328T010000
END:DAYLIGHT
BEGIN:STANDARD
TZOFFSETFROM:+0300
TZOFFSETTO:+0200
TZNAME:EET
DTSTART:20211031T010000
END:STANDARD
BEGIN:DAYLIGHT
TZOFFSETFROM:+0200
TZOFFSETTO:+0300
TZNAME:EEST
DTSTART:20220327T010000
END:DAYLIGHT
BEGIN:STANDARD
TZOFFSETFROM:+0300
TZOFFSETTO:+0200
TZNAME:EET
DTSTART:20221030T010000
END:STANDARD
END:VTIMEZONE
BEGIN:VEVENT
DTSTART;TZID=Europe/Helsinki:20210805T120000
DTEND;TZID=Europe/Helsinki:20210808T120000
DTSTAMP:20260425T041653
CREATED:20210119T074553Z
LAST-MODIFIED:20210629T091040Z
UID:10000276-1628164800-1628424000@www.tfmk.com
SUMMARY:5. - 8.8.2021 Kotimaan kerhoralli\, Hotelli Varpu\, Kerimäki
DESCRIPTION:Kesän kotimaan kerhorallia vietetään Saimaan rannalla Kerimäellä. Tapahtumapaikkana toimii hotelli Varpu. Koska koronan vaikutuksista tulevan kesän ulkomaanmatkustamiseen ei voida tietää\, päätimme jatkaa suosiolla kotimaan kerhorallia päivällä! Valittavana kerhorallipaketti torstaista sunnuntaihin tai perjantaista sunnuntaihin! \nKerhorallin ohjelma:\nTorstai 5.8.:\n14.00             Ilmoittautuminen avoinna \n15.00             Hotellin saunat käytössä \n18.30             Illallinen hotellin ravintolassa \n20.30            Vapaamuotoista illanviettoa\, yhdessäoloa. \nPerjantai 6.8.:\n7.30-10          Aamiainen tarjolla hotellin ravintolassa \n10.00             Ilmoittautuminen avoinna \n12.00             Lounas tarjolla hotellin ravintolossa \n13.30             Ohjattuja ryhmäajoja \n15.00             Hotellin saunat käytössä \n19.00             Kerhorallin avaus ja illallinen \n21.00             Biletystä Renkibandin vauhdittamana\, yhdessäoloa. \n  \nLauantai 7.8.:\n8-10               Aamiainen tarjolla hotellin ravintolassa \n11.00             Retki ”Risteily Saimaalla ja lounas” \n15.00             Leikkimielinen Teräsmotoristi-kisa \n16.00             Hotellin saunat käytössä \n19.00             Illallinen ja palkintojen jako \n21.00             Musiikista vastaa Ape Saastamoinen\, tanssia\, yhdessäoloa \n  \nSunnuntai 8.8:\n8-10               Aamiainen tarjolla hotellin ravintolassa \n12.00             Huoneiden luovutus \n Turvallista kotimatkaa! \n  \nKerhorallin pakettihinnat;\nTorstai-sunnuntai (sisältää majoitukset\, 3 x aamiainen\, 3 x päivällinen\, 1 x lounas\, saunan käyttö to-la\, iltojen  ja perjantain ohjelman); \n2 hh      230 eur/hlö \n1 hh      295 eur/hlö \n3 hh     195 eur/hlö \nTeltta   165 eur/hlö \n  \nPerjantai-sunnuntai (sisältää majoitukset\, 2 x aamiainen\, 2 x päivällinen\,  saunan käyttö pe-la\, iltojen  ohjelman); \n2 hh       155 eur/hlö \n1 hh       200 eur/hlö \n3 hh       145 eur/hlö \nTeltta    110 eur/hlö \nLauantain ”Risteily Saimaalla ja lounas” – retken hinta varmistuu myöhemmin. \nVapaita huoneita voit tiedustella sari.laurell@tfmk.com \n \nTuuthan siekii Savvoon!! \n           
URL:https://www.tfmk.com/tapahtuma/kotimaan-kerhoralli-hotelli-varpu-kerimaki/
LOCATION:Hotelli varpu\, Veneenniementie 64\, Kerimäki\, 58200
ATTACH;FMTTYPE=image/png:https://www.tfmk.com/wp-content/uploads/2021/01/terassi1.png
ORGANIZER;CN="Touring Finlandia MK":MAILTO:tapahtumat@tfmk.com
END:VEVENT
BEGIN:VEVENT
DTSTART;TZID=Europe/Helsinki:20210323T180000
DTEND;TZID=Europe/Helsinki:20210323T193000
DTSTAMP:20260425T041653
CREATED:20210315T150513Z
LAST-MODIFIED:20210315T153409Z
UID:10000278-1616522400-1616527800@www.tfmk.com
SUMMARY:Garmin Basecamp webinaari
DESCRIPTION:Webinaarin tavoite on näyttää: \n\nmiten Garminin Basecamp-ohjelmaa käytetään reittien etukäteissuunnitteluun\nmitä Basecampilla tehtyjen reittien jakamisessa tulee huomioida\nmitä muualta saatujen gpx-reittien hyödyntämisessä kannattaa huomioida\n\nLisäksi sivutaan Garmin Expressin käyttöä karttojen päivittämisessä ja paria muuta Windows-ohjelmaa\, joista on apua.\n\nItse navigaattorin käyttämistä sivutaan yleisellä tasolla silloin kun se liittyy reittien käyttöön. Yksityiskohtiin on hankala mennä koska Garminin navien käyttöliittymät vaihtelevat.\n\nOsallistujilla olisi hyvä olla asennettuna tietokoneeseen Garmin Basecamp ja Express -ohjelmat\nhttps://www.garmin.com/fi-FI/software/express/windows/\nhttps://www.garmin.com/fi-FI/software/basecamp/\n\nHuomatkaa\, että tässä webinaarissa käytetään Windows-versiota Basecampista. Mac-versio on käyttöliittymältään jonkinverran erilainen\, mutta ominaisuudet ovat sinänsä samat.\n\nWebinaariin liitytään Google Meetissä klikkaamalla ”Liity tapahtumaan” -nappulaa tai seuraavalla linkkillä https://meet.google.com/fqu-vxpv-ucj\nAvaan “ovet” webinaariin n. 17.50.
URL:https://www.tfmk.com/tapahtuma/garmin-basecamp-webinaari/
ATTACH;FMTTYPE=image/jpeg:https://www.tfmk.com/wp-content/uploads/2021/03/garmin3-e1615822626522.jpg
ORGANIZER;CN="Touring Finlandia MK":MAILTO:tapahtumat@tfmk.com
END:VEVENT
BEGIN:VEVENT
DTSTART;TZID=Europe/Helsinki:20200813T120000
DTEND;TZID=Europe/Helsinki:20200816T120000
DTSTAMP:20260425T041653
CREATED:20200110T085545Z
LAST-MODIFIED:20200811T082403Z
UID:10000257-1597320000-1597579200@www.tfmk.com
SUMMARY:Kerhoralli Hankasalmella\, TÄYNNÄ!
DESCRIPTION:TÄYNNÄ! \nTulethan kerhoralliin vain terveenä! Jos sinulla on flunssan oireita tai vatsaoireita\, toivomme sinun jäävän kotiin ja ilmoittavan siitä meille\, jan.andersson@tfmk.com tai sari.laurell@tfmk.com . \nTERVETULOA!\nKotimaan kerhoralli Lomakeskus Revontulessa\, Hankasalmella (13)14. – 16.8.2020. \nJatkoimme kerhorallin ”täyspitkäksi”\, varaa EXTRA-YÖ: \nVoit saapua jo torstaina 13.8!!\nLisähinta 65-70€/yö/hlö/2hh; 1hh lisähinta 30€/yö\, Sis. illallisen ja aamiaisen\n(Majoitus Drive: 65€/hlö\, Hotelli tai mökki: 70€/hlö) \nTouringin 20 -luku aloitetaan juhlallisesti Hankasalmella\, Keski-Suomessa. Varmista paikkasi kesän huipputapahtumaan!\nLomakeskus Revontuli tarjoaa paljon erilaisia aktiviteetti mahdollisuuksia ja myös majoitustarjonta on monipuolista\, teltasta mökkiin ja aitasta hotellihuoneeseen. Lisää tietoja netissä https://www.revontuli.fi/\nTule viettämään mukava viikonloppu hyvässä seurassa Hankasalmelle! \nOhjelma: \n\nTORSTAI 13.8.\, ”ETKOT”\nklo 12 Ilmoittautuminen alkaa\nklo 17-21 hotellin\, Draivin ja mökien saunavuorot \nklo 19 Illallinen \nklo 21 karaoke/trubaduuri-DJ \n  \nPERJANTAI 14.8.\nklo 7:30 => Aamiainen\nklo 10 Ilmoittautuminen alkaa\nValinnaisia reittejä omaan tahtiin Varjolan tilalle\, jossa omakustanteinen lounas klo 13:30 (ennakkoilmoittautuminen) \nklo 15 Saunat käytössä\nklo 19 Kerhorallin avajaiset ja illallinen (buffet pöytä)\nklo 21 => Ape Saastamoinen Band; tanssia\, seurustelua\, hauskanpitoa… \n  \nLAUANTAI 15.8.\nklo 8 => Aamiainen\nklo 8:30 alk. bussikuljetus Hankasalmen asemalla \n-klo 10.05-11.30 höyryjuna matka Hankasalmi asema – Pieksämäki \n-Omatoimiruokailu/tutustuminen Pieksämäkeen \n-klo 13:30 bussi 1 ja klo 14:00 bussi 2 lähtee takaisin Revontuleen \nklo 15 Leikkimielinen Teräsmotoristikisa\nklo 15 Saunat käytössä\nklo 19 Palkintojen jako ja illallinen (buffet pöytä)\nklo 21 Karaoke/DJ-trubaduuri \n  \nSUNNUNTAI 16.8. \nklo 8 => Aamiainen\nklo 12 Majoitusten luovutus ja heipat! \n  \nMajoitustyypit ja hinnat\nKerho on neuvotellut rallipaketit\, jotka sisältävät 2x aamiainen\, 2x illallinen\, majoituksen 2 yötä ja ohjelman mukaiset tapahtumat. Retkistä veloitetaan mahdolliset sisäänpääsymaksut kohteisiin.\nNäihin majoitustyyppeihin on varattu kiintiöt kerholle: \nHotellimajoitus 2hh huoneissa suihku + wc\, hotellissa sauna\, hinta 180€/hlö\, 1hh lisähinta 60€. \nLomamökkimajoitus\, eri kokoisia mökkejä\, kaikissa WC\, suihku ja oma sauna\, hinta 180€/hlö. Majoitus 2hh\, omassa makuuhuoneessa. \nLomamökeissä on vaihtoehtoja kahden hengen mökistä aina neljä kahden hlön huonetta sisältävään suureen mökkiin (= 4x 2hh). Kerää kaveriporukka ja varaa ilmoittautumisesi yhteydessä sopiva mökki! \nDraivi\, huoneistotyyppinen majoitustalo\, jossa on 1 hlön\, 2 hlön ja 3 hlön huoneita; huoneissa omat wc:t. Suihkutilat ja sauna ovat yhteiset.  Majoitus Draivissa 160€/hlö. 1 hh lisähinta 60€. \nKesäaittamajoitus\, aitassa sängyt neljälle henkilölle\, oma wc. Suihkut huoltorakennuksessa. \nHinta 160€/hlö kun 2 majoittujaa/aitta ja 130€/hlö\, kun 4 majoittujaa/aitta \nTelttamajoitus\, 2-4 hengen teltta 40€ /2 vrk + telttailijan rallipaketti 90€ /hlö \nLisää majoituksista https://www.revontuli.fi/fi/majoitus/ \nIlmoittautumiset kerhon sivujen kautta ilmoittaudu tästä \nHUOM.:\nJos olet jo ilmoittautunut ja haluat varata lisäyön\, ilmoita siitä Sarille\, sari.laurell@tfmk.com tai Janille\, \njan.andersson@tfmk.com. Tai soita! \n  \n 
URL:https://www.tfmk.com/tapahtuma/kerhoralli-hankasalmella-14-16-8-2020/
ORGANIZER;CN="Touring Finlandia MK":MAILTO:tapahtumat@tfmk.com
END:VEVENT
BEGIN:VEVENT
DTSTART;TZID=Europe/Helsinki:20200601T180000
DTEND;TZID=Europe/Helsinki:20200601T200000
DTSTAMP:20260425T041653
CREATED:20200515T164054Z
LAST-MODIFIED:20200521T042250Z
UID:10000259-1591034400-1591041600@www.tfmk.com
SUMMARY:Sääntömääräinen kevätkokous Pirtillä
DESCRIPTION:Tervetuloa sääntömääräiseen kevätkokoukseen Pirtille\, Metsäpirtintie 1\, Espoo\, maanantaina kesäkuun 1. päivä. Kokous alkaa klo 18. Kokouksessa käsitellään sääntömääräiset asiat. \nTapahtumassa noudatamme viranomaisten antamia kokoontumis- ja turvaohjeita. \nKahvitarjoilu. Tervetuloa! \nHallitus
URL:https://www.tfmk.com/tapahtuma/kevatkokous-pirtilla/
LOCATION:Pirtti\, Metsäpirtintie 1\, Espoo
ORGANIZER;CN="Touring Finlandia MK":MAILTO:tapahtumat@tfmk.com
END:VEVENT
END:VCALENDAR