BEGIN:VCALENDAR
VERSION:2.0
PRODID:-//TFMK - ECPv6.15.20//NONSGML v1.0//EN
CALSCALE:GREGORIAN
METHOD:PUBLISH
X-ORIGINAL-URL:https://www.tfmk.com
X-WR-CALDESC:Tapahtumat TFMK
REFRESH-INTERVAL;VALUE=DURATION:PT1H
X-Robots-Tag:noindex
X-PUBLISHED-TTL:PT1H
BEGIN:VTIMEZONE
TZID:Europe/Helsinki
BEGIN:DAYLIGHT
TZOFFSETFROM:+0200
TZOFFSETTO:+0300
TZNAME:EEST
DTSTART:20180325T010000
END:DAYLIGHT
BEGIN:STANDARD
TZOFFSETFROM:+0300
TZOFFSETTO:+0200
TZNAME:EET
DTSTART:20181028T010000
END:STANDARD
BEGIN:DAYLIGHT
TZOFFSETFROM:+0200
TZOFFSETTO:+0300
TZNAME:EEST
DTSTART:20190331T010000
END:DAYLIGHT
BEGIN:STANDARD
TZOFFSETFROM:+0300
TZOFFSETTO:+0200
TZNAME:EET
DTSTART:20191027T010000
END:STANDARD
BEGIN:DAYLIGHT
TZOFFSETFROM:+0200
TZOFFSETTO:+0300
TZNAME:EEST
DTSTART:20200329T010000
END:DAYLIGHT
BEGIN:STANDARD
TZOFFSETFROM:+0300
TZOFFSETTO:+0200
TZNAME:EET
DTSTART:20201025T010000
END:STANDARD
BEGIN:DAYLIGHT
TZOFFSETFROM:+0200
TZOFFSETTO:+0300
TZNAME:EEST
DTSTART:20210328T010000
END:DAYLIGHT
BEGIN:STANDARD
TZOFFSETFROM:+0300
TZOFFSETTO:+0200
TZNAME:EET
DTSTART:20211031T010000
END:STANDARD
BEGIN:DAYLIGHT
TZOFFSETFROM:+0200
TZOFFSETTO:+0300
TZNAME:EEST
DTSTART:20220327T010000
END:DAYLIGHT
BEGIN:STANDARD
TZOFFSETFROM:+0300
TZOFFSETTO:+0200
TZNAME:EET
DTSTART:20221030T010000
END:STANDARD
END:VTIMEZONE
BEGIN:VEVENT
DTSTART;TZID=Europe/Helsinki:20211127T160000
DTEND;TZID=Europe/Helsinki:20211128T120000
DTSTAMP:20260425T041630
CREATED:20210915T155118Z
LAST-MODIFIED:20211116T130845Z
UID:10000298-1638028800-1638100800@www.tfmk.com
SUMMARY:Pikkujoulut Tallukassa 27.11.2021
DESCRIPTION:Vuoden 2021 pikkujouluja vietetään Hotelli Tallukassa\, Vääksyssä. \nHotelli Tallukka sijaitsee luonnonkauniilla kannaksella kahden suuren vesistön välissä – Päijänteen kansallispuiston maisemissa.Katso lisää paikasta www.tallukka.fi \nMajoitus yhden tai kahden hengen huoneessa sisältää: – herkullisen jouluisen illallisen noutopöydästä ja tanssilipun sekä runsaan aamiaisen noutopöydästä\, saunan\, kuntosalin ja allasosaston käytön niiden palveluaikoina. \nHinnat: kahden hengen huoneessa 95 €/henkilö (sisältäen pikkujouluillallisen ja tanssilipun yms.)  Yhden hlön huoneesta 30 € lisämaksu.Pikkujouluillallinen ilman majoitusta 45 € (sis. tanssilipun). \nMajoitus-ja illallisvaraukset tehdään kerhon sivuilla ilmoittautumislomakkeella\, kaikki maksut maksetaan Tallukassa! \nHUOM.! Tallukka ottaa käyttöön koronapassin 12.11.2021 alkaen! \nIlmoittaudu tästä\nOhjelmaklo 14.00 Kerhon syyskokous Kahvitarjoiluklo 16.00 Kokouksen jälkeen omatoimista ohjelmaa Tallukan tarjoamissa hyvissä puitteissa.klo 18.45 Pikkujouluillallinen buffet-pöydästäklo 21.00 Tanssit Heikki Koskelo & orkesterin tahdissa\, yhdessäoloa! \nTERVETULOA!
URL:https://www.tfmk.com/tapahtuma/pikkujoulut-tallukassa-27-11-2021/
LOCATION:Tallukka\, Vääksy\, Tallukantie 1\, Vääksy\, 17200\, Suomi
CATEGORIES:Jäsentapahtuma
ATTACH;FMTTYPE=image/jpeg:https://www.tfmk.com/wp-content/uploads/2021/09/Tallukka-maisedma-e1633421565447.jpg
END:VEVENT
BEGIN:VEVENT
DTSTART;TZID=Europe/Helsinki:20211127T140000
DTEND;TZID=Europe/Helsinki:20211127T160000
DTSTAMP:20260425T041630
CREATED:20210915T155109Z
LAST-MODIFIED:20211005T063749Z
UID:10000297-1638021600-1638028800@www.tfmk.com
SUMMARY:TFMK:n Syyskokous Hotelli Tallukassa 27.11.2021
DESCRIPTION:Tervetuloa Touring Finlandia MK ry:n syyskokoukseen lauantaina 27.11.2021 klo 14.00. \nKokouksessa käsitellään sääntömääräiset asiat; toimintasuunnitelma ja talousarvio vuodelle 2022\,\nhallituksen henkilövalinnat erovuoroisten tilalle.\nKokouksessa on äänioikeus jäsenmaksunsa maksaneilla jäsenillä. \nKahvitarjoilu!\nIlmoittaudu kokoukseen kahvitarjoiluiden tilaamiseksi! PAINA TÄSTÄ ILMOITTAUTUMISEEN \nTervetuloa kokoukseen!\nHallitus
URL:https://www.tfmk.com/tapahtuma/tfmkn-syyskokous-hotelli-tallukassa-27-11-2021/
LOCATION:Tallukka\, Vääksy\, Tallukantie 1\, Vääksy\, 17200\, Suomi
CATEGORIES:Jäsentapahtuma
ATTACH;FMTTYPE=image/jpeg:https://www.tfmk.com/wp-content/uploads/2021/09/Tallukka-nettiin-e1631718968263.jpg
END:VEVENT
BEGIN:VEVENT
DTSTART;TZID=Europe/Helsinki:20210627T140000
DTEND;TZID=Europe/Helsinki:20210630T120000
DTSTAMP:20260425T041630
CREATED:20200916T144652Z
LAST-MODIFIED:20210415T051120Z
UID:10000265-1624802400-1625054400@www.tfmk.com
SUMMARY:Touring Meeting Livignossa Italiassa 27. - 30.6.2021 PERUTTU Covid-19
DESCRIPTION:  \nAjokauden 2021 ulkomaan kerhoralli on Livignossa\, Italiassa 27.6. – 30.6.2021! PERUTTU Covid-19\nPeruttu myös vuodelta 2021! Kesän 2020 Livingon kerhoralli jouduttiin Covid19 pandemian takia perumaan\, nyt niin kävi uudestaan! \nKesän 2021 ulkomaan matkailun kohokohta on matka Livignoon\, pohjois-Italiassa\, Lombardian maakunnassa sijaitsevaan upeaan vapaakaupan keskukseen!\nItalian Alpeilla\, lähellä Sveitsin rajaa sijaitsevassa kaupungissa on paljon nähtävä ja koettavaa\, vaikka motoristin ”must” mutkatiet Stelviolle! \nOlemme varanneet riittävästi majoituskapasiteetti ja alueella on runsasti hotelleja jos varatut täyttyvät. Tapaamisen päämajoittaja on Hotel La Montanina\, jossa on illalliset ja iltaohjelmat. Kerhorallipaketin hinta on 72€/hlö/vrk\, sisältäen majoituksen 2- 4 hlön huoneessa\, aamiaiset ja 3 ruokalajin illalliset jälkiruokineen. \n \nAlueella on paljon  mahdollisuuksia retkille ja ajelu mahtavilla mutkateillä on aina mahdollista! \nMyös XVIII Alppikierroksen reittejä on saatavissa naviin lähempänä tapahtumaa. \nLivigno on shoppaajan ostosparatiisi ja vapaakauppa-alueella ei verovapaat hinnatkaan hirvitä. \nSiis kesän 2021 motomatkan suunnaksi Italia! \nIlmoittaudu tästä  ja varaa majoituksesi! \nHUOM. KIRJAUDU SIVUILLEMME ENNEN ILMOITTAUTUMISTASI! \nJa muista ilmoittaa myös kanssasi matkustavat ja samaan huoneistoon majoittuvat. Osallistuvilla tulee olla kerhon jäsenyys! \n  \n 
URL:https://www.tfmk.com/tapahtuma/ulkomaan-kerhoralli-livignossa-italiassa-2021/
LOCATION:Hotel Montanina\, Livingo\, ITALY\, Via Pienz 58\, Livingo\, Livigno SO\, Italia\, 23030\, Italia
ATTACH;FMTTYPE=image/jpeg:https://www.tfmk.com/wp-content/uploads/2019/08/Pieni-Montanina1.jpg
END:VEVENT
BEGIN:VEVENT
DTSTART;TZID=Europe/Helsinki:20210515T120000
DTEND;TZID=Europe/Helsinki:20210516T120000
DTSTAMP:20260425T041630
CREATED:20201211T150052Z
LAST-MODIFIED:20210325T142746Z
UID:10000274-1621080000-1621166400@www.tfmk.com
SUMMARY:Ajokauden avajaiset 15. - 16.5.2021 PERUTTU COVID-19
DESCRIPTION:Ajokauden avajaisia vietetään toukokuun puolivälissä Ellivuoressa Sastamalassa. \nOhjelma: \nLauantai 15.5.: \nklo 12.00  Tervetulokahvit kuuluisassa Marskin Kiskokabinetissa\, Pirkanmaantie 1057\, Sastamala \nklo 14.00  ”Paraatiajo” Sastamalan kaunpungin läpi maisemateitä hotelli Ellivuoreen. Matkaa n. 40 km. \nklo 15.00   Majoittuminen Ellivuoreen \nklo 17.00  Saunat \nklo 19.00  Alkumalja ja illallisbuffee \nklo 21.00  Tanssit alkavat livebändin tahdissa\, iskelmää ja rokkia! \n  \nSunnuntai 16.5.: \nklo 8.00-10.00 Aamiainen \nklo 12.00  Huoneiden luovutus \nMajoitus:   2hh 100 eur\, sis. aamiaisbuffee\, 1 hh 85 eur\, sis. aamiaisbuffee \nSauna:  5\,00 eur/hlö\, jokainen saunoja ostaa itse poletin \nOsallistumismaksu: \n38 eur/hlö\, sis. edellä mainitun ohjelman\, tervetulokahvit pikkusuolaisineen\, alkumalja ja illallisbuffee. Laskutetaan etukäteen. \nLisätietoja: \nJokainen varaa ja maksaa majoituksen itse. Varaukset puh. 03 51 992/Susanna Rajakoski tai sales@ellivuori.fi. Majoitusta varattaessa koodi on Touring. \n  \nVoit tiedustella muita majoitusvaihtoehtoja esim. mökkejä www.ellivuoriresort.fi \nIlmoittautumiset 8.5.2021 mennessä kerhon sivujen kautta tästä linkistä \nTervetulo mukaan!! \n 
URL:https://www.tfmk.com/tapahtuma/ajokauden-avajaiset-2021/
LOCATION:Ellivuori\, Ellivuorentie131\, Sastamala\, 38130\, Suomi
ATTACH;FMTTYPE=image/jpeg:https://www.tfmk.com/wp-content/uploads/2021/02/Ajokauden-avajaiset-e1614954785875.jpg
END:VEVENT
BEGIN:VEVENT
DTSTART;TZID=Europe/Helsinki:20201107T190000
DTEND;TZID=Europe/Helsinki:20201108T120000
DTSTAMP:20260425T041630
CREATED:20200914T142443Z
LAST-MODIFIED:20210315T144419Z
UID:10000263-1604775600-1604836800@www.tfmk.com
SUMMARY:Pikkujoulut kokoushotelli Rikalassa Salossa 7.11.
DESCRIPTION:Touring Finlandian perinteiset pikkujoulut järjestään tänä vuonna 7.11. Salossa Original Sokos Hotel Rikalassa (Asemakatu 15). Saloon pääsee näppärästi sekä junalla että omalla autolla/prätkällä ja parkkipaikkoja löytyy. \n \nPERUTTU\nEnnen pikkujouluja järjestetään syyskokous alkaen klo 14.00. \nSyyskokouksen jälkeen on tarjolla naisten ja miesten saunat. \nIllallinen alkaa klo 19.00. \nMENU \nVihersalaatti ja sitruunainen vinaigrette\nPähkinäinen leipäjuustosalaatti L\,G\nAura-päärynäsalaatti L\,G\nMustikkagraavattua lohta L\,G\nSavulohimousse ja valkosipulivoissa paahdettua saaristolaisleipää L\nKeitetyt perunat L\,G\n**\nPerunagratiinia L\,G\nPorsaan sisäfilee noisetit ja konjakkipippurikastike L\,G\nUunijuurekset L\,G\n**\nSuklaakakkua ja kanelikermaa sekä glögisiirappia \nMajoitus yhden tai kahden hengen huoneita valinnan mukaan. Majoitus sisältää buffetaamiaisen. \nHINNAT: \n\nMajoitus 1 hh ja illallinen 120 euroa / hlö\nMajoitus 2 hh ja illallinen 90 euroa / hlö\nsaunallinen huone tai parvekkeellinen huone (muutama kappale) 100 euroa /hlö\npelkkä illallinen 40 euroa / hlö\n\nMajoitukset ja illallinen varataan ilmoittautumislomakkeella ja kerho laskuttaa kaiken ennakkoon. \nIlmoittaudu tästä \nNähdään Rikalassa!
URL:https://www.tfmk.com/tapahtuma/pikkujoulut-kokoushotelli-rikalassa-salossa-7-11/
LOCATION:Original Sokos Hotel Rikala\, Asemakatu 15\, Salo\, Suomi
END:VEVENT
BEGIN:VEVENT
DTSTART;TZID=Europe/Helsinki:20191123T150000
DTEND;TZID=Europe/Helsinki:20191124T120000
DTSTAMP:20260425T041630
CREATED:20190828T080422Z
LAST-MODIFIED:20190828T080422Z
UID:10000255-1574521200-1574596800@www.tfmk.com
SUMMARY:Pikkujoulut Sannäsin kartanossa Porvoossa!
DESCRIPTION:TFMK:n Pikkujoulut ja syyskokous Sannäsin kartanossa Porvoossa 23.11.2019 \nVuoden 2019 pikkujouluja vietetään upeassa ympäristössä Sannäsin kartanossa Porvoon lähellä.\nMatkaa pikkujoulupaikkaan tulee Helsingistä reilu 60 km. Katso lisää paikasta www.sannaskartano.fi \nSannäsin Kartanon Joulubuffet\nSokerisuolattua lohta\, hovimestarinkastiketta\nSmetanasilliä Tilli- ja katajanmarjasilakoita\nKartanon perinteistä sienisalaattia\nRosollia ja rosollikastiketta\nSavustettua kalkkunanrintaa\, mustaherukkahilloketta\nViljaporsaan kinkkua\, talonsinappia\nTilliperunat Kartanon mallasleipää ja joululimppua\nLanttu-\, peruna- ja porkkanalaatikkoa\nJälkiruoat Piparkakkujäädykettä\, joulutorttuja\, pipareita\, marmeladia\nKahvi/tee\nHinta 29 €/hlö \nMajoitus\nMajoitus yhden tai kahden hengen huoneessa sisältää kartanon aamiaisbuffetin\, aamusaunan\, -uinnin ja kuntosalin käytön.\nHinnat: yhden hengen huoneessa 100 €/henkilö\, kahden hengen huoneessa 60 €/henkilö\nMajoitus-ja illallisvaraukset tehdään kerhon sivuilla ilmoittautumislomakkeella ja kerho laskuttaa ennakkoon kaikki maksut! \nOhjelma\nklo 15.00 Kerhon syyskokous Kahvitarjoilu\nn. klo 16.30 Kokouksen jälkeen omatoimista ohjelmaa kartanon tarjoamissa hyvissä puitteissa.\nKatso lisää kartanon nettisivuilta www.sannaskartano.fi\nklo 19.00 Pikkujouluillallinen buffet-pöydästä\nn. klo 20.30 Rengit-yhtye pistää bileet pystyyn! Rengit on taas täällä! \nIlmoittaudu tästä ja vahvista osallistumisesi.
URL:https://www.tfmk.com/tapahtuma/pikkujoulut-sannasin-kartanossa-porvoossa/
LOCATION:sannäs\, Sannaistentie 540\,\, Porvoo\, Sannainen\, 07310\, Suomi
END:VEVENT
BEGIN:VEVENT
DTSTART;TZID=Europe/Helsinki:20191123T150000
DTEND;TZID=Europe/Helsinki:20191123T170000
DTSTAMP:20260425T041630
CREATED:20190826T154846Z
LAST-MODIFIED:20190826T154846Z
UID:10000254-1574521200-1574528400@www.tfmk.com
SUMMARY:TFMK Syyskokous
DESCRIPTION:Tervetuloa syyskokoukseen! \nTämä on virallinen kutsu kaikille Touring Finlandia Moottorikerho ry:n jäsenille. Syyskokous pidetään lauantaina 23. marraskuuta 2019 alkaen klo 15.00\, Sannäsin kartanossa\, Sannaistentie 540\, 07310 Porvoo. \nKokouksessa käsitellään sääntömääräiset asiat:\n• henkilövalinnat: hallituksen jäsenet erovuoroisten tilalle kaudelle 2020–21.\n• toimintasuunnitelma ja talousarvio 2020 \nKokouksessa on osallistumis- ja äänioikeus jäsenmaksunsa maksaneilla jäsenillä. Ennakkoilmoittautuminen kahvitarjoilun mitoittamiseksi ;\nensisijaisesti kerhon sivujen kautta tai osoitteella sari.laurell@tfmk.com\nKahvitarjoilu! \nTERVETULOA! \nEspoossa 21.8.2019\nTouring Finlandia Moottorikerho ry Hallitus
URL:https://www.tfmk.com/tapahtuma/tfmk-syyskokous/
LOCATION:sannäs\, Sannaistentie 540\,\, Porvoo\, Sannainen\, 07310\, Suomi
END:VEVENT
END:VCALENDAR