BEGIN:VCALENDAR
VERSION:2.0
PRODID:-//TFMK - ECPv6.15.20//NONSGML v1.0//EN
CALSCALE:GREGORIAN
METHOD:PUBLISH
X-WR-CALNAME:TFMK
X-ORIGINAL-URL:https://www.tfmk.com
X-WR-CALDESC:Tapahtumat TFMK
REFRESH-INTERVAL;VALUE=DURATION:PT1H
X-Robots-Tag:noindex
X-PUBLISHED-TTL:PT1H
BEGIN:VTIMEZONE
TZID:Europe/Helsinki
BEGIN:DAYLIGHT
TZOFFSETFROM:+0200
TZOFFSETTO:+0300
TZNAME:EEST
DTSTART:20180325T010000
END:DAYLIGHT
BEGIN:STANDARD
TZOFFSETFROM:+0300
TZOFFSETTO:+0200
TZNAME:EET
DTSTART:20181028T010000
END:STANDARD
BEGIN:DAYLIGHT
TZOFFSETFROM:+0200
TZOFFSETTO:+0300
TZNAME:EEST
DTSTART:20190331T010000
END:DAYLIGHT
BEGIN:STANDARD
TZOFFSETFROM:+0300
TZOFFSETTO:+0200
TZNAME:EET
DTSTART:20191027T010000
END:STANDARD
BEGIN:DAYLIGHT
TZOFFSETFROM:+0200
TZOFFSETTO:+0300
TZNAME:EEST
DTSTART:20200329T010000
END:DAYLIGHT
BEGIN:STANDARD
TZOFFSETFROM:+0300
TZOFFSETTO:+0200
TZNAME:EET
DTSTART:20201025T010000
END:STANDARD
END:VTIMEZONE
BEGIN:VEVENT
DTSTART;TZID=Europe/Helsinki:20190202T180000
DTEND;TZID=Europe/Helsinki:20190203T020000
DTSTAMP:20260425T232825
CREATED:20181230T085451Z
LAST-MODIFIED:20190128T213340Z
UID:10000241-1549130400-1549159200@www.tfmk.com
SUMMARY:TFMK:n MP messubileet Ravintola Nosturissa 2.2.2019 klo 18 alkaen
DESCRIPTION:  \n  \n  \n  \n  \n  \nIllan musiikista vastaa:\nFactory Boyz\, Lara Mars ja No Class.\nIllan menu on seuraava;\nSalaatti:\nCouscous 3 colour graanattiomena\, Punajuuri seesami vinegrette \, Tomaatti pesto Provencal\, Tahini porkkana sweet harissa\, Anis peruna balsamico\, Vihreä ceasar\, Kaali kikherne selleri green harissa\, Timjamilla maridoidut oliivit\nDipit: Hummus\, Tzatziki\, Tomaattipesto\nLämmin Ruoka:\nSitruunakana tagine (Ma\,G)\, Basmati riisi\, Bataatti paistos (Vegan)\nKahvi/minttutee Baklawa\nHinta 25€\, laskutetaan etukäteen. ILMOITTAUDU TÄSTÄ \nJos et halua ruokailla\, mutta tulisit mielelläsi tapaamaan muita tourinkilaisia\, pääset sisään ilmaiseksi klo 20 jälkeen. \nTervetuloa tapaamaan tuttuja tai tulemaan tutuksi!\n\n 
URL:https://www.tfmk.com/tapahtuma/tfmkn-mp-messubileet-ravintola-nosturissa-2-2-2019-klo-18-alkaen/
LOCATION:Nosturi\, Telakkakatu 8\, Helsinki\, 00150\, Suomi
ORGANIZER;CN="TFMK%3An MP-messubileet":MAILTO:mpmessubileet@tfmk.com
END:VEVENT
END:VCALENDAR